BEGIN:VCALENDAR
VERSION:2.0
PRODID:-//Beer.be - ECPv6.15.20//NONSGML v1.0//EN
CALSCALE:GREGORIAN
METHOD:PUBLISH
X-WR-CALNAME:Beer.be
X-ORIGINAL-URL:https://beer.be
X-WR-CALDESC:Évènements pour Beer.be
REFRESH-INTERVAL;VALUE=DURATION:PT1H
X-Robots-Tag:noindex
X-PUBLISHED-TTL:PT1H
BEGIN:VTIMEZONE
TZID:Europe/Brussels
BEGIN:DAYLIGHT
TZOFFSETFROM:+0100
TZOFFSETTO:+0200
TZNAME:CEST
DTSTART:20190331T010000
END:DAYLIGHT
BEGIN:STANDARD
TZOFFSETFROM:+0200
TZOFFSETTO:+0100
TZNAME:CET
DTSTART:20191027T010000
END:STANDARD
BEGIN:DAYLIGHT
TZOFFSETFROM:+0100
TZOFFSETTO:+0200
TZNAME:CEST
DTSTART:20200329T010000
END:DAYLIGHT
BEGIN:STANDARD
TZOFFSETFROM:+0200
TZOFFSETTO:+0100
TZNAME:CET
DTSTART:20201025T010000
END:STANDARD
BEGIN:DAYLIGHT
TZOFFSETFROM:+0100
TZOFFSETTO:+0200
TZNAME:CEST
DTSTART:20210328T010000
END:DAYLIGHT
BEGIN:STANDARD
TZOFFSETFROM:+0200
TZOFFSETTO:+0100
TZNAME:CET
DTSTART:20211031T010000
END:STANDARD
END:VTIMEZONE
BEGIN:VEVENT
DTSTART;VALUE=DATE:20200814
DTEND;VALUE=DATE:20200815
DTSTAMP:20260422T014254
CREATED:20200728T163251Z
LAST-MODIFIED:20200728T163251Z
UID:15486-1597363200-1597449599@beer.be
SUMMARY:Polish Beer Weekend with Funky Fluids
DESCRIPTION:This weekend we'll focus on an upcoming Polish brewery: Funky Fluids !!! 🍺🇵🇱🍺🇵🇱🍺🇵🇱 \nHere's the program : \nOn tap: \n- Funky Garden vol 2 6\,2% Hazy IPA\, collab with Maltgarden. \n- Pink Boots 6\,2% Hazy IPA double dry hopped with Pink Boots - blend of hops created by Yakima Chief Hops and Pink Boots Society - society of women in craft beer industry. \n- Let's Get Hazy n°2 7% New England Double IPA double dry hopped with Sabro\, Galaxy\, Idaho 7 and Mosaic. Collab with Browar Nepomucen. \n- Dark Matter 13% Imperial Stout brewed with cocoa nibs\, toasted coconut\, vanilla\, milk sugar & maple syrup. \n- Gelato : Blueberry & Blackberry 5\,8% Italian ice cream inspired pastry sour ale packed with tons of fruits - blueberries & blackberries. \n- Gelato : Strawberry & Rhubarb 5\,8% Italian ice cream inspired pastry sour ale packed with tons of fruits - strawberry & rhubarb. \nCan and bottle list: \n- The Next Episode 6\,4% West Coast IPA inspired by our favorite beers from California. Heavy hopped with Citra\, Simcoe\, Mosaic\, Azacca and Tomahawk. \n- Funky Garden vol 2 6\,5% Hazy IPA\, collab with Maltgarden. \n- Funky Garden vol 3 6\,5% Hazy IPA w. lemon & lime\, collab with Maltgarden. \n- Funky Garden vol 4 11\,3% Ultra Coconut Imperial Stout with Maple Syrup. \n- Funky Garden vol 5 11\,3% Imperial Stout with Coffee & Maple Syrup. \n- Breakfast Stout : Peanut Butter & Guatemala Huehuetanango Coffee 6\,8% Smooth\, thick sweet stout brewed with peanut butter and speciality coffee from Guatemala\, roasted by\nPolish roastery HAYB\, choosed and prepared by our friends \n- Mango & Peach Party 4\,2% Double Fruited Weizen brewed with mango & peach. \n- Crazy 6\,2% Hazy IPA na chmielach Azzaca\, Citra\, Mosaic\, Huel Melon\, Enigma.
URL:https://beer.be/agenda/polish-beer-weekend-with-funky-fluids/
LOCATION:Beergium Bar\, 1227 Chaussée de Waterloo\, Bruxelles\, 1180\, Belgique
CATEGORIES:Tap Takeover
ATTACH;FMTTYPE=image/jpeg:https://beer.be/wp-content/uploads/2020/07/110934881_2727645640805876_6511602618118550516_o.jpg
END:VEVENT
BEGIN:VEVENT
DTSTART;VALUE=DATE:20200827
DTEND;VALUE=DATE:20200828
DTSTAMP:20260422T014254
CREATED:20200820T163736Z
LAST-MODIFIED:20200820T163736Z
UID:15603-1598486400-1598572799@beer.be
SUMMARY:La Source Tap Take Over/Meet the Brewer
DESCRIPTION:La Source is an artisanal & creative microbrewery active since October 2019. IPAs\, sour & wild beers\, seasonals\, barrel aged or classic styles revisited make the variety of their production. It will be their first visit to Antwerp! Come and enjoy their phenomenal craft beers!
URL:https://beer.be/agenda/la-source-tap-take-over-meet-the-brewer/
LOCATION:Billie's craft beer kafétaria\, Kammenstraat 12\, Antwerp\, 2000\, Belgium
CATEGORIES:Tap Takeover
ATTACH;FMTTYPE=image/jpeg:https://beer.be/wp-content/uploads/2020/08/117717154_1386672638208540_2699757815587065347_o.jpg
END:VEVENT
BEGIN:VEVENT
DTSTART;VALUE=DATE:20200827
DTEND;VALUE=DATE:20200830
DTSTAMP:20260422T014254
CREATED:20200820T164322Z
LAST-MODIFIED:20200820T164322Z
UID:15609-1598486400-1598745599@beer.be
SUMMARY:Craft tour of Belgium on tap - Belgium Beer Week
DESCRIPTION:Come on over to discover what Belgium has to offer with your taste buds during Belgium Beer Week! 6 special beers on tap\, alongside some of our freshest new brews\, perfect for a staycation with your bubble of friends 😉 See you next week!
URL:https://beer.be/agenda/craft-tour-of-belgium-on-tap-belgium-beer-week/
LOCATION:Brussels Beer Project Dansaert\, 188 rue Antoine Dansaert\, Bruxelles\, 1000\, Belgique
CATEGORIES:Tap Takeover
ATTACH;FMTTYPE=image/jpeg:https://beer.be/wp-content/uploads/2020/08/117948030_966035227171423_9003961843642820451_o.jpg
END:VEVENT
BEGIN:VEVENT
DTSTART;VALUE=DATE:20200828
DTEND;VALUE=DATE:20200829
DTSTAMP:20260422T014254
CREATED:20200820T104403Z
LAST-MODIFIED:20200820T104403Z
UID:15583-1598572800-1598659199@beer.be
SUMMARY:Belgium Beer Week : Cambier TTO
DESCRIPTION:Cambier is a French Brewery based in Croix. They've been mastering everystyle of beers\, from the most traditional to the newest ones. We've been working with them since the opening of the bar and it is with a great honor that we welcome them this evening.
URL:https://beer.be/agenda/belgium-beer-week-cambier-tto/
CATEGORIES:Gist,Tap Takeover
ATTACH;FMTTYPE=image/jpeg:https://beer.be/wp-content/uploads/2020/08/118116851_978279642612939_1141949647097621880_n.jpg
END:VEVENT
BEGIN:VEVENT
DTSTART;VALUE=DATE:20200828
DTEND;VALUE=DATE:20200829
DTSTAMP:20260422T014254
CREATED:20200820T172713Z
LAST-MODIFIED:20200820T172713Z
UID:15665-1598572800-1598659199@beer.be
SUMMARY:British Invasion – 10 UK Beers on Draft
DESCRIPTION:Beerlovers Bar will present 10 UK beers on draft\, from the best breweries the UK has to offer. Expect beers from Siren\, Northern Monk\, Vocation\, Magic Rock\, and others….
URL:https://beer.be/agenda/british-invasion-10-uk-beers-on-draft/
LOCATION:Beerlovers Bar\, Rotterdamstraat 105\, Anvers\, 2060\, Belgique
CATEGORIES:Tap Takeover
ATTACH;FMTTYPE=image/jpeg:https://beer.be/wp-content/uploads/2020/08/British-Invasion-10-UK-Beers-on-Draft.jpg
END:VEVENT
END:VCALENDAR