BEGIN:VCALENDAR
VERSION:2.0
PRODID:-//Beer.be - ECPv6.15.20//NONSGML v1.0//EN
CALSCALE:GREGORIAN
METHOD:PUBLISH
X-WR-CALNAME:Beer.be
X-ORIGINAL-URL:https://beer.be
X-WR-CALDESC:Évènements pour Beer.be
REFRESH-INTERVAL;VALUE=DURATION:PT1H
X-Robots-Tag:noindex
X-PUBLISHED-TTL:PT1H
BEGIN:VTIMEZONE
TZID:Europe/Brussels
BEGIN:DAYLIGHT
TZOFFSETFROM:+0100
TZOFFSETTO:+0200
TZNAME:CEST
DTSTART:20190331T010000
END:DAYLIGHT
BEGIN:STANDARD
TZOFFSETFROM:+0200
TZOFFSETTO:+0100
TZNAME:CET
DTSTART:20191027T010000
END:STANDARD
BEGIN:DAYLIGHT
TZOFFSETFROM:+0100
TZOFFSETTO:+0200
TZNAME:CEST
DTSTART:20200329T010000
END:DAYLIGHT
BEGIN:STANDARD
TZOFFSETFROM:+0200
TZOFFSETTO:+0100
TZNAME:CET
DTSTART:20201025T010000
END:STANDARD
BEGIN:DAYLIGHT
TZOFFSETFROM:+0100
TZOFFSETTO:+0200
TZNAME:CEST
DTSTART:20210328T010000
END:DAYLIGHT
BEGIN:STANDARD
TZOFFSETFROM:+0200
TZOFFSETTO:+0100
TZNAME:CET
DTSTART:20211031T010000
END:STANDARD
END:VTIMEZONE
BEGIN:VEVENT
DTSTART;VALUE=DATE:20201002
DTEND;VALUE=DATE:20201003
DTSTAMP:20260421T223729
CREATED:20200923T054522Z
LAST-MODIFIED:20200923T054522Z
UID:15846-1601596800-1601683199@beer.be
SUMMARY:Tap Take Over Le Détour + Release ‘’Feu & Sang’’ collab
DESCRIPTION:Venez découvrir notre collab avec les amis de la @brasserieledetour! Feu & Sang\, un gruit de 9% brassé avec des mûres et l'armoise fraîche\, que nous avons été récolter ensemble le matin même \nDispo en exclu au brewpub et sur notre e-shop! Pour fêter cette sortie\, on 5 de leurs bières en tap take over:\n- Mango Pale Ale (5\,5%)\n- Session IPA (4%)\n- Passion Fruit Berliner Weiss (3\,5%)\n- Smoked Brett Porter (7\,5%)\n- Farmhouse Ale (6%)
URL:https://beer.be/agenda/tap-take-over-le-detour-release-feu-sang-collab/
LOCATION:La Source Beer Co.\, 4 rue Dieudonné Lefèvre\, Bruxelles\, 1020\, Belgique
CATEGORIES:Tap Takeover
ATTACH;FMTTYPE=image/jpeg:https://beer.be/wp-content/uploads/2020/09/119992882_735381337020237_9202723363289727875_o.jpg
END:VEVENT
END:VCALENDAR