BEGIN:VCALENDAR
VERSION:2.0
PRODID:-//Beer.be - ECPv6.15.20//NONSGML v1.0//EN
CALSCALE:GREGORIAN
METHOD:PUBLISH
X-WR-CALNAME:Beer.be
X-ORIGINAL-URL:https://beer.be
X-WR-CALDESC:Évènements pour Beer.be
REFRESH-INTERVAL;VALUE=DURATION:PT1H
X-Robots-Tag:noindex
X-PUBLISHED-TTL:PT1H
BEGIN:VTIMEZONE
TZID:Europe/Brussels
BEGIN:DAYLIGHT
TZOFFSETFROM:+0100
TZOFFSETTO:+0200
TZNAME:CEST
DTSTART:20200329T010000
END:DAYLIGHT
BEGIN:STANDARD
TZOFFSETFROM:+0200
TZOFFSETTO:+0100
TZNAME:CET
DTSTART:20201025T010000
END:STANDARD
BEGIN:DAYLIGHT
TZOFFSETFROM:+0100
TZOFFSETTO:+0200
TZNAME:CEST
DTSTART:20210328T010000
END:DAYLIGHT
BEGIN:STANDARD
TZOFFSETFROM:+0200
TZOFFSETTO:+0100
TZNAME:CET
DTSTART:20211031T010000
END:STANDARD
BEGIN:DAYLIGHT
TZOFFSETFROM:+0100
TZOFFSETTO:+0200
TZNAME:CEST
DTSTART:20220327T010000
END:DAYLIGHT
BEGIN:STANDARD
TZOFFSETFROM:+0200
TZOFFSETTO:+0100
TZNAME:CET
DTSTART:20221030T010000
END:STANDARD
END:VTIMEZONE
BEGIN:VEVENT
DTSTART;VALUE=DATE:20210508
DTEND;VALUE=DATE:20210509
DTSTAMP:20260421T073939
CREATED:20210430T065037Z
LAST-MODIFIED:20210430T065037Z
UID:16605-1620432000-1620518399@beer.be
SUMMARY:Garage Beer & Cantillon Tap Takeover
DESCRIPTION:New style vs Old school\nHoppy rebels vs Lambic tradition\nFor our first outdoor terrace event\, we are hosting Garage Beer (Barcelona) and Cantillon (BXL) for a tap takeover event!\nOn the menu?\nGarage Beer\n++ 2 fresh DIPAs from the Contrast Series: Cut\, juicy hazy DIPA and Dried\, West Coast DIPA\n++ Together with more new can releases: Chasing Cottontail\, Loose Virtues\, RV-3004\nCantillon\n++ Who does not want to drink some beautiful Rose de Gambrinus from draft?\n++ We are also finishing our Fou Foune keg from the 2020 event\n++ There will be a nice selection of bottles for on-site enjoyment. TBD \nFood: Gourmet dried sausages\, mixed nuts\, chips and more!\nPS: crowlers and growlers for take away will be available in the days before the event.
URL:https://beer.be/agenda/garage-beer-cantillon-tap-takeover/
CATEGORIES:Tap Takeover
ATTACH;FMTTYPE=image/jpeg:https://beer.be/wp-content/uploads/2021/04/179121811_300429651677368_4537630236919463073_n.jpg
END:VEVENT
BEGIN:VEVENT
DTSTART;VALUE=DATE:20210515
DTEND;VALUE=DATE:20210516
DTSTAMP:20260421T073939
CREATED:20210511T074922Z
LAST-MODIFIED:20210511T074922Z
UID:16651-1621036800-1621123199@beer.be
SUMMARY:East Side tap take over and pairing #1/21
DESCRIPTION:4 bières + 1 au fût\, de la brasserie italienne East Side.\nUn menu dédiée et Supplì toute la journée !
URL:https://beer.be/agenda/east-side-tap-take-over-and-pairing-1-21/
LOCATION:La Tana\, 10 rue de l'Enseignement\, Bruxelles\, 1000\, Belgique
CATEGORIES:Tap Takeover
ATTACH;FMTTYPE=image/jpeg:https://beer.be/wp-content/uploads/2021/05/183961527_1668401483353429_2172887584455006245_n.jpg
END:VEVENT
END:VCALENDAR