BEGIN:VCALENDAR
VERSION:2.0
PRODID:-//Beer.be - ECPv6.15.20//NONSGML v1.0//EN
CALSCALE:GREGORIAN
METHOD:PUBLISH
X-ORIGINAL-URL:https://beer.be
X-WR-CALDESC:Évènements pour Beer.be
REFRESH-INTERVAL;VALUE=DURATION:PT1H
X-Robots-Tag:noindex
X-PUBLISHED-TTL:PT1H
BEGIN:VTIMEZONE
TZID:Europe/Brussels
BEGIN:DAYLIGHT
TZOFFSETFROM:+0100
TZOFFSETTO:+0200
TZNAME:CEST
DTSTART:20200329T010000
END:DAYLIGHT
BEGIN:STANDARD
TZOFFSETFROM:+0200
TZOFFSETTO:+0100
TZNAME:CET
DTSTART:20201025T010000
END:STANDARD
BEGIN:DAYLIGHT
TZOFFSETFROM:+0100
TZOFFSETTO:+0200
TZNAME:CEST
DTSTART:20210328T010000
END:DAYLIGHT
BEGIN:STANDARD
TZOFFSETFROM:+0200
TZOFFSETTO:+0100
TZNAME:CET
DTSTART:20211031T010000
END:STANDARD
BEGIN:DAYLIGHT
TZOFFSETFROM:+0100
TZOFFSETTO:+0200
TZNAME:CEST
DTSTART:20220327T010000
END:DAYLIGHT
BEGIN:STANDARD
TZOFFSETFROM:+0200
TZOFFSETTO:+0100
TZNAME:CET
DTSTART:20221030T010000
END:STANDARD
END:VTIMEZONE
BEGIN:VEVENT
DTSTART;VALUE=DATE:20210702
DTEND;VALUE=DATE:20210705
DTSTAMP:20260421T042735
CREATED:20210625T044946Z
LAST-MODIFIED:20210625T044946Z
UID:16890-1625184000-1625443199@beer.be
SUMMARY:Verdant Brewing Tap Takeover
DESCRIPTION:Let's celebrate summer with some incredibly hoppy delight!!! \nNo need to introduce Verdant\, the wizards from Cornwall...!\nWe'll tap for the occasion 7 of their beers \n 20 Watt Moon (6\,5%) A Strata-packed IPA backed up with a hefty dose of Citra! Dank pine needles on the nose\, alongside clean grapefruit and tropical fruit flavours.\n Horizon Balance (6\,5%) IPA with Simcoe\, Loral & Chinook\n Headband (5\,5%) Pale Ale Citra\, Colombus\, Mosaic\, Chinook\n Dipper's delight (8%) Atop one of our base DIPA malt bills we have lavished this creamy decadent DIPA with a truly panoramic vista of fruit and pine hop flavours\, all courtesy of the superstar hop grouping of Idaho 7\, Mosaic and Simcoe. Orange\, mango\, pineapple and grapefruit pop their heads above the piney parapet to say hello\n Random Rules (6\,5%) A juicy and tropical IPA hopped with copious amounts of Nelson Sauvin alongside Citra & Vic Secret. Gooseberry\, grape and unexplainable Kiwi hop magic\n Enjoy The Uncertainty (7\,2%) An IPA masquerading as a DIPA. Fully bodied\, creamy and packed full of hop flavours. Imagine grapes\, oranges\, mangos and pine needles pressed together in a lightly soiled gym sock. 70% fruit\, 20% pine\, 10% sweat = 100% correct\n Solid State (6\,5%) A creamy\, massively tropical\, and punchy collaboration with Yakima Chief Hops! A festival of Cryo and T90 hops whacked into a 6.5% IPA. A first for us\, and a really exciting opportunity to team up with one the world's finest purveyors of all things dank\, green & delicious\nJaw dropping right \nAlso\, Euro will be on!!!\nAnd other surprises might pop 
URL:https://beer.be/agenda/verdant-brewing-tap-takeover/
LOCATION:Beergium Bar\, 1227 Chaussée de Waterloo\, Bruxelles\, 1180\, Belgique
CATEGORIES:Tap Takeover
ATTACH;FMTTYPE=image/jpeg:https://beer.be/wp-content/uploads/2021/06/206968062_2996281363942301_3769656685799286905_n.jpg
END:VEVENT
BEGIN:VEVENT
DTSTART;VALUE=DATE:20210704
DTEND;VALUE=DATE:20210705
DTSTAMP:20260421T042735
CREATED:20210526T140321Z
LAST-MODIFIED:20210526T140321Z
UID:16708-1625356800-1625443199@beer.be
SUMMARY:Dok Brewing Festival: THE BELGIANS TAKE OVER
DESCRIPTION:er viering van ons 3-jarig bestaan organiseren we dit jaar terug Dok Brewing Festival. Omwille van de coronamaatregelen doen we deze keer een iets ingetogenere versie en komen er 15 ipv 30 brouwerijen. Onze Belgische brouwerscene wordt deze editie in de spotlight gezet met een nationale tap takeover\, waarbij iedere brouwerij 2 verschillende bieren / wijnen / ciders meebrengt voor een groot Belgisch brouwersfeest.
URL:https://beer.be/agenda/dok-brewing-festival-the-belgians-take-over/
LOCATION:DOK Brewing Company\, 4B Dok Noord\, Gent\, 9000\, Belgique
CATEGORIES:Tap Takeover
ATTACH;FMTTYPE=image/jpeg:https://beer.be/wp-content/uploads/2021/05/190071903_931310477660738_7723708832305576029_n.jpg
END:VEVENT
BEGIN:VEVENT
DTSTART;VALUE=DATE:20210714
DTEND;VALUE=DATE:20210715
DTSTAMP:20260421T042735
CREATED:20210705T050250Z
LAST-MODIFIED:20210705T050250Z
UID:16935-1626220800-1626307199@beer.be
SUMMARY:BBP Bailli // Cloudwater TTO
DESCRIPTION:Our First Tap Takeover of 2021\, the first one at the new BBP Taproom in Bailli AND what a name! The Mancunians of Cloudwater send over 15 great kegs for you to enjoy in our new hotspot!\n\nHere's the spectacular list:\n- Side By Side (Highland Park collab) - 8% DIPA\n- Elevationism - 10% TIPA\n- Blossoms In Fog Lane Park - 6% IPA\n- How Wonderful! - 3.7% Pale Ale\n- Temporary Fortune - 6% DDH IPA\n- A Barn In Edale Valley - 5% DDH IPA\n- We\, You\, And Us - 5% DDH Pale\n- Sail Smooth\, Friends - 6% NZ DDH IPA\n- Early Summer In Dyddi's Burg - 5% DDH Pale\n- The Light Grey One - 8% DIPA\n- Reign Or Shine - 6.2% Tropical Stout\n- The Details Of Morality - 4.9% B.A. Sour\n- El Dorado Foudre Beer - 9.2% Foudre DIPA\n- Searching For Meaning - 7.4% Cherry Wild Ale\n- Almost Here - 6.4% B.A. Sour w/ cherry\, peach & lavender
URL:https://beer.be/agenda/bbp-bailli-cloudwater-tto/
LOCATION:BBP Bailli\, 1 rue du Bailly\, Bruxelles\, 1000\, Belgique
CATEGORIES:Tap Takeover
ATTACH;FMTTYPE=image/jpeg:https://beer.be/wp-content/uploads/2021/07/211244928_132181712359612_3617665268519289413_n-scaled.jpg
END:VEVENT
BEGIN:VEVENT
DTSTART;VALUE=DATE:20210715
DTEND;VALUE=DATE:20210716
DTSTAMP:20260421T042735
CREATED:20210705T045133Z
LAST-MODIFIED:20210705T045133Z
UID:16929-1626307200-1626393599@beer.be
SUMMARY:BBP Dansaert // Wildflower TTO
DESCRIPTION:BBP Dansaert gets the exclusive opportunity to showcase the wild ales from Wildflower Brewing & Blending. These Aussie friends shipped over 8 world class kegs of wild beer\, seldom to find in Europe! And we'll also have bottles for take-away.\n\nLine-up below:\n- Good As Gold (Blend #8) - 5% Australian Wild Ale\n- Kernel Stone 2020 - 5% Australian Wild Ale with plumcots\n- Fuck Monsanto - Australian Wild Ale with NSW blackberries\n- Millions of Peaches\, Nectarines for Free 2020 - Australian Wild Ale with nectarines\n- Touched By the Side of the Sun - 6.2% Australian Wild Ale with whole Chardonnay bunches\n- Zibeerbo 2019 - 6.6% Australian Wild Ale with Muscat of Alexandria (Zibibbo) grape skins out of amphora\n- St. Thomas 2019 - 6.7% Australian Wild Ale refermented with cherries\n- St. Florence 2019: 6% Semillon - Australian Wild Ale refermented with Semillon grapes
URL:https://beer.be/agenda/bbp-dansaert-wildflower-tto/
LOCATION:Brussels Beer Project Dansaert\, 188 rue Antoine Dansaert\, Bruxelles\, 1000\, Belgique
CATEGORIES:Tap Takeover
ATTACH;FMTTYPE=image/jpeg:https://beer.be/wp-content/uploads/2021/07/207176908_1179644609143816_6480671900659343381_n-scaled.jpg
END:VEVENT
BEGIN:VEVENT
DTSTART;VALUE=DATE:20210716
DTEND;VALUE=DATE:20210717
DTSTAMP:20260421T042735
CREATED:20210715T042712Z
LAST-MODIFIED:20210715T042712Z
UID:17004-1626393600-1626479999@beer.be
SUMMARY:La Source x Hops N More Collab + TAPS Happy Hour
DESCRIPTION:The time is near. Time to release our collab beer with La Source. To celebrate our 1 year anniversary\, our good friends from La Source in Brussels brewed an IPA (of course!): 100% New Zealand hops\, Motueka and Nectaron. With peaches added! Come and join us to try this fun hazy IPA: Hops N Peaches. It's Friday night\, so we have our Happy Hour on all our taps\, ALL NIGHT.\n\nFrom 18h-22h\, buy 2\, get 1 free!\n\n+++ TAP LIST +++\n1. La Source x Hops N More - Hops N Peaches\nHazy NZ IPA with peaches\n2. Dry & Bitter - Trip Hazard\nTriple IPA\n3. Nova Runda - Top Manager\nHazy New England Pale Ale\n4. Alvinne/Vrijstaat Vanmol - Bloedarend\nSour Ale w/ Blood Oranges\n5. Maltgarden - Consider it Done\nDDH Double IPA w/ HBC586\, Strata & Citra\n6. Poolside - Gemini\nDDH Double IPA w/ Nelson Sauvin & Citra\n7. La Source - Faucheuse\nHoppy Pilsner\, Barbe Rouge hops!\n8. Coureur - Aan de rekker\nSour Session IPA\n(Happy hour: 2+1 on draft beers and take away crowlers\, cheapest is free)
URL:https://beer.be/agenda/la-source-x-hops-n-more-collab-taps-happy-hour/
CATEGORIES:Tap Takeover
ATTACH;FMTTYPE=image/jpeg:https://beer.be/wp-content/uploads/2021/07/216327759_348079456912387_6738256747557395764_n.jpg
END:VEVENT
BEGIN:VEVENT
DTSTART;VALUE=DATE:20210717
DTEND;VALUE=DATE:20210718
DTSTAMP:20260421T042735
CREATED:20210712T050315Z
LAST-MODIFIED:20210712T050315Z
UID:16978-1626480000-1626566399@beer.be
SUMMARY:Wine Tap Take Over
DESCRIPTION:Après une première édition avortée suite à la fermeture des bars\, nous voilà de retour ! Le temps d'un soir l'Ermitage Saint-Gilles mets le vin naturel à l'honneur. Nous avons collaboré avec deux amis vignerons de haut vol pour vous concocter des futs de vin naturel. D'un côté nous aurons le domaine Antoine Lienhardt (Bourgogne) avec du délicieux gamay de Fixin de la récolte 2019 au fut. C'est certainement le plus punk des vignerons bourguignons\, mais dans la bouteille c'est droit\, c'est classe\, et ça étanche toutes les soifs. Antoine sera présent pour vous présenter ses vins. De l'autre côté ce sera l'Alsace\, représentée par le domaine Lissner avec le jeune Théo Schloegel. De la fougue bien-sur\, de la pureté toujours. Théo nous a concocté une cuvée exclusive issue d'un assemblage de ses pinot blanc et de ses Auxerrois. Disponible au fut pour votre plus grand plaisir. Différentes cuvées de chaque domaine seront également disponibles au verre et à la bouteille.\n\n* Domaine Lienhardt - Gamay Rosé\, 2020.\n* Domaine Lienhardt - Bourgogne Pinot Noir 2019\n* Domaine Lienhardt - Côte de Nuits-Village / Aux Vignottes 2019\n* Lissner - Riesling 2019\n* Lissner - Pinot gris de macération « Bruch » 2019\n* Lissner - Grand Cru Altengerg de Wolxheim\, Muscat 2019\nAu plaisir de partager ces trésors avec vous.
URL:https://beer.be/agenda/wine-tap-take-over/
LOCATION:L'Ermitage Saint-Gilles\, 34 rue de Moscou\, Bruxelles\, 1060\, Belgique
CATEGORIES:Tap Takeover
ATTACH;FMTTYPE=image/jpeg:https://beer.be/wp-content/uploads/2021/07/212565425_521439439302185_5731406643477458588_n.jpg
END:VEVENT
END:VCALENDAR