BEGIN:VCALENDAR
VERSION:2.0
PRODID:-//Beer.be - ECPv6.15.20//NONSGML v1.0//EN
CALSCALE:GREGORIAN
METHOD:PUBLISH
X-ORIGINAL-URL:https://beer.be
X-WR-CALDESC:Évènements pour Beer.be
REFRESH-INTERVAL;VALUE=DURATION:PT1H
X-Robots-Tag:noindex
X-PUBLISHED-TTL:PT1H
BEGIN:VTIMEZONE
TZID:Europe/Brussels
BEGIN:DAYLIGHT
TZOFFSETFROM:+0100
TZOFFSETTO:+0200
TZNAME:CEST
DTSTART:20200329T010000
END:DAYLIGHT
BEGIN:STANDARD
TZOFFSETFROM:+0200
TZOFFSETTO:+0100
TZNAME:CET
DTSTART:20201025T010000
END:STANDARD
BEGIN:DAYLIGHT
TZOFFSETFROM:+0100
TZOFFSETTO:+0200
TZNAME:CEST
DTSTART:20210328T010000
END:DAYLIGHT
BEGIN:STANDARD
TZOFFSETFROM:+0200
TZOFFSETTO:+0100
TZNAME:CET
DTSTART:20211031T010000
END:STANDARD
BEGIN:DAYLIGHT
TZOFFSETFROM:+0100
TZOFFSETTO:+0200
TZNAME:CEST
DTSTART:20220327T010000
END:DAYLIGHT
BEGIN:STANDARD
TZOFFSETFROM:+0200
TZOFFSETTO:+0100
TZNAME:CET
DTSTART:20221030T010000
END:STANDARD
END:VTIMEZONE
BEGIN:VEVENT
DTSTART;VALUE=DATE:20211210
DTEND;VALUE=DATE:20211213
DTSTAMP:20260420T202516
CREATED:20211209T063351Z
LAST-MODIFIED:20211209T063351Z
UID:18548-1639094400-1639353599@beer.be
SUMMARY:Frozen Fresh Hops Brewfest Europe 2021
DESCRIPTION:Would you like to have the chance to drink beers you would never drink?! That's right here\, right now! \nFor the first time in the history of brewing\, European brewers can brew with American fresh hops.\nWe are hosting this event together with Yakima Chief Hops - and you'll be able to taste some of the best fresh hop brews of the Benelux. \n\nWe'll have the beers from:\n Atrium\n Baxbier\n Brussels Beer Project\n HopHemel\n Kees\n La Source\n Rock City Brewing\n Uiltje
URL:https://beer.be/agenda/frozen-fresh-hops-brewfest-europe-2021/
LOCATION:BBP Bailli\, 1 rue du Bailly\, Bruxelles\, 1000\, Belgique
CATEGORIES:Tap Takeover
ATTACH;FMTTYPE=image/jpeg:https://beer.be/wp-content/uploads/2021/12/264070258_233348452242937_4190768476102424489_n.jpg
END:VEVENT
BEGIN:VEVENT
DTSTART;VALUE=DATE:20211212
DTEND;VALUE=DATE:20211213
DTSTAMP:20260420T202516
CREATED:20211210T053919Z
LAST-MODIFIED:20211210T053919Z
UID:18575-1639267200-1639353599@beer.be
SUMMARY:EastSide Brewery (IT) Sunday
DESCRIPTION:e dimanche au Wild' Lab\, c'est l'Italie qui s'invite aux pompes avec 4 références au fût et 6 en cannettes de chez EastSide. Pour l'occasion\, on vous prépare des planches mixtes - Charcuteries & fromages italiens - fournis par "La Tana". Pour les plus gourmands\, des Panettone à la bière de chez EastSide seront aussi disponibles. Ciao a tutti !
URL:https://beer.be/agenda/eastside-brewery-it-sunday/
LOCATION:Wild Lab Liège\, 14 rue Hors Château\, Liège\, 4000\, Belgique
CATEGORIES:Tap Takeover
ATTACH;FMTTYPE=image/jpeg:https://beer.be/wp-content/uploads/2021/12/265676307_446107190467999_7912962988551448266_n.jpg
END:VEVENT
BEGIN:VEVENT
DTSTART;TZID=Europe/Brussels:20211215T110000
DTEND;TZID=Europe/Brussels:20211216T173000
DTSTAMP:20260420T202516
CREATED:20211215T072249Z
LAST-MODIFIED:20211215T072249Z
UID:18616-1639566000-1639675800@beer.be
SUMMARY:Fuerst Wiacek & Arpus Release
DESCRIPTION:One of our last FRESH imports of 2021.\nLet's bring in some tasty goodies from Germany and Latvia.\nWe will have new beers from Fuerst Wiacek and Arpus.\nExpect Hazy IPAs\, more Hazy IPAs\, fruited sours and even a delicious fruited Sour IPA!\nWe may even put some fun stuff on draft!
URL:https://beer.be/agenda/fuerst-wiacek-arpus-release/
CATEGORIES:Tap Takeover
ATTACH;FMTTYPE=image/jpeg:https://beer.be/wp-content/uploads/2021/12/268258174_449568743430124_5526863835794612101_n.jpg
END:VEVENT
BEGIN:VEVENT
DTSTART;TZID=Europe/Brussels:20211218T110000
DTEND;TZID=Europe/Brussels:20211218T210000
DTSTAMP:20260420T202516
CREATED:20211215T072535Z
LAST-MODIFIED:20211215T072535Z
UID:18619-1639825200-1639861200@beer.be
SUMMARY:PIGGY BREWING RELEASE
DESCRIPTION:Our good friends from Piggy Brewing have sent us a great new selection of beers. Just in time for the holiday period!\nCome over and enjoy 8 new beers\, from Juicy IPAs and Pale Ales to some warming Imperial Stouts.\nLet the Pig go! 
URL:https://beer.be/agenda/piggy-brewing-release/
CATEGORIES:Tap Takeover
ATTACH;FMTTYPE=image/jpeg:https://beer.be/wp-content/uploads/2021/12/267466110_450487240004941_4025410642485201837_n.jpg
END:VEVENT
BEGIN:VEVENT
DTSTART;VALUE=DATE:20211223
DTEND;VALUE=DATE:20211224
DTSTAMP:20260420T202516
CREATED:20211221T200834Z
LAST-MODIFIED:20211221T200834Z
UID:18751-1640217600-1640303999@beer.be
SUMMARY:TTO De mederie
DESCRIPTION:Jorre van De Mederie heeft enkele nieuwe ciders en medes klaar en met veel plezier stellen we jullie deze voor tijdens een tap takeover donderdag 23/12.\n24/12 tem 01/01 sluiten we onze deuren dus spring nog een laatste keer binnen in 2021.
URL:https://beer.be/agenda/tto-de-mederie/
LOCATION:DOK Brewing Company\, 4B Dok Noord\, Gent\, 9000\, Belgique
CATEGORIES:Tap Takeover
ATTACH;FMTTYPE=image/jpeg:https://beer.be/wp-content/uploads/2021/12/269708490_317037797091096_7943562270459784466_n.jpg
END:VEVENT
BEGIN:VEVENT
DTSTART;TZID=Europe/Brussels:20211229T120000
DTEND;TZID=Europe/Brussels:20211229T183000
DTSTAMP:20260420T202516
CREATED:20211227T144345Z
LAST-MODIFIED:20211227T144345Z
UID:18774-1640779200-1640802600@beer.be
SUMMARY:EAST SIDE BREWING RELEASE
DESCRIPTION:Thanks to our good friend Valerio from La Tana (Best Italian (beer) restaurant in BXL)\, we will be able to have an outstanding release of this lovely brewing from Italy:\nEast Side Brewing \nEastside Brewing is a craft brewery located in the city of Latina (Lazio province). The project came to life in 2013 thanks to the passion of Luciano and the intuition of Alessio who immediately believed in the potential of his brewer friend. \nExpect some beautiful easy drinking beers from East Side\, with some great references to the more classic British beer styles.\nTo top it off\, we'll also have 3 BA Imperial Stouts! \nRelease: \nWasted Years Whisky BA\nWasted Years Rum BA\nWasted Years Brandy BA\nDona Elda Coffee Porter\nFumo Lento Baltic Porter\nQueen Olimpia Dark Mild Ale\nDirector's Order Dry Stout\nOld Jorge Bitter Ale
URL:https://beer.be/agenda/east-side-brewing-release/
LOCATION:Hops 'N More\, Parijsstraat 27\, Leuven\, 3000\, BE
CATEGORIES:Tap Takeover
ATTACH;FMTTYPE=image/jpeg:https://beer.be/wp-content/uploads/2021/12/18774_image_270173319_457779572609041_9094857365127160936_n.jpg
END:VEVENT
END:VCALENDAR