BEGIN:VCALENDAR
VERSION:2.0
PRODID:-//Beer.be - ECPv6.15.20//NONSGML v1.0//EN
CALSCALE:GREGORIAN
METHOD:PUBLISH
X-WR-CALNAME:Beer.be
X-ORIGINAL-URL:https://beer.be
X-WR-CALDESC:Évènements pour Beer.be
REFRESH-INTERVAL;VALUE=DURATION:PT1H
X-Robots-Tag:noindex
X-PUBLISHED-TTL:PT1H
BEGIN:VTIMEZONE
TZID:Europe/Brussels
BEGIN:DAYLIGHT
TZOFFSETFROM:+0100
TZOFFSETTO:+0200
TZNAME:CEST
DTSTART:20210328T010000
END:DAYLIGHT
BEGIN:STANDARD
TZOFFSETFROM:+0200
TZOFFSETTO:+0100
TZNAME:CET
DTSTART:20211031T010000
END:STANDARD
BEGIN:DAYLIGHT
TZOFFSETFROM:+0100
TZOFFSETTO:+0200
TZNAME:CEST
DTSTART:20220327T010000
END:DAYLIGHT
BEGIN:STANDARD
TZOFFSETFROM:+0200
TZOFFSETTO:+0100
TZNAME:CET
DTSTART:20221030T010000
END:STANDARD
BEGIN:DAYLIGHT
TZOFFSETFROM:+0100
TZOFFSETTO:+0200
TZNAME:CEST
DTSTART:20230326T010000
END:DAYLIGHT
BEGIN:STANDARD
TZOFFSETFROM:+0200
TZOFFSETTO:+0100
TZNAME:CET
DTSTART:20231029T010000
END:STANDARD
END:VTIMEZONE
BEGIN:VEVENT
DTSTART;VALUE=DATE:20220408
DTEND;VALUE=DATE:20220409
DTSTAMP:20260420T142842
CREATED:20220405T043358Z
LAST-MODIFIED:20220405T043358Z
UID:19739-1649376000-1649462399@beer.be
SUMMARY:CraftNight #9 - 9th Birthday of Siren Craft Brew
DESCRIPTION:Siren Craft Brew has become 9 years. As Beerlovers Bar is a huge fan of Siren\, we celebrate this 9th Anniversary with their Anniversary Beers on draft. Expect the 3 celebration beers on draft\, and 2 extra other great Siren beers on draft\, 3 in can and 1 bottle. 9 Siren beers in total to celebrate this 9th Anniversary. Cheers!
URL:https://beer.be/agenda/craftnight-9-9th-birthday-of-siren-craft-brew/
LOCATION:Beerlovers Bar\, Rotterdamstraat 105\, Anvers\, 2060\, Belgique
CATEGORIES:Tap Takeover
ATTACH;FMTTYPE=image/jpeg:https://beer.be/wp-content/uploads/2022/04/277800815_1839980396392949_4471483204493053335_n.jpg
END:VEVENT
BEGIN:VEVENT
DTSTART;VALUE=DATE:20220413
DTEND;VALUE=DATE:20220414
DTSTAMP:20260420T142842
CREATED:20220324T055858Z
LAST-MODIFIED:20220324T055858Z
UID:19614-1649808000-1649894399@beer.be
SUMMARY:Misery Beer Co. TTO
DESCRIPTION:Something wicked this way comes for our next tap takeover\nThere is a mighty Manor in the Ardennes and a family of total PUNKS that rules a craft beer production of the most exquisite quality!\nWe have been their biggest fans for two years straight\, and the time has finally come to invite everyone in Brussels on the 13th of April to experience the liquid caress of these badass beers!
URL:https://beer.be/agenda/misery-beer-co-tto/
LOCATION:Brewdog\, Putterij 20\, Brussels\, 1000\, Belgique
CATEGORIES:Tap Takeover
ATTACH;FMTTYPE=image/jpeg:https://beer.be/wp-content/uploads/2022/03/276159294_2497380117058733_8478997981377546822_n.jpg
END:VEVENT
BEGIN:VEVENT
DTSTART;VALUE=DATE:20220414
DTEND;VALUE=DATE:20220415
DTSTAMP:20260420T142842
CREATED:20220315T060635Z
LAST-MODIFIED:20220315T060635Z
UID:19493-1649894400-1649980799@beer.be
SUMMARY:North TTO/MTB
DESCRIPTION:Our friends from North Brewing are coming to Billie's with some new crazy craft beers!
URL:https://beer.be/agenda/north-tto-mtb/
LOCATION:Billie's craft beer kafétaria\, Kammenstraat 12\, Antwerp\, 2000\, Belgium
CATEGORIES:Tap Takeover
ATTACH;FMTTYPE=image/jpeg:https://beer.be/wp-content/uploads/2022/03/275861343_1801597640049369_4530026967487115339_n.jpg
END:VEVENT
BEGIN:VEVENT
DTSTART;VALUE=DATE:20220414
DTEND;VALUE=DATE:20220419
DTSTAMP:20260420T142842
CREATED:20220415T060539Z
LAST-MODIFIED:20220415T060539Z
UID:19877-1649894400-1650326399@beer.be
SUMMARY:Quintessence Weekend
DESCRIPTION:Exciting weekend in Brussels !\nThis event is coming late\, but here’s what we are releasing\nAlso\, we’ll be open on Sunday and Monday from 4.30PM till…. ??\nFOOD PORN : Pulled Pork Burger\, slow cooked with Kriek Cantillon \nUNTAPPD MENU : check regularly\, as we’ll add more beers in the next hours\, but to give you an idea : https://untappd.com/v/beergium-bar/9298528\nQuintessence special release\, on tap :\nCantillon Kriek : Blend of lambics and sour cherries - 200 g of cherries per litre of beer\nCantillon Rosé de Gambrinus : Blend of lambics and raspberries - 200 g of raspberries per litre of beer\nCantillon Sang Bleu : Cantillon Sang Bleu is an experimental lambic with Haskap Berries from Québec added (Lonicera caerulea). Also known as Camerise Lambic\nCouncil Beatitude Raspberry 2018 : American Wild Ale with Raspberries\nCouncil Woofle Dust with Apricots 2018 : Foeder Aged America Golden Sour Ale Aged on Apricots\nDe Garde The Purple Kriek #4 (2019) : BA Spontaneous Wild Ale with Black and Red Raspberries & Cherries\nThe Bruery Terreux Terreux Train to Beersel : Oak Aged Imperial Sour Ale\nOur actual TAP selection\, including among others :\nLa Source\, Pomona Island\, Foam Brewers\, Outer Range\, Novabirra\, Evil Twin & Funky Fluid\nQuintessence Bottles Release : (drink in only)\nRussian River Pliny the Elder : The one and only\, the King of West Coast IPA’s – bottled on 23/03/2022\nRussian River Jannemie : Saison brewed using American and European malts and hops\, a distinctive strain of farmhouse yeast\, and finished with Brettanomyces\nRussian River Beatification : This beer is very unique and inspired by breweries in the Lambic region of Belgium and\, especially\, our friends at Cantillon. It is 100% spontaneously fermented. Aged for a few months in Wine Barrels\nHudson Valley Release : (drink in or to go)\nHudson Valley Amulet Sour IPA : Sour IPA with Raw wheat\, Flaked & Malted Oat\, Milk Sugar\, Blueberries & Hibiscus Flowers; hopped with Citra & Galaxy\nHudson Valley / Finback Everyday Spirits I : Sour DIPA with Raw Wheat\, Flaked & Malted Oat\, Milk Sugar\, Strawberry\, Peach & Vanilla; hopped with Citra\, Strata & Galaxy\nHudson Valley / Finback Everyday Spirits II : New England DIPA with Raw Wheat\, Flaked & Malted Oat; hopped with Citra\, Strata & Galaxy\nHudson Valley Type of Way : Pilsner hopped with Motueka\nHudson Valley The Map : Sour IPA with Wheat & Oat\, Milk Sugar\, Lemon & Black Lava Salt; hopped with Mosaic\nHudson Valley The Territory : Sour IPA with Wheat & Oat\, Milk Sugar\, Rhubarb\, Lemon & Elderberry; hopped with Mosaic\nHudson Valley Ultrasphere : Sour IPA with Raw Wheat\, Flaked & Malted Oat\, Milk Sugar\, Raspberry & Vanilla; hopped with Citra & Mosaic\nHudson Valley Valley Beer Winter 2020 : Sour Farmhouse Ale brewed with 100% locally grown barley and raw wheat\, fermented in our Foudres with Wild Yeast & Souring Bacteria\, aged for one year in Oak Wine Barrels\, and bottle conditioned for 12 months\nAlso some vintage bottles :\nBellevue Lambic 1999 : drink in or to go\nFramboos 2011 : drink in only\nHommage 2013 : drink in only\nTilquin Oude Gueuze 2019 : drink in only\nCantillon Kriek 2016 : drink in only\nCantillon Gueuze 2017 : drink in only\nCantillon Rosé de Gambrinus 2016 : drink in only\nMany more beers will be added\nOur fridges are ready\, to drink on place\, or to go\nHave a nice Quintessence!
URL:https://beer.be/agenda/quintessence-weekend/
LOCATION:Beergium Bar\, 1227 Chaussée de Waterloo\, Bruxelles\, 1180\, Belgique
CATEGORIES:Tap Takeover
ATTACH;FMTTYPE=image/jpeg:https://beer.be/wp-content/uploads/2022/04/Quintessence.jpg
END:VEVENT
BEGIN:VEVENT
DTSTART;VALUE=DATE:20220415
DTEND;VALUE=DATE:20220418
DTSTAMP:20260420T142842
CREATED:20220215T124419Z
LAST-MODIFIED:20220215T124419Z
UID:19195-1649980800-1650239999@beer.be
SUMMARY:FUNKYTOWN: HOF TEN DORMAAL
DESCRIPTION:Our local hero Hof ten Dormaal is taking over 8 extra taps\, about a month before we can finally enjoy their festival\, Leuven Innovation Beer Festival again!\nCome join us & taste the best farmhouse ales & sours they have to offer! Stay tuned to know which beers we'll be pouring.\n\nNo tickets. No reservations.\nThe tap take-over continues on Saturday.
URL:https://beer.be/agenda/funkytown-hof-ten-dormaal/
LOCATION:Malz\, Brusselsestraat 51\, Leuven\, 3000\, Belgique
CATEGORIES:Tap Takeover
ATTACH;FMTTYPE=image/jpeg:https://beer.be/wp-content/uploads/2022/02/273757689_1246612662534647_2300363508569417373_n-scaled.jpg
END:VEVENT
BEGIN:VEVENT
DTSTART;VALUE=DATE:20220420
DTEND;VALUE=DATE:20220421
DTSTAMP:20260420T142842
CREATED:20220412T050020Z
LAST-MODIFIED:20220412T050020Z
UID:19840-1650412800-1650499199@beer.be
SUMMARY:Tap Takeover // Fuerst Wiacek
DESCRIPTION:We're stoked to bring these modern beers from  Berlin to 𝗕𝗕𝗣 𝗕𝗮𝗶𝗹𝗹𝗶!\n𝗙𝘂𝗲𝗿𝘀𝘁 𝗪𝗶𝗮𝗰𝗲𝗸 has been changing the German beer scene with their hoppy & other delights! Come check out their brews & meet the brewers!
URL:https://beer.be/agenda/tap-takeover-fuerst-wiacek/
LOCATION:BBP Bailli\, 1 rue du Bailly\, Bruxelles\, 1000\, Belgique
CATEGORIES:Tap Takeover
ATTACH;FMTTYPE=image/jpeg:https://beer.be/wp-content/uploads/2022/04/278188914_309197521324696_2300927608011101080_n.jpg
END:VEVENT
BEGIN:VEVENT
DTSTART;VALUE=DATE:20220421
DTEND;VALUE=DATE:20220422
DTSTAMP:20260420T142842
CREATED:20220315T060714Z
LAST-MODIFIED:20220315T060714Z
UID:19496-1650499200-1650585599@beer.be
SUMMARY:Fuerst Wiacek TTO/MTB
DESCRIPTION:Our friends from Fuerst Wiacek are coming to visit us and they'll bring some ultra fresh new craft beers with them!
URL:https://beer.be/agenda/fuerst-wiacek-tto-mtb/
LOCATION:Billie's craft beer kafétaria\, Kammenstraat 12\, Antwerp\, 2000\, Belgium
CATEGORIES:Tap Takeover
ATTACH;FMTTYPE=image/jpeg:https://beer.be/wp-content/uploads/2022/03/275924428_10159763413551870_8966507728814236964_n.jpg
END:VEVENT
BEGIN:VEVENT
DTSTART;VALUE=DATE:20220422
DTEND;VALUE=DATE:20220423
DTSTAMP:20260420T142842
CREATED:20220414T065358Z
LAST-MODIFIED:20220414T065358Z
UID:19864-1650585600-1650671999@beer.be
SUMMARY:La Mule au Barnabeer
DESCRIPTION:Une Mule et un Chevalier…\nIl n’en fallait pas plus pour créer une Bière ensemble!\nLe Barnabeer est très fier de vous présenter sa petite dernière:\nLA BARNA BEERLINER!\nUne Berliner Vice titrant 5\,5° hyper rafraîchissante et légèrement sour\, une merveille!\nCréée par les Brasseurs de la déjà célèbre Brasserie de la Mule (Schaerbeek) en collab avec l’équipe du Barnabeer\, nous vous proposons de venir la déguster au fût et en cannette dès ce vendredi.\nLes Brasseurs seront même présents pour l’occasion!\nBonne dégustation et déjà bon Barnabeer à toutes et tous 
URL:https://beer.be/agenda/la-mule-au-barnabeer/
LOCATION:Barnabeer\, 39 rue de Bruxelles\, Namur\, 5000\, Belgique
CATEGORIES:Tap Takeover
ATTACH;FMTTYPE=image/jpeg:https://beer.be/wp-content/uploads/2022/04/278266088_1049036772357747_9049415822347144027_n.jpg
END:VEVENT
BEGIN:VEVENT
DTSTART;VALUE=DATE:20220422
DTEND;VALUE=DATE:20220425
DTSTAMP:20260420T142842
CREATED:20220414T065146Z
LAST-MODIFIED:20220414T065146Z
UID:19857-1650585600-1650844799@beer.be
SUMMARY:Stigbergets / Sudden Death Tap Takeover
DESCRIPTION:Stigbergets  and Sudden Death are two of our most beloved breweries\, let's tap their latest brews together! 
URL:https://beer.be/agenda/stigbergets-sudden-death-tap-takeover/
LOCATION:Beergium Bar\, 1227 Chaussée de Waterloo\, Bruxelles\, 1180\, Belgique
CATEGORIES:Tap Takeover
ATTACH;FMTTYPE=image/jpeg:https://beer.be/wp-content/uploads/2022/04/278327662_3213723698864732_4679314487650708805_n.jpg
END:VEVENT
BEGIN:VEVENT
DTSTART;VALUE=DATE:20220428
DTEND;VALUE=DATE:20220429
DTSTAMP:20260420T142842
CREATED:20220412T045918Z
LAST-MODIFIED:20220412T045918Z
UID:19837-1651104000-1651190399@beer.be
SUMMARY:Antwerp Craftbeer Bar TTO
DESCRIPTION:To end our TTO/MTB month we come up with an idea we had for a long time...\nA special and travelling event of which the first edition will take place at Billie’s. We invited 6 craftbeer bars in Antwerp to each take over one of our taps with a beer that represents their bar! Participating bars: Beerlovers Bar\, Café Ernst\, Dr. Beer\, Café Pardaf\, Station 1280/Uncharted Brew Co and Spéciale Belge Taproom!\nVery excited to have our friends over\, so give into that FOMO and make sure you don’t miss it!
URL:https://beer.be/agenda/antwerp-craftbeer-bar-tto/
LOCATION:Billie's craft beer kafétaria\, Kammenstraat 12\, Antwerp\, 2000\, Belgium
CATEGORIES:Tap Takeover
ATTACH;FMTTYPE=image/jpeg:https://beer.be/wp-content/uploads/2022/04/278186656_1820210848188048_62321364711806046_n.jpg
END:VEVENT
END:VCALENDAR