BEGIN:VCALENDAR
VERSION:2.0
PRODID:-//Beer.be - ECPv6.15.20//NONSGML v1.0//EN
CALSCALE:GREGORIAN
METHOD:PUBLISH
X-ORIGINAL-URL:https://beer.be
X-WR-CALDESC:Évènements pour Beer.be
REFRESH-INTERVAL;VALUE=DURATION:PT1H
X-Robots-Tag:noindex
X-PUBLISHED-TTL:PT1H
BEGIN:VTIMEZONE
TZID:Europe/Brussels
BEGIN:DAYLIGHT
TZOFFSETFROM:+0100
TZOFFSETTO:+0200
TZNAME:CEST
DTSTART:20210328T010000
END:DAYLIGHT
BEGIN:STANDARD
TZOFFSETFROM:+0200
TZOFFSETTO:+0100
TZNAME:CET
DTSTART:20211031T010000
END:STANDARD
BEGIN:DAYLIGHT
TZOFFSETFROM:+0100
TZOFFSETTO:+0200
TZNAME:CEST
DTSTART:20220327T010000
END:DAYLIGHT
BEGIN:STANDARD
TZOFFSETFROM:+0200
TZOFFSETTO:+0100
TZNAME:CET
DTSTART:20221030T010000
END:STANDARD
BEGIN:DAYLIGHT
TZOFFSETFROM:+0100
TZOFFSETTO:+0200
TZNAME:CEST
DTSTART:20230326T010000
END:DAYLIGHT
BEGIN:STANDARD
TZOFFSETFROM:+0200
TZOFFSETTO:+0100
TZNAME:CET
DTSTART:20231029T010000
END:STANDARD
END:VTIMEZONE
BEGIN:VEVENT
DTSTART;VALUE=DATE:20220804
DTEND;VALUE=DATE:20220805
DTSTAMP:20260420T085329
CREATED:20220801T112035Z
LAST-MODIFIED:20220801T112035Z
UID:20942-1659571200-1659657599@beer.be
SUMMARY:International IPA Day
DESCRIPTION:We don’t need to tell you this… but we love IPAs at BBP! \nWhich one is your favourite BBP IPA of the moment?\n All-Stars 𝗗𝗲𝗹𝘁𝗮 𝗜𝗣𝗔\, 𝗝𝘂𝗶𝗰𝗲 𝗝𝘂𝗻𝗸𝗶𝗲 or 𝗕𝗮𝗯𝘆𝗹𝗼𝗻𝗲? Or are you adventurous & currently very much enjoying our hoppy pop-ups 𝗦𝘂𝗺𝗺𝗲𝗿 𝗛𝗮𝘇𝗲 or the brand-new 𝗠𝗼𝗼𝗻𝘀𝗵𝗼𝘁?!\n For International IPA Day we don’t only have these fresh BBP IPAs on draft\, we also invited 6 great guest IPAs to flow from our Bailli taps! Get your hops on!\n\n 𝗚𝗮𝗿𝗮𝗴𝗲 𝗕𝗲𝗲𝗿 𝗖𝗼 - 𝗕𝗮𝗿𝗰𝗲𝗹𝗼𝗻𝗮\, 𝗦𝗽𝗮𝗶𝗻\n Tapawera\, NZ. - 7% NZ IPA (Nelson Sauvin & Motueka)\n Anzus - 8% Double IPA (Galaxy\, Motueka\, Azacca & Cashmere)\n 𝗪𝗵𝗶𝗽𝗹𝗮𝘀𝗵 - 𝗗𝘂𝗯𝗹𝗶𝗻\, 𝗜𝗿𝗲𝗹𝗮𝗻𝗱\n Jungle Window - 7% New England IPA (Vic Secret\, Mosaic & Cascade)\n Let Your Love Grow - 8% Double IPA (Citra & Nelson Sauvin)\n 𝗞𝗿𝗼𝗺𝗺𝗲 𝗛𝗮𝗿𝗶𝗻𝗴 - 𝗨𝘁𝗿𝗲𝗰𝗵𝘁\, 𝗡𝗲𝘁𝗵𝗲𝗿𝗹𝗮𝗻𝗱𝘀\n Opah - 6.3% West-Coast IPA (Simcoe\, Columbus\, Centennial & Galaxy)\n Whale Shark v2 - 8% New England DIPA (Citra\, Idaho 7 & Columbus)
URL:https://beer.be/agenda/international-ipa-day/
LOCATION:BBP Bailli\, 1 rue du Bailly\, Bruxelles\, 1000\, Belgique
CATEGORIES:Tap Takeover
ATTACH;FMTTYPE=image/jpeg:https://beer.be/wp-content/uploads/2022/08/295464327_380455090865605_786308068109634465_n.jpg
END:VEVENT
BEGIN:VEVENT
DTSTART;VALUE=DATE:20220804
DTEND;VALUE=DATE:20220807
DTSTAMP:20260420T085329
CREATED:20220801T113306Z
LAST-MODIFIED:20220801T113306Z
UID:20960-1659571200-1659830399@beer.be
SUMMARY:Tap Take Over - Polly's Brew Co (UK)
DESCRIPTION:Dear holidaymakers\,\nI hope your summer is going great\, you are chilling in the sun and maybe with some cold beer.\nAfter a good rest from our amazing taproom team\, we are ready to pour you some surreal beers again and we open with a little taptakeover from the UK !\n Polly's Brewery\nWhen we think about the UK craft scene\, London and England are the first answers that come to mind but we shouldn't underestimate the Welsh craft breweries.\nLaunched in 2018\, they’re experts in brewing pale ale and hop-forward beers\, and with the launch of their augment series\, they took their brewing to new levels\, making them one of the UK’s top breweries.\nThat's not all folks... You can also expect a little surprise on tap from another famous UK brewery...\nWe can't wait to see you 
URL:https://beer.be/agenda/tap-take-over-pollys-brew-co-uk/
LOCATION:Brasserie Surréaliste\, Place du Nouveau Marché aux Grains 22-23\, Bruxelles\, 1000\, Belgique
CATEGORIES:Tap Takeover
ATTACH;FMTTYPE=image/jpeg:https://beer.be/wp-content/uploads/2022/08/295859975_1159153024665730_7322093991237062914_n.jpg
END:VEVENT
BEGIN:VEVENT
DTSTART;VALUE=DATE:20220818
DTEND;VALUE=DATE:20220819
DTSTAMP:20260420T085329
CREATED:20220812T081537Z
LAST-MODIFIED:20220812T081537Z
UID:21077-1660780800-1660867199@beer.be
SUMMARY:ANTWERP BAR TAP TAKE OVER PII
DESCRIPTION:Na een eerste top editie bij Billie’s Bier Kaffetaria\, zijn ook wij klaar voor een nieuwe Antwerp Bar Tap Take Over. Komende donderdag ontvangen wij 5 andere craft beer bars in onze bar. Ze brengen jullie dorstlessende bieren mee op tap. Maak jullie klaar voor een nieuwe avond vol bieren en vriendschap.\n\nWANNEER:\nDonderdag 18/08/2022 vanaf 15u\nWIE\nBILLIE’S BIER KAFFETARIA\nSTATION 1280\nBEERLOVERSBAR\nCAFÉ PARDAF\nSPECIALE BELGE TAPROOM\nWAT\n5 BARS NEMEN 5 TAPS OVER MET PRACHTIGE BIEREN\nWAAR\nCAFÉ ERNST ANTWERP\n\nAfter a first top edition at Billie’s Bier Kaffetaria\, we are ready for a new edition of the Antwerp Bar Tap Take Over. Next Thursday we are welcoming 5 other craft beer bars at our bar. They bring you some thirst quenching craft beers on tap. Get ready for yet another night full of hops and friendship.\nStarting at 15:00 en closing at midnight.
URL:https://beer.be/agenda/antwerp-bar-tap-take-over-pii/
LOCATION:Café Ernst\, Ernest van Dijckkaai 18\, Anvers\, 2000\, Belgique
CATEGORIES:Tap Takeover
ATTACH;FMTTYPE=image/jpeg:https://beer.be/wp-content/uploads/2022/08/298538892_1039719323393698_3335529862897453069_n.jpg
END:VEVENT
BEGIN:VEVENT
DTSTART;VALUE=DATE:20220824
DTEND;VALUE=DATE:20220825
DTSTAMP:20260420T085329
CREATED:20220803T050908Z
LAST-MODIFIED:20220803T050908Z
UID:21012-1661299200-1661385599@beer.be
SUMMARY:Double Belgian Tap Takeover
DESCRIPTION:1 van de beste Belgische brouwerijen: de Ranke\, heeft reeds een prominente plaats ingenomen in de bar. Tijdens deze TTO willen we nog eens heel wat bieren van de Ranke op tap drinken.\nAlsook de Mederie heeft zijn naam in het mede wereldje in Belgie reeds goed ingenomen. Verwacht heel wat nieuwe medes alsook een cider op den tap.\nMeet the brewer!\nWe starten zoals gewoonlijk om 20.00u.
URL:https://beer.be/agenda/double-belgian-tap-takeover/
LOCATION:Beerlovers Bar\, Rotterdamstraat 105\, Anvers\, 2060\, Belgique
CATEGORIES:Tap Takeover
ATTACH;FMTTYPE=image/jpeg:https://beer.be/wp-content/uploads/2022/08/297097668_1929621337428854_5820377533917820603_n.jpg
END:VEVENT
BEGIN:VEVENT
DTSTART;VALUE=DATE:20220825
DTEND;VALUE=DATE:20220826
DTSTAMP:20260420T085329
CREATED:20220719T053710Z
LAST-MODIFIED:20220719T053710Z
UID:20857-1661385600-1661471999@beer.be
SUMMARY:Tap Take over : Les intenables
DESCRIPTION:Un tap take over c’est quoi ? C’est quand nous donnons la main à un brasseur pour proposer ses bières et uniquement ses bières au fût. En gros cette brasserie alsacienne va prendre possession des 10 lignes et proposer leurs bières toute la soirée. Serez vous capable de gouter les 10 ?
URL:https://beer.be/agenda/tap-take-over-les-intenables/
LOCATION:Le comptoir miorge mihoublon\, 84 avenue du 10ème de ligne\, Arlon\, 6700\, Belgique
CATEGORIES:Tap Takeover
ATTACH;FMTTYPE=image/jpeg:https://beer.be/wp-content/uploads/2022/07/294380571_195348742826925_8589493188827047189_n.jpg
END:VEVENT
BEGIN:VEVENT
DTSTART;VALUE=DATE:20220825
DTEND;VALUE=DATE:20220826
DTSTAMP:20260420T085329
CREATED:20220823T044311Z
LAST-MODIFIED:20220823T044311Z
UID:21163-1661385600-1661471999@beer.be
SUMMARY:Double TTO/MTB Lobik x Full Circle
DESCRIPTION:Hold up!\nFor the Belgium Beer Week we're very proud to announce our very first double TTO!\nOur friends from Lobik (SI) & Full Circle (UK) are bringing some brand new and exciting beers to Billie's. Both brewers will be there as well!\nMake sure you don't miss it!
URL:https://beer.be/agenda/double-tto-mtb-lobik-x-full-circle/
LOCATION:Billie's craft beer kafétaria\, Kammenstraat 12\, Antwerp\, 2000\, Belgium
CATEGORIES:Tap Takeover
ATTACH;FMTTYPE=image/jpeg:https://beer.be/wp-content/uploads/2022/08/300284545_1914333768775755_5967944286511918888_n.jpg
END:VEVENT
BEGIN:VEVENT
DTSTART;VALUE=DATE:20220825
DTEND;VALUE=DATE:20220827
DTSTAMP:20260420T085329
CREATED:20220808T054502Z
LAST-MODIFIED:20220808T054502Z
UID:21029-1661385600-1661558399@beer.be
SUMMARY:PERENNIAL (USA) TAP TAKEOVER
DESCRIPTION:As part of the Belgium Beer Week and as a pre party to the delightful BXL Beer Fest\, we are hosting an epic Tap Takeover. Perennial Artisan Ales (Missouri\, USA) will be taking over our taps in Leuven.\n\nSince 2011\, Perennial brews beer with the adventurous craft beer drinker in mind—focusing on hand-crafted\, small batches of beer\, using local\, seasonal and organic ingredients as much as possible.
URL:https://beer.be/agenda/perennial-usa-tap-takeover/
LOCATION:Hops 'N More\, Parijsstraat 27\, Leuven\, 3000\, BE
CATEGORIES:Tap Takeover
ATTACH;FMTTYPE=image/jpeg:https://beer.be/wp-content/uploads/2022/08/288994007_568526234867707_6656362153791168498_n.jpg
END:VEVENT
BEGIN:VEVENT
DTSTART;VALUE=DATE:20220825
DTEND;VALUE=DATE:20220829
DTSTAMP:20260420T085329
CREATED:20220823T044215Z
LAST-MODIFIED:20220823T044215Z
UID:21160-1661385600-1661731199@beer.be
SUMMARY:BXLBeerfest Bootcamp
DESCRIPTION:Let's get our livers ready !\nAfter two sketchy years\, we had at heart to support some of our favorite local breweries right before the wonderful beery celebration held at Tours & Taxis next weekend !\nBefore reaching the "crossroads of beers and friends"\, come grab a few fresh pints to get a foretaste of what's to come at the festival.\nCheck our social media during the coming week to find out what will be poured out of our lines !
URL:https://beer.be/agenda/bxlbeerfest-bootcamp/
LOCATION:Brewdog\, Putterij 20\, Brussels\, 1000\, Belgique
CATEGORIES:Tap Takeover
ATTACH;FMTTYPE=image/jpeg:https://beer.be/wp-content/uploads/2022/08/300559406_2621979417932135_4769411854605622819_n.jpg
END:VEVENT
BEGIN:VEVENT
DTSTART;VALUE=DATE:20220826
DTEND;VALUE=DATE:20220827
DTSTAMP:20260420T085329
CREATED:20220816T110104Z
LAST-MODIFIED:20220816T110104Z
UID:21106-1661472000-1661558399@beer.be
SUMMARY:Les Intenables x Zichovec Tap Take-Over
DESCRIPTION:Ready for some new beers and party ?\nIn preparation for the Bxl Beer Fest in Tour & Taxis\, we are hosting a double TTO + meet the brewers at Surrealiste:\n\nPIVOZAR ZICHOVEC The state of the art Bohemian brewer Zichovec is a familly owned brewery that makes some of the best craft beers in the country. They will be in town for an event around their beers:\nTaplist:\n- Krahulík 12\n- Homies 12\n- Nectar of Happiness\n- Sour Passion Fruit\n\nBRASSERIE LES INTENABLES \nC'est l'histoire de 5 Intenables qui ne savaient pas quoi faire de leur hyperactivité\, résultat ça a donné une microbrasserie....\nTaplist:\n- Muffin Myrtille\n- Hopfensalat\n- Yes Viking Bière\n- Léa & Mathilde Bière\nIf you cannot wait Saturday to have awesome beers at @bxlbeerfest\, come to party this Friday at Brasserie Surréaliste !\nAnd don't forget to book your tickets to join us @bxlbeerfest for this legendary week-end. We'll have some special beers tooo!\n---> https://www.facebook.com/BXLBeerFest
URL:https://beer.be/agenda/les-intenables-x-zichovec-tap-take-over/
LOCATION:Brasserie Surréaliste\, Place du Nouveau Marché aux Grains 22-23\, Bruxelles\, 1000\, Belgique
CATEGORIES:Tap Takeover
ATTACH;FMTTYPE=image/jpeg:https://beer.be/wp-content/uploads/2022/08/298414513_1166583877255978_8282444895825441255_n.jpg
END:VEVENT
BEGIN:VEVENT
DTSTART;VALUE=DATE:20220826
DTEND;VALUE=DATE:20220827
DTSTAMP:20260420T085329
CREATED:20220817T050947Z
LAST-MODIFIED:20220817T051048Z
UID:21122-1661472000-1661558399@beer.be
SUMMARY:“De Kromme Haring” – Meet the Brewer & Big Tasting
DESCRIPTION:A l’occasion de la ‘Belgium Beer Week’ organisée avec ‘Beer Idiots’\, nous vous proposons une soirée spéciale « Kromme Haring » au bar du Craft Beer Market le vendredi 26 août 2022.\nGijs\, l’un des brasseurs de la brasserie d’Utrecht nous fera le plaisir d’être de la partie.\nNous avons prévu une magnifique sélection de leurs bières que nous nous ferons un plaisir de vous faire découvrir. IPA’s\, saisons\, sours\, porters\, stouts\, etc. Il y en aura pour tous les goûts !\nCela fait de nombreuses années que nous vous proposons leurs créations que nous aimons tout particulièrement et il était plus que temps d’organiser un évènement ensemble !\nEnvie d’être de la partie ? Bloquez la date\, ça en vaut la peine !\nGezondheid !
URL:https://beer.be/agenda/de-kromme-haring-meet-the-brewer-big-tasting/
LOCATION:Beer Market Namur\, 30 Chaussée de Waterloo\, Namur\, 5002\, Belgique
CATEGORIES:Tap Takeover
ATTACH;FMTTYPE=image/jpeg:https://beer.be/wp-content/uploads/2022/08/299045251_495846672543201_1016553162877747595_n-scaled.jpg
END:VEVENT
BEGIN:VEVENT
DTSTART;VALUE=DATE:20220826
DTEND;VALUE=DATE:20220829
DTSTAMP:20260420T085329
CREATED:20220824T044143Z
LAST-MODIFIED:20220824T044143Z
UID:21183-1661472000-1661731199@beer.be
SUMMARY:FINBACK TTO\, Brooklyn\, NY
DESCRIPTION:Here we go for the BXL BeerFest Weekend side event. Let's release some bangers from Finback - NY \nBQE Double Barrel 2021 - BA Imperial Stout in Bourbon & Rye Barrels with Cacao Nibs and Coffee\n(4.572 / 5)\nYOU'RE NOT READY FOR THIS\nCrispy Town - Pilsner with Tettnanger\, Saaz & Motueka\n(3.802/5)\nOscillation 030 - New England DIPA DDH with Simcoe\, Mosaic\, Zappa\, Nelson Sauvin & Strata\n(4.164/5)\nRolling In Clouds - New England IPA\n(4.112/5)\nSmooth Beats Miami - New England IPA with Coconut and Dry Hopped with Equinox\, El Dorado & Zythos collab with J. Wakefield\n(4.025/5)\nWhale Parking - New England DIPA DDH with Nelson\, Motueka\, Kohatu\, Rakau & Wai-iti collab with NorthPark\n(4.213/5)\nFfarmhouse: Blend 2 - Mixed Culture Farmhouse ale with Brettanomyces\n(4.155/5)\nWe also have more beers in cans\, and 5 in bottles (4 sours + 1 cider)
URL:https://beer.be/agenda/finback-tto-brooklyn-ny/
LOCATION:Beergium Bar\, 1227 Chaussée de Waterloo\, Bruxelles\, 1180\, Belgique
CATEGORIES:Tap Takeover
ATTACH;FMTTYPE=image/jpeg:https://beer.be/wp-content/uploads/2022/08/300952238_3320452388191862_1399208207773839556_n.jpg
END:VEVENT
END:VCALENDAR