BEGIN:VCALENDAR
VERSION:2.0
PRODID:-//Beer.be - ECPv6.15.20//NONSGML v1.0//EN
CALSCALE:GREGORIAN
METHOD:PUBLISH
X-ORIGINAL-URL:https://beer.be
X-WR-CALDESC:Évènements pour Beer.be
REFRESH-INTERVAL;VALUE=DURATION:PT1H
X-Robots-Tag:noindex
X-PUBLISHED-TTL:PT1H
BEGIN:VTIMEZONE
TZID:Europe/Brussels
BEGIN:DAYLIGHT
TZOFFSETFROM:+0100
TZOFFSETTO:+0200
TZNAME:CEST
DTSTART:20220327T010000
END:DAYLIGHT
BEGIN:STANDARD
TZOFFSETFROM:+0200
TZOFFSETTO:+0100
TZNAME:CET
DTSTART:20221030T010000
END:STANDARD
BEGIN:DAYLIGHT
TZOFFSETFROM:+0100
TZOFFSETTO:+0200
TZNAME:CEST
DTSTART:20230326T010000
END:DAYLIGHT
BEGIN:STANDARD
TZOFFSETFROM:+0200
TZOFFSETTO:+0100
TZNAME:CET
DTSTART:20231029T010000
END:STANDARD
BEGIN:DAYLIGHT
TZOFFSETFROM:+0100
TZOFFSETTO:+0200
TZNAME:CEST
DTSTART:20240331T010000
END:DAYLIGHT
BEGIN:STANDARD
TZOFFSETFROM:+0200
TZOFFSETTO:+0100
TZNAME:CET
DTSTART:20241027T010000
END:STANDARD
END:VTIMEZONE
BEGIN:VEVENT
DTSTART;VALUE=DATE:20230407
DTEND;VALUE=DATE:20230408
DTSTAMP:20260419T183427
CREATED:20230406T145139Z
LAST-MODIFIED:20230406T145139Z
UID:22897-1680825600-1680911999@beer.be
SUMMARY:Tap Take Over brouwerij HOPPUG
DESCRIPTION:Stijn en Kim startten in 2020 in Meerhout\, (bij Geel) met hun brouwerij. Ze brouwen in een ketel van 150 liter hun bieren\, waarbij ze het experiment niet schuwen: stijf gehopt\, zuur\, barrel-aged\, cider... alles lijken ze aan te kunnen.\nIdeale partners voor een tap-take-over dus.\nKom ze ontmoeten en hun bieren proeven !
URL:https://beer.be/agenda/tap-take-over-brouwerij-hoppug/
LOCATION:Brouwerij de HopHemel\, Bampslaan 21\, Hasselt\, Belgique
CATEGORIES:Tap Takeover
ATTACH;FMTTYPE=image/jpeg:https://beer.be/wp-content/uploads/2023/04/339125876_211711448133734_854097480589425283_n.jpg
END:VEVENT
BEGIN:VEVENT
DTSTART;VALUE=DATE:20230421
DTEND;VALUE=DATE:20230423
DTSTAMP:20260419T183427
CREATED:20230313T115020Z
LAST-MODIFIED:20230313T115020Z
UID:22732-1682035200-1682207999@beer.be
SUMMARY:BELGIAN CRAFT WEEKEND
DESCRIPTION:For the third year in a row\, we keep our Belgian Craft Weekend tradition alive!\nShowcasing the passion and craftsmanship of our country's outstanding craft brewers.\n Superb Belgian Craft beers on draft from La Source\, Uncharted\, Misery & more...\n BY THE GLASS\nWe'll provide beer fans the chance to try a selection of unique (vintage) Belgian beers by the glass from\nAntidoot\, Cantillon\, 3 Fonteinen\, Bofkont\, Bokke\, Vermeersch\, Pellicle\, and more.\nGood beers & good vibes in the center of Leuven.
URL:https://beer.be/agenda/belgian-craft-weekend/
LOCATION:Hops 'N More\, Parijsstraat 27\, Leuven\, 3000\, BE
CATEGORIES:Tap Takeover
ATTACH;FMTTYPE=image/jpeg:https://beer.be/wp-content/uploads/2023/03/335071266_5594722997306024_8079266417908197613_n.jpg
END:VEVENT
END:VCALENDAR