BEGIN:VCALENDAR
VERSION:2.0
PRODID:-//Beer.be - ECPv6.15.20//NONSGML v1.0//EN
CALSCALE:GREGORIAN
METHOD:PUBLISH
X-ORIGINAL-URL:https://beer.be
X-WR-CALDESC:Évènements pour Beer.be
REFRESH-INTERVAL;VALUE=DURATION:PT1H
X-Robots-Tag:noindex
X-PUBLISHED-TTL:PT1H
BEGIN:VTIMEZONE
TZID:Europe/Brussels
BEGIN:DAYLIGHT
TZOFFSETFROM:+0100
TZOFFSETTO:+0200
TZNAME:CEST
DTSTART:20220327T010000
END:DAYLIGHT
BEGIN:STANDARD
TZOFFSETFROM:+0200
TZOFFSETTO:+0100
TZNAME:CET
DTSTART:20221030T010000
END:STANDARD
BEGIN:DAYLIGHT
TZOFFSETFROM:+0100
TZOFFSETTO:+0200
TZNAME:CEST
DTSTART:20230326T010000
END:DAYLIGHT
BEGIN:STANDARD
TZOFFSETFROM:+0200
TZOFFSETTO:+0100
TZNAME:CET
DTSTART:20231029T010000
END:STANDARD
BEGIN:DAYLIGHT
TZOFFSETFROM:+0100
TZOFFSETTO:+0200
TZNAME:CEST
DTSTART:20240331T010000
END:DAYLIGHT
BEGIN:STANDARD
TZOFFSETFROM:+0200
TZOFFSETTO:+0100
TZNAME:CET
DTSTART:20241027T010000
END:STANDARD
END:VTIMEZONE
BEGIN:VEVENT
DTSTART;VALUE=DATE:20230505
DTEND;VALUE=DATE:20230506
DTSTAMP:20260419T164253
CREATED:20230424T105235Z
LAST-MODIFIED:20230424T105235Z
UID:23082-1683244800-1683331199@beer.be
SUMMARY:Atelier Constant-Berger TTO
DESCRIPTION:L'Atelier Constant-Berger sera au manoir pour la release de notre première collaboration. Ils ouvriront dignement la terrasse et seront présents pour vous faire découvrir leurs productions 100% locales de variétés haute tige distillées ou fermentées en fût\, en bouteille et en can...\nAdeline et Léandre ont créé l'Atelier Constant-Berger pour mettre en valeur les meilleurs fruits du plateau de Herve grâce à des partenariats avec de petits producteurs aussi passionnés qu'eux par la qualité des produits.\nOn a hâte de recevoir nos amis
URL:https://beer.be/agenda/atelier-constant-berger-tto/
LOCATION:Misery Beer Co.\, Pouhon 22\, Aywaille\, Belgique
CATEGORIES:Tap Takeover
ATTACH;FMTTYPE=image/jpeg:https://beer.be/wp-content/uploads/2023/04/341520040_229777209643424_7935551165506730581_n.jpg
END:VEVENT
BEGIN:VEVENT
DTSTART;VALUE=DATE:20230505
DTEND;VALUE=DATE:20230508
DTSTAMP:20260419T164253
CREATED:20230503T094312Z
LAST-MODIFIED:20230503T094312Z
UID:23178-1683244800-1683503999@beer.be
SUMMARY:HUDSON VALLEY BREWERY WEEKEND
DESCRIPTION:In January 2023\, we had the chance to visit the beautiful New York state Hudson Valley region. One of our stops led us to Hudson Valley Brewery\, right in the center of the cozy town Beacon.\nWe've been early hour fans of the brewery\, which have been setting the bar regarding Sour IPAs since 2016.\nWe're honored and extremely excited to host a Hudson Valley Brewery weekend\, right in the center of Leuven.\nJoin us for three great days\, as we'll put some Sour IPAs on draft and more in cans. We may have some extra American surprises.\nOPEN on Sunday May 7th!\nAbout the brewery:\nAt Hudson Valley Brewery\, we like to think of our beer as the product of a wide variety of influences. Like the Hudson Valley itself\, we believe the beers we create stand somewhere between the rural and the urban\, the traditional and the modern\, the rustic and the industrial. Our brewing techniques are inspired by the brewing practices of traditional European breweries as well as the more aggressive\, experimental practices of American breweries. We brew the beer we love to drink\, which like the Hudson Valley itself\, is always changing.
URL:https://beer.be/agenda/hudson-valley-brewery-weekend/
LOCATION:Hops 'N More\, Parijsstraat 27\, Leuven\, 3000\, BE
CATEGORIES:Tap Takeover
ATTACH;FMTTYPE=image/jpeg:https://beer.be/wp-content/uploads/2023/05/329162622_592269906051515_5485971866566317385_n.jpg
END:VEVENT
BEGIN:VEVENT
DTSTART;VALUE=DATE:20230507
DTEND;VALUE=DATE:20230508
DTSTAMP:20260419T164253
CREATED:20230424T104923Z
LAST-MODIFIED:20230424T104923Z
UID:23072-1683417600-1683503999@beer.be
SUMMARY:Meet The Brewer - Sour Cellars (USA)
DESCRIPTION:Join us 7 May from 15:00-18:00 as we welcome Brian and Chintya from Sour Cellars—an amazing brewery in California\, USA focusing on Belgian inspired sour ales. You’ll have a chance to chat with them on our sunny terrace while sipping on our brand new collaboration—Thai Lime Infused Lambic.\nSour Cellars is an all-sour brewery and barrel room established in 2014. It was founded after years of experimentation with sour brewing techniques and research on sour beers. The techniques used to produce their beers are a combination of laborious and time consuming traditional Belgian methods\, combined with modern technologies to create interesting aromas and flavours. Currently their barrel room has over 300 oak barrels used for fermentation and aging.\nNo tickets required\, just show up and enjoy a few beers with us.\n\nOp 7 mei van 15u tot 18u verwelkomen we Brian en Chintya van Sour Cellars - een bevriende brouwerij in Californië\, VS die zich richt op Belgisch geïnspireerde Sour Ales. Je krijgt de kans om met hen te praten op ons zonnig terras terwijl je nipt van onze gloednieuwe samenwerking -Thai Lime Infused Lambic.\nSour Cellars focust volledig op Sour Ales en is opgericht in 2014. De brouwerij/stekerij werd opgestart na jaren van experimenteren met zure brouwtechnieken en onderzoek naar zure bieren. De technieken die gebruikt worden om hun bieren te produceren zijn een combinatie van manuele en tijdrovende traditionele Belgische methoden\, gecombineerd met moderne technologieën om interessantere aroma's en smaken te creëren. Momenteel heeft hun vatenkamer meer dan 300 eikenhouten vaten die worden gebruikt voor gisting en rijping.\nGeen tickets nodig\, kom gewoon langs en geniet mee van een paar biertjes.
URL:https://beer.be/agenda/meet-the-brewer-sour-cellars-usa/
LOCATION:Oud Beersel Brewery\, Beersel\, 1650\, Belgique
CATEGORIES:Tap Takeover
ATTACH;FMTTYPE=image/jpeg:https://beer.be/wp-content/uploads/2023/04/341682057_905272417223519_841425876208523218_n.jpg
END:VEVENT
BEGIN:VEVENT
DTSTART;VALUE=DATE:20230511
DTEND;VALUE=DATE:20230512
DTSTAMP:20260419T164253
CREATED:20230505T084513Z
LAST-MODIFIED:20230505T084513Z
UID:23193-1683763200-1683849599@beer.be
SUMMARY:Pomona Island TTO/MTB
DESCRIPTION:This month Beerlovers will do 2 Tap Takeovers. The first one is with our fiends of Pomona Island (UK). The brewer will come to the bar and he will brind 5 kegs of their super yummy beers. Expect also some beers in can. This will again a very fun and tasty evening. The curtain will raise @ 20.00h - Thursday May 11 2023. Cheers!
URL:https://beer.be/agenda/pomona-island-tto-mtb/
LOCATION:Beerlovers Bar\, Rotterdamstraat 105\, Anvers\, 2060\, Belgique
CATEGORIES:Tap Takeover
ATTACH;FMTTYPE=image/jpeg:https://beer.be/wp-content/uploads/2023/05/345045830_766755198432173_4856253151714542508_n.jpg
END:VEVENT
BEGIN:VEVENT
DTSTART;VALUE=DATE:20230517
DTEND;VALUE=DATE:20230518
DTSTAMP:20260419T164253
CREATED:20230511T124820Z
LAST-MODIFIED:20230511T124820Z
UID:23240-1684281600-1684367999@beer.be
SUMMARY:Burning SKY TTO
DESCRIPTION:Le 17 mai\, veille de l'Ascension\, nous sommes très très heureux de vous proposer plusieurs bières d'une brasserie qui compte beaucoup pour nous et que nous admirons depuis des années.\nLa Brasserie Burning Sky existe depuis 2013 et se situe au sud-est de l'Angleterre proche de la côte.\nCes réels artisans brasseurs qui revendiquent leurs influences belges réalisent des bières à la fois traditionnelles (installation en 2017 d'un coolship) et modernes dont l'équilibre nous a toujours impressionné.\nNous vous proposerons donc 5 bières qui illustrent à merveille leur travail.\nOn se réjouit de vous faire découvrir ou redécouvrir tout ça !
URL:https://beer.be/agenda/burning-sky-tto/
LOCATION:L'Ermitage Saint-Gilles\, 34 rue de Moscou\, Bruxelles\, 1060\, Belgique
CATEGORIES:Tap Takeover
ATTACH;FMTTYPE=image/jpeg:https://beer.be/wp-content/uploads/2023/05/346086547_6597588950252886_7169629776682279705_n.jpg
END:VEVENT
BEGIN:VEVENT
DTSTART;VALUE=DATE:20230519
DTEND;VALUE=DATE:20230520
DTSTAMP:20260419T164253
CREATED:20230414T134313Z
LAST-MODIFIED:20230414T134313Z
UID:23011-1684454400-1684540799@beer.be
SUMMARY:HESPEBAY TAP TAKE-OVER
DESCRIPTION:A second prologue to the Leuven Innovation Beerfestival.\nMeet the brewers of French brewery Hespebay during our tap take-over. Six beers showcasing this young brewery. Again a totally different selection than that of the festival.\n\nLINE-UP:\nBatignolle - pale ale\nOcean Bey - seabuckthorn & smoked salt gose\nLiquide Diction - saison d'assemblage\nBrume Kong - roasted rye dubbel\nHoppy Grisette\nBière de Garde
URL:https://beer.be/agenda/hespebay-tap-take-over/
LOCATION:Malz\, Brusselsestraat 51\, Leuven\, 3000\, Belgique
CATEGORIES:Tap Takeover
ATTACH;FMTTYPE=image/jpeg:https://beer.be/wp-content/uploads/2023/04/340571050_771622874548065_1002737596184376833_n.jpg
END:VEVENT
BEGIN:VEVENT
DTSTART;VALUE=DATE:20230519
DTEND;VALUE=DATE:20230520
DTSTAMP:20260419T164253
CREATED:20230427T052115Z
LAST-MODIFIED:20230427T052115Z
UID:23125-1684454400-1684540799@beer.be
SUMMARY:TTO Whiplash
DESCRIPTION:On friday the 19th of May we will be making a collab with Whiplash from Ireland. To celebrate this we will be having a Tap Take Over with 6 of their beers.\nEvent starts at 18:00 GMT+1.\nSee you then!
URL:https://beer.be/agenda/tto-whiplash/
LOCATION:DOK Brewing Company\, 4B Dok Noord\, Gent\, 9000\, Belgique
CATEGORIES:Tap Takeover
ATTACH;FMTTYPE=image/jpeg:https://beer.be/wp-content/uploads/2023/04/343166671_6105906809525197_799388181374340209_n.jpg
END:VEVENT
END:VCALENDAR