BEGIN:VCALENDAR
VERSION:2.0
PRODID:-//Beer.be - ECPv6.15.20//NONSGML v1.0//EN
CALSCALE:GREGORIAN
METHOD:PUBLISH
X-ORIGINAL-URL:https://beer.be
X-WR-CALDESC:Évènements pour Beer.be
REFRESH-INTERVAL;VALUE=DURATION:PT1H
X-Robots-Tag:noindex
X-PUBLISHED-TTL:PT1H
BEGIN:VTIMEZONE
TZID:Europe/Brussels
BEGIN:DAYLIGHT
TZOFFSETFROM:+0100
TZOFFSETTO:+0200
TZNAME:CEST
DTSTART:20220327T010000
END:DAYLIGHT
BEGIN:STANDARD
TZOFFSETFROM:+0200
TZOFFSETTO:+0100
TZNAME:CET
DTSTART:20221030T010000
END:STANDARD
BEGIN:DAYLIGHT
TZOFFSETFROM:+0100
TZOFFSETTO:+0200
TZNAME:CEST
DTSTART:20230326T010000
END:DAYLIGHT
BEGIN:STANDARD
TZOFFSETFROM:+0200
TZOFFSETTO:+0100
TZNAME:CET
DTSTART:20231029T010000
END:STANDARD
BEGIN:DAYLIGHT
TZOFFSETFROM:+0100
TZOFFSETTO:+0200
TZNAME:CEST
DTSTART:20240331T010000
END:DAYLIGHT
BEGIN:STANDARD
TZOFFSETFROM:+0200
TZOFFSETTO:+0100
TZNAME:CET
DTSTART:20241027T010000
END:STANDARD
END:VTIMEZONE
BEGIN:VEVENT
DTSTART;VALUE=DATE:20230602
DTEND;VALUE=DATE:20230603
DTSTAMP:20260419T151425
CREATED:20230508T073918Z
LAST-MODIFIED:20230508T073918Z
UID:23208-1685664000-1685750399@beer.be
SUMMARY:FUERST WIACEK ANNIVERSARY WEEKEND
DESCRIPTION:Our beloved friends of Fuerst Wiacek (Berlin) are celebrating their anniversary with a superb set of collab beers with SOMA (Spain)\, Verdant (UK) and Finback (USA).\nBe prepared for a grand release of some tasty hoppy beers on draft and in cans!\n\nSoma collab - Mosaic Meltdown DDH IPA\nVerdant collab - Hopsicles DDH DIPA\nFinback collab - Palms Coconut IPA\n& MORE...
URL:https://beer.be/agenda/fuerst-wiacek-anniversary-weekend/
LOCATION:Hops 'N More\, Parijsstraat 27\, Leuven\, 3000\, BE
CATEGORIES:Tap Takeover
ATTACH;FMTTYPE=image/jpeg:https://beer.be/wp-content/uploads/2023/05/344570370_761766448785437_4045922807777420686_n.jpg
END:VEVENT
BEGIN:VEVENT
DTSTART;VALUE=DATE:20230606
DTEND;VALUE=DATE:20230611
DTSTAMP:20260419T151425
CREATED:20230227T054447Z
LAST-MODIFIED:20230227T054447Z
UID:22608-1686009600-1686441599@beer.be
SUMMARY:AMERICAN CRAFT WEEK
DESCRIPTION:One week long\, we'll showcase a beautiful selection of beers from the one country that started the craft beer revival: USA.\nWe'll put some fresh hops and more on draft.\nPrepare an exquisite selection of exclusive beers in cans....\nAND you will be able to sample a huge selection of exclusive BA Imperial Stouts\, Barleywines\, Farmhouse Ales and more by the glass\, which we personally brought back from our January USA Road trip.
URL:https://beer.be/agenda/american-craft-week/
LOCATION:Hops 'N More\, Parijsstraat 27\, Leuven\, 3000\, BE
CATEGORIES:Tap Takeover
ATTACH;FMTTYPE=image/jpeg:https://beer.be/wp-content/uploads/2023/02/333642400_214006444526388_6092631194774015544_n.jpg
END:VEVENT
BEGIN:VEVENT
DTSTART;VALUE=DATE:20230608
DTEND;VALUE=DATE:20230609
DTSTAMP:20260419T151425
CREATED:20230505T084600Z
LAST-MODIFIED:20230505T084600Z
UID:23196-1686182400-1686268799@beer.be
SUMMARY:BASQUELAND BREWING - MEET THE BREWER
DESCRIPTION:Super fresh Basqueland beers on draft and in cans.\nTalk beer with the brewer.\nGood vibes.\nWhat else ?\nWe will fill up some porrons for extra fun!
URL:https://beer.be/agenda/basqueland-brewing-meet-the-brewer/
LOCATION:Hops 'N More\, Parijsstraat 27\, Leuven\, 3000\, BE
CATEGORIES:Tap Takeover
ATTACH;FMTTYPE=image/jpeg:https://beer.be/wp-content/uploads/2023/05/344833819_1610329476047680_5360061043304000300_n.jpg
END:VEVENT
BEGIN:VEVENT
DTSTART;VALUE=DATE:20230615
DTEND;VALUE=DATE:20230616
DTSTAMP:20260419T151425
CREATED:20230607T055004Z
LAST-MODIFIED:20230607T055004Z
UID:23415-1686787200-1686873599@beer.be
SUMMARY:Tap Take Over par la brasserie Minne
DESCRIPTION:Ce 15 juin\, le brasseur de la brasserie Minne débarque chez Mazette le temps d'une soirée !\nAu programme: vous faire découvrir quelques unes de ses meilleures créations\, rien que ca \nC'est l'occasion de découvrir (ou re-découvir) un beau projet qui vous retournera les papilles\nA bientôt chez Mazette !\n\n\nOp 15 juni komt de brouwer van de Minne-brouwerij voor een avond naar Mazette!\nOp het programma: een kans om enkele van zijn beste creaties te ontdekken\, niet minder \nEen kans om een geweldig project te ontdekken (of herontdekken) dat je smaakpapillen op z'n kop zal zetten!\nTot binnenkort bij Mazette!
URL:https://beer.be/agenda/tap-take-over-par-la-brasserie-minne/
LOCATION:Mazette\, Place du jeu de balle 50\, Bruxelles\, 1000\, Belgique
CATEGORIES:Tap Takeover
ATTACH;FMTTYPE=image/jpeg:https://beer.be/wp-content/uploads/2023/06/350825414_2153474695043480_1358199716437920806_n.jpg
END:VEVENT
BEGIN:VEVENT
DTSTART;VALUE=DATE:20230623
DTEND;VALUE=DATE:20230624
DTSTAMP:20260419T151425
CREATED:20230609T060611Z
LAST-MODIFIED:20230609T060611Z
UID:23441-1687478400-1687564799@beer.be
SUMMARY:Brasserie Sacrilège - Tap Takeover
DESCRIPTION:Ce mois-ci on a l'honneur et le privilège de recevoir nos amis de la brasserie Montpelliéraine "Sacrilège". Cette brasserie fondée par l'équipe derrière le brewpub de la Barbote se consacre aux bières sauvages et aux fermentations mixtes. Tout ce qu'on aime !
URL:https://beer.be/agenda/brasserie-sacrilege-tap-takeover/
LOCATION:L'Ermitage Saint-Gilles\, 34 rue de Moscou\, Bruxelles\, 1060\, Belgique
CATEGORIES:Tap Takeover
ATTACH;FMTTYPE=image/jpeg:https://beer.be/wp-content/uploads/2023/06/347264185_928807478347267_1395390190114656913_n.jpg
END:VEVENT
BEGIN:VEVENT
DTSTART;VALUE=DATE:20230630
DTEND;VALUE=DATE:20230701
DTSTAMP:20260419T151425
CREATED:20230622T065628Z
LAST-MODIFIED:20230622T065628Z
UID:23546-1688083200-1688169599@beer.be
SUMMARY:TTO Brasserie Drogenbos x GIST
DESCRIPTION:It's going to rock fellows \n TTO with our friends @DrogenbosBeer at GIST bar on 30th June 
URL:https://beer.be/agenda/tto-brasserie-drogenbos-x-gist/
LOCATION:GIST\, place de la Vieille Halle aux Blés 30\, Brussels\, 1000\, BE
CATEGORIES:Tap Takeover
ATTACH;FMTTYPE=image/jpeg:https://beer.be/wp-content/uploads/2023/06/355427927_997322338268389_5432237699967206875_n.jpg
END:VEVENT
BEGIN:VEVENT
DTSTART;VALUE=DATE:20230630
DTEND;VALUE=DATE:20230701
DTSTAMP:20260419T151425
CREATED:20230628T085011Z
LAST-MODIFIED:20230628T085011Z
UID:23599-1688083200-1688169599@beer.be
SUMMARY:TTO La Source
DESCRIPTION:One of our favourite Belgian brewers will come this Friday to the bar for a Tap Takeover: La Source. They will bring 6 smashing beers\, including our wedding beer 'FLEYLAND'. Since the success of the Fleyland last year\, we asked to La Source to brew it again .\nThe curtain will rise at 20.00h!! Cheers\, and see you on Friday\, June 30!
URL:https://beer.be/agenda/tto-la-source/
LOCATION:Beerlovers Bar\, Rotterdamstraat 105\, Anvers\, 2060\, Belgique
CATEGORIES:Tap Takeover
ATTACH;FMTTYPE=image/jpeg:https://beer.be/wp-content/uploads/2023/06/347251203_701491931987706_462532638332744025_n.jpg
END:VEVENT
END:VCALENDAR