BEGIN:VCALENDAR
VERSION:2.0
PRODID:-//Beer.be - ECPv6.15.20//NONSGML v1.0//EN
CALSCALE:GREGORIAN
METHOD:PUBLISH
X-ORIGINAL-URL:https://beer.be
X-WR-CALDESC:Évènements pour Beer.be
REFRESH-INTERVAL;VALUE=DURATION:PT1H
X-Robots-Tag:noindex
X-PUBLISHED-TTL:PT1H
BEGIN:VTIMEZONE
TZID:Europe/Brussels
BEGIN:DAYLIGHT
TZOFFSETFROM:+0100
TZOFFSETTO:+0200
TZNAME:CEST
DTSTART:20180325T010000
END:DAYLIGHT
BEGIN:STANDARD
TZOFFSETFROM:+0200
TZOFFSETTO:+0100
TZNAME:CET
DTSTART:20181028T010000
END:STANDARD
BEGIN:DAYLIGHT
TZOFFSETFROM:+0100
TZOFFSETTO:+0200
TZNAME:CEST
DTSTART:20190331T010000
END:DAYLIGHT
BEGIN:STANDARD
TZOFFSETFROM:+0200
TZOFFSETTO:+0100
TZNAME:CET
DTSTART:20191027T010000
END:STANDARD
BEGIN:DAYLIGHT
TZOFFSETFROM:+0100
TZOFFSETTO:+0200
TZNAME:CEST
DTSTART:20200329T010000
END:DAYLIGHT
BEGIN:STANDARD
TZOFFSETFROM:+0200
TZOFFSETTO:+0100
TZNAME:CET
DTSTART:20201025T010000
END:STANDARD
END:VTIMEZONE
BEGIN:VEVENT
DTSTART;VALUE=DATE:20190503
DTEND;VALUE=DATE:20190504
DTSTAMP:20260420T113554
CREATED:20181218T150548Z
LAST-MODIFIED:20181218T150548Z
UID:12981-1556841600-1556927999@beer.be
SUMMARY:Alvinne's Fellowship Tap Takeover
DESCRIPTION:Alvinne turns 15 years in 2019! To celebrate this we've started a special project: Alvinne's Fellowship Of Exceptional Ales. For our anniversary we've planned a celebration tour of Tap Takeovers and Festivals. Alvinne's Fellowship Tap Takeover at Dynamo Bar de Soif in Brussels on the 3rd of May. Fellows will be able to pick up their beers and have a drink with us. More fellowship packs will be for sale on site as well.
URL:https://beer.be/agenda/alvinnes-fellowship-tap-takeover/
CATEGORIES:Dynamo
END:VEVENT
END:VCALENDAR