BEGIN:VCALENDAR
VERSION:2.0
PRODID:-//Beer.be - ECPv6.15.20//NONSGML v1.0//EN
CALSCALE:GREGORIAN
METHOD:PUBLISH
X-WR-CALNAME:Beer.be
X-ORIGINAL-URL:https://beer.be
X-WR-CALDESC:Évènements pour Beer.be
REFRESH-INTERVAL;VALUE=DURATION:PT1H
X-Robots-Tag:noindex
X-PUBLISHED-TTL:PT1H
BEGIN:VTIMEZONE
TZID:Europe/Brussels
BEGIN:DAYLIGHT
TZOFFSETFROM:+0100
TZOFFSETTO:+0200
TZNAME:CEST
DTSTART:20180325T010000
END:DAYLIGHT
BEGIN:STANDARD
TZOFFSETFROM:+0200
TZOFFSETTO:+0100
TZNAME:CET
DTSTART:20181028T010000
END:STANDARD
BEGIN:DAYLIGHT
TZOFFSETFROM:+0100
TZOFFSETTO:+0200
TZNAME:CEST
DTSTART:20190331T010000
END:DAYLIGHT
BEGIN:STANDARD
TZOFFSETFROM:+0200
TZOFFSETTO:+0100
TZNAME:CET
DTSTART:20191027T010000
END:STANDARD
BEGIN:DAYLIGHT
TZOFFSETFROM:+0100
TZOFFSETTO:+0200
TZNAME:CEST
DTSTART:20200329T010000
END:DAYLIGHT
BEGIN:STANDARD
TZOFFSETFROM:+0200
TZOFFSETTO:+0100
TZNAME:CET
DTSTART:20201025T010000
END:STANDARD
END:VTIMEZONE
BEGIN:VEVENT
DTSTART;VALUE=DATE:20191109
DTEND;VALUE=DATE:20191110
DTSTAMP:20260426T022427
CREATED:20191029T103445Z
LAST-MODIFIED:20191029T103445Z
UID:14506-1573257600-1573343999@beer.be
SUMMARY:2e LambiekNacht
DESCRIPTION:Na het succes van de 1e Lambieknacht\, hebben we het afgelopen jaar weer een mooie reeks Lambiekbieren verzamelt om de 2e Lambieknacht weer even episch en verrukkelijk te maken. Verwacht volgende week een eerste lijst van Lambiekbieren die we zullen serveren. Cheers!
URL:https://beer.be/agenda/2e-lambieknacht/
LOCATION:Beerlovers Bar\, Rotterdamstraat 105\, Anvers\, 2060\, Belgique
CATEGORIES:Tap Takeover
ATTACH;FMTTYPE=image/jpeg:https://beer.be/wp-content/uploads/2019/10/72915469_1124206751303654_7428275706573881344_n.jpg
END:VEVENT
BEGIN:VEVENT
DTSTART;VALUE=DATE:20191114
DTEND;VALUE=DATE:20191115
DTSTAMP:20260426T022427
CREATED:20191112T153619Z
LAST-MODIFIED:20191112T153619Z
UID:14560-1573689600-1573775999@beer.be
SUMMARY:Gent Brouwt Total Tap Takeover
DESCRIPTION:De tofste en lekkerste brouwerijen van Gent united en ze komen samen naar de Beerlovers Bar!!! Al de 12 taps zullen bezet worden door de juweeltjes van Totem\, Dok Brewing\, L’Arogante en . Leuk weetje: Het allereerste bier dat Totem heeft gebrouwen in hum nieuwe brouwerij zal dan geproefd kunnen worden.(dit bier wordt aanstaande weekend afgevuld 😉 ). Verwacht ook nieuwe bieren van Dok en als primeur Pils 13 fresh hop 2019!!! tGaat weer yummy for the tummy worden. Cheers!!! Start om 20.00h - donderdag 14/11/2019. De brouwers zijn dan ook aanwezig
URL:https://beer.be/agenda/gent-brouwt-total-tap-takeover/
LOCATION:Beerlovers Bar\, Rotterdamstraat 105\, Anvers\, 2060\, Belgique
CATEGORIES:Tap Takeover
ATTACH;FMTTYPE=image/jpeg:https://beer.be/wp-content/uploads/2019/11/76911430_1133571333700529_8728201254389415936_n.jpg
END:VEVENT
BEGIN:VEVENT
DTSTART;VALUE=DATE:20191129
DTEND;VALUE=DATE:20191201
DTSTAMP:20260426T022427
CREATED:20191127T143722Z
LAST-MODIFIED:20191127T143722Z
UID:14689-1574985600-1575158399@beer.be
SUMMARY:Billie's Craft Beer Fest 2019
DESCRIPTION:Billie had so much fun at #BCBF2017 & #BCBF2018\, so why shouldn't he just do the whole thing over again? Billie's Craft Beer Fest 2019 is GO! After winning our second consecutive award for Best Beer Festival in Belgium\, we are full hops ahead for organizing #BCBF2019.This year we are continuing our three year old tradition by bringing 50 of the most respected and innovative brewers from all around the world\, some old\, some new. As we love our venue as much as you do\, we are having our festival at the same place\, the Waagnatie. For the beery dates we selected Friday 29th and Saturday 30th November. Our brewers will bring tales of strange brewing methods\, beverages that'll arouse your taste palates and many other mind blowing insights. For two days Antwerp will be the absolute craft beer Walhalla for beer geeks and beer enthusiasts across the globe.
URL:https://beer.be/agenda/billies-craft-beer-fest-2019/
LOCATION:Billie's Craft Beer Festival\, 150 Rijnkaai\, Anvers\, 2000\, Belgium
CATEGORIES:Festival
ATTACH;FMTTYPE=image/jpeg:https://beer.be/wp-content/uploads/2019/11/62473517_1201398906711035_2263517352052129792_o.jpg
END:VEVENT
END:VCALENDAR