BEGIN:VCALENDAR
VERSION:2.0
PRODID:-//Beer.be - ECPv6.15.20//NONSGML v1.0//EN
CALSCALE:GREGORIAN
METHOD:PUBLISH
X-WR-CALNAME:Beer.be
X-ORIGINAL-URL:https://beer.be
X-WR-CALDESC:Évènements pour Beer.be
REFRESH-INTERVAL;VALUE=DURATION:PT1H
X-Robots-Tag:noindex
X-PUBLISHED-TTL:PT1H
BEGIN:VTIMEZONE
TZID:Europe/Brussels
BEGIN:DAYLIGHT
TZOFFSETFROM:+0100
TZOFFSETTO:+0200
TZNAME:CEST
DTSTART:20180325T010000
END:DAYLIGHT
BEGIN:STANDARD
TZOFFSETFROM:+0200
TZOFFSETTO:+0100
TZNAME:CET
DTSTART:20181028T010000
END:STANDARD
BEGIN:DAYLIGHT
TZOFFSETFROM:+0100
TZOFFSETTO:+0200
TZNAME:CEST
DTSTART:20190331T010000
END:DAYLIGHT
BEGIN:STANDARD
TZOFFSETFROM:+0200
TZOFFSETTO:+0100
TZNAME:CET
DTSTART:20191027T010000
END:STANDARD
BEGIN:DAYLIGHT
TZOFFSETFROM:+0100
TZOFFSETTO:+0200
TZNAME:CEST
DTSTART:20200329T010000
END:DAYLIGHT
BEGIN:STANDARD
TZOFFSETFROM:+0200
TZOFFSETTO:+0100
TZNAME:CET
DTSTART:20201025T010000
END:STANDARD
END:VTIMEZONE
BEGIN:VEVENT
DTSTART;VALUE=DATE:20191114
DTEND;VALUE=DATE:20191115
DTSTAMP:20260424T110309
CREATED:20191105T174011Z
LAST-MODIFIED:20191105T174011Z
UID:14520-1573689600-1573775999@beer.be
SUMMARY:Apéros Libres #7 - Dégustation de la Plume\, la bière de l'UAE
DESCRIPTION:A l’occasion de la Saint-Verhaegen\, l’Union des Anciens Étudiants de l’ULB brassera chaque année sa propre bière : la Plume ! A quelques jours du 20 novembre\, ce premier brassin sera dégusté en primeur aux Apéros libres de novembre\, à la Maison des Anciens. Elle sera disponible au fut et en vente par pack de 4. En 2019\, l’UAE dédie cette mousse à Jules Bordet\, ancien étudiant de l’ULB dont il est diplômé Docteur en médecine en 1892\, à 22 ans\, avec la plus grande distinction. Professeur au sein de notre Alma Mater\, il fut Président de l'UAE jusqu'en 1919\, année où il reçut le Prix Nobel. Cette mousse honore ce double centenaire. Cette année\, les bénéfices de la vente de ce brassin seront reversés aux Amis de l'Institut Bordet pour financer la recherche contre le cancer. Cette bière a été brassée avec savoir par la Nanobrasserie de l'Ermitage\, fondée par des Anciens de l'ULB\, à d’autres la sagesse.
URL:https://beer.be/agenda/aperos-libres-7-degustation-de-la-plume-la-biere-de-luae/
LOCATION:Maison de l'UAE\, 235 boulevard du Triomphe\, Bruxelles\, Belgique
CATEGORIES:Autre
ATTACH;FMTTYPE=image/jpeg:https://beer.be/wp-content/uploads/2019/11/72684886_2938620686171499_7918197746945753088_n.jpg
END:VEVENT
END:VCALENDAR