BEGIN:VCALENDAR
VERSION:2.0
PRODID:-//Beer.be - ECPv6.15.20//NONSGML v1.0//EN
CALSCALE:GREGORIAN
METHOD:PUBLISH
X-ORIGINAL-URL:https://beer.be
X-WR-CALDESC:Évènements pour Beer.be
REFRESH-INTERVAL;VALUE=DURATION:PT1H
X-Robots-Tag:noindex
X-PUBLISHED-TTL:PT1H
BEGIN:VTIMEZONE
TZID:Europe/Brussels
BEGIN:DAYLIGHT
TZOFFSETFROM:+0100
TZOFFSETTO:+0200
TZNAME:CEST
DTSTART:20180325T010000
END:DAYLIGHT
BEGIN:STANDARD
TZOFFSETFROM:+0200
TZOFFSETTO:+0100
TZNAME:CET
DTSTART:20181028T010000
END:STANDARD
BEGIN:DAYLIGHT
TZOFFSETFROM:+0100
TZOFFSETTO:+0200
TZNAME:CEST
DTSTART:20190331T010000
END:DAYLIGHT
BEGIN:STANDARD
TZOFFSETFROM:+0200
TZOFFSETTO:+0100
TZNAME:CET
DTSTART:20191027T010000
END:STANDARD
BEGIN:DAYLIGHT
TZOFFSETFROM:+0100
TZOFFSETTO:+0200
TZNAME:CEST
DTSTART:20200329T010000
END:DAYLIGHT
BEGIN:STANDARD
TZOFFSETFROM:+0200
TZOFFSETTO:+0100
TZNAME:CET
DTSTART:20201025T010000
END:STANDARD
END:VTIMEZONE
BEGIN:VEVENT
DTSTART;VALUE=DATE:20191206
DTEND;VALUE=DATE:20191208
DTSTAMP:20260424T054105
CREATED:20191105T175035Z
LAST-MODIFIED:20191105T175035Z
UID:14536-1575590400-1575763199@beer.be
SUMMARY:Atrium 1st Birthday Party
DESCRIPTION:Déjà 1 an depuis notre ouverture! Quel chemin!! Si peu de temps mais tellement d'action! Pour cet événement\, nous aurons bien évidement de la bonne musique live\, des tacos\, de la raclette et bien sûr de la bière à profusion! Réservez ce weekend dans vos agendas! Plus de détails sur les groupes dans les jours qui viennent...
URL:https://beer.be/agenda/atrium-1st-birthday-party/
LOCATION:Brasserie Atrium\, 9 rue des Brasseurs\, Marche-en-Famenne\, 6900\, Belgique
CATEGORIES:Brasserie
ATTACH;FMTTYPE=image/jpeg:https://beer.be/wp-content/uploads/2019/11/73144910_772741906511275_8466151448390926336_o.jpg
END:VEVENT
END:VCALENDAR