BEGIN:VCALENDAR
VERSION:2.0
PRODID:-//Beer.be - ECPv6.15.20//NONSGML v1.0//EN
CALSCALE:GREGORIAN
METHOD:PUBLISH
X-ORIGINAL-URL:https://beer.be
X-WR-CALDESC:Évènements pour Beer.be
REFRESH-INTERVAL;VALUE=DURATION:PT1H
X-Robots-Tag:noindex
X-PUBLISHED-TTL:PT1H
BEGIN:VTIMEZONE
TZID:Europe/Brussels
BEGIN:DAYLIGHT
TZOFFSETFROM:+0100
TZOFFSETTO:+0200
TZNAME:CEST
DTSTART:20200329T010000
END:DAYLIGHT
BEGIN:STANDARD
TZOFFSETFROM:+0200
TZOFFSETTO:+0100
TZNAME:CET
DTSTART:20201025T010000
END:STANDARD
BEGIN:DAYLIGHT
TZOFFSETFROM:+0100
TZOFFSETTO:+0200
TZNAME:CEST
DTSTART:20210328T010000
END:DAYLIGHT
BEGIN:STANDARD
TZOFFSETFROM:+0200
TZOFFSETTO:+0100
TZNAME:CET
DTSTART:20211031T010000
END:STANDARD
BEGIN:DAYLIGHT
TZOFFSETFROM:+0100
TZOFFSETTO:+0200
TZNAME:CEST
DTSTART:20220327T010000
END:DAYLIGHT
BEGIN:STANDARD
TZOFFSETFROM:+0200
TZOFFSETTO:+0100
TZNAME:CET
DTSTART:20221030T010000
END:STANDARD
END:VTIMEZONE
BEGIN:VEVENT
DTSTART;VALUE=DATE:20210901
DTEND;VALUE=DATE:20210902
DTSTAMP:20260424T171131
CREATED:20210901T072049Z
LAST-MODIFIED:20210901T072049Z
UID:17449-1630454400-1630540799@beer.be
SUMMARY:BBP Bailli // Piggy Brewing TTO
DESCRIPTION:A new month\, a new tap takeover! This time we have the crazy guys from PIGGY BREWING from Lorraine\, France\, in the house! No less than 15! different beers on tap for you to enjoy on our terrace with a nice pizza... Come & discover!\n- Pick Me Up - 4.5% American Pale Ale\n- Session Trip - 4.8% Petite NEIPA\n- Carte Blanche - 5% American Wheat Ale\n- Big in Japan - 5.7% Quetsche Gose\n- Mango Jam. - 6% Mango Sour\n- Eroica - 6.1% NEIPA\n- L'heure Noire - 7% Stout\n- El Jefe - 8% Double NEIPA Single Hop Citra\n- Imago - 8% Double NEIPA Citra\, Talus & Sabro\n- 630 Express - 8% Double NEIPA Citra & HBC 630\n- Galaxy Cartel - 8.2% Double NEIPA Galaxy & Citra\n- Lacrima de Oro - 10% Triple NEIPA Mosaic & Sabro\n- Azè Cabana - 10% Triple NEIPA Simcoe\, Idaho 7 & Talu\n- Monstruous - 12% "Mexican Cake". Imperial Oatmeal Stout café-cacao-vanille-piment\n- Casa Nera - 12% B.A. Imperial Stout 12%
URL:https://beer.be/agenda/bbp-bailli-piggy-brewing-tto/
LOCATION:BBP Bailli\, 1 rue du Bailly\, Bruxelles\, 1000\, Belgique
CATEGORIES:Tap Takeover
ATTACH;FMTTYPE=image/jpeg:https://beer.be/wp-content/uploads/2021/09/240593550_166962915548158_8282855334548075897_n.jpg
END:VEVENT
END:VCALENDAR