BEGIN:VCALENDAR
VERSION:2.0
PRODID:-//Beer.be - ECPv6.15.20//NONSGML v1.0//EN
CALSCALE:GREGORIAN
METHOD:PUBLISH
X-ORIGINAL-URL:https://beer.be
X-WR-CALDESC:Évènements pour Beer.be
REFRESH-INTERVAL;VALUE=DURATION:PT1H
X-Robots-Tag:noindex
X-PUBLISHED-TTL:PT1H
BEGIN:VTIMEZONE
TZID:Europe/Brussels
BEGIN:DAYLIGHT
TZOFFSETFROM:+0100
TZOFFSETTO:+0200
TZNAME:CEST
DTSTART:20190331T010000
END:DAYLIGHT
BEGIN:STANDARD
TZOFFSETFROM:+0200
TZOFFSETTO:+0100
TZNAME:CET
DTSTART:20191027T010000
END:STANDARD
BEGIN:DAYLIGHT
TZOFFSETFROM:+0100
TZOFFSETTO:+0200
TZNAME:CEST
DTSTART:20200329T010000
END:DAYLIGHT
BEGIN:STANDARD
TZOFFSETFROM:+0200
TZOFFSETTO:+0100
TZNAME:CET
DTSTART:20201025T010000
END:STANDARD
BEGIN:DAYLIGHT
TZOFFSETFROM:+0100
TZOFFSETTO:+0200
TZNAME:CEST
DTSTART:20210328T010000
END:DAYLIGHT
BEGIN:STANDARD
TZOFFSETFROM:+0200
TZOFFSETTO:+0100
TZNAME:CET
DTSTART:20211031T010000
END:STANDARD
END:VTIMEZONE
BEGIN:VEVENT
DTSTART;VALUE=DATE:20200704
DTEND;VALUE=DATE:20200705
DTSTAMP:20260423T194648
CREATED:20200626T182425Z
LAST-MODIFIED:20200626T182425Z
UID:15424-1593820800-1593907199@beer.be
SUMMARY:4th July Bottle Club ! Usa & Beer
DESCRIPTION:LOCKDOWN IS OVER\, EFP BOTTLE CLUB IS BACK! You have some incredible bottles\, and don't know who you could try these with? A bottle is just too big for you\, and you don't want to waste half of it? You are looking for some people to witness how amazing a beer is? Here comes the bottle club!!!!This time to celebrate America's Independence Day\, the Bottle club will be about BEER\, AMERICA and INDEPENDENCE!!! Bring any beer that can be linked to the topic ! Come with a 66cl or 75cl bottle (or 2 x 33cl) from your collection\, introduce it to the attendees\, and share the love! This club is\, of course\, free to attend\, and everybody is welcome. Don't hesitate to invite your friends or family. Save the date\, and see you soon for some new hoppy adventures! 😉
URL:https://beer.be/agenda/4th-july-bottle-club-usa-beer/
LOCATION:Brewdog\, Putterij 20\, Brussels\, 1000\, Belgique
CATEGORIES:Autre
ATTACH;FMTTYPE=image/jpeg:https://beer.be/wp-content/uploads/2020/06/105927504_1940824342714316_5462613590654576484_n.jpg
END:VEVENT
BEGIN:VEVENT
DTSTART;VALUE=DATE:20200710
DTEND;VALUE=DATE:20200713
DTSTAMP:20260423T194648
CREATED:20200714T162709Z
LAST-MODIFIED:20200714T162709Z
UID:15454-1594339200-1594598399@beer.be
SUMMARY:Russia vs Sweden : Zagovor Vs Stigbergets Weekend
DESCRIPTION:We'll be hosting a hazy battle between Russia 🇷🇺 and Sweden 🇸🇪 🍺🍺🍺 \n5 top notch hoppy beers will be tapped: \nZagovor - Soulmate 6\,5% Ipa\nZagovor - Coolshruggie 9\,5% Triple Neipa\nZagovor - Hazy Leaks 6\,7% Ipa\nStigbergets - Mistlur 7\,5% Neipa\nStigbergets - Amazing haze 6\,5% Neipa \nWho wins? You decide! 🍻🍻🍻💪💪💪
URL:https://beer.be/agenda/russia-vs-sweden-zagovor-vs-stigbergets-weekend/
LOCATION:Beergium Bar\, 1227 Chaussée de Waterloo\, Bruxelles\, 1180\, Belgique
CATEGORIES:Tap Takeover
ATTACH;FMTTYPE=image/jpeg:https://beer.be/wp-content/uploads/2020/07/106914157_2711224555781318_5244373699380756079_o.jpg
END:VEVENT
BEGIN:VEVENT
DTSTART;VALUE=DATE:20200724
DTEND;VALUE=DATE:20200725
DTSTAMP:20260423T194648
CREATED:20200714T164342Z
LAST-MODIFIED:20200714T164342Z
UID:15461-1595548800-1595635199@beer.be
SUMMARY:Meet The Brewer - Dry & Bitter (DK)
DESCRIPTION:Join us for a summer night around Dry & Bitter\, one of the leading craft brewery in Denmark and Europe. There will be 8 of their brews on tap and 16 different beers in cans to take home or drink in! And the brewer is travelling all the way from Copenhagen to be with us that weekend. \nTaplist:\n1) Christian Bale Ale - Session IPA\n2) Dank & Juicy - IPA\n3) Chromodome - West Coast IPA\n4) Interstratal Abyss - DDH IPA with Strata & Idaho-7\n5) Earthscraper - DDH IPA with Galaxy\n6) Double Dippy Doo - Double IPA\n7) Nitrojar - Dry Stout on Nitro\n8) Undulate V4 - Cherry Porter \nCans:\n1) White Rabbit - Pilsner\n2) Christian Bale Ale - Session IPA\n3) Phase Curve - Session IPA\n4) Flea for All - New Zealand Pale Ale\n5) Dank & Juicy - IPA\n6) Vague Vessel – IPA\n7) Things Ain't What They Used To Be - IPA\n8) Green C's - IPA\n9) UW - IPA\n10) Astral Sabbatical - IPA\n11) Interstratal Abyss - DDH IPA with Strata Idaho-7\n12) Earthscraper - DDH IPA Galaxy\n13) Great Gig In The Sky – Double IPA\n14) Double Dippy Doo – Double IPA\n15) Traverse The Polyverse - DDH Double IPA\n16) Undulate V5 - Coffee\, Chocolate\, Orange Porter
URL:https://beer.be/agenda/meet-the-brewer-dry-bitter-dk/
CATEGORIES:Dynamo
ATTACH;FMTTYPE=image/jpeg:https://beer.be/wp-content/uploads/2020/07/107872011_2922028764562926_245068267701704788_o.jpg
END:VEVENT
BEGIN:VEVENT
DTSTART;VALUE=DATE:20200731
DTEND;VALUE=DATE:20200801
DTSTAMP:20260423T194648
CREATED:20200714T162908Z
LAST-MODIFIED:20200714T162908Z
UID:15457-1596153600-1596239999@beer.be
SUMMARY:Brasserie de la Goutte d'or - Tap Take Over
DESCRIPTION:Pour ce premier tap take over post confinement\, nous recevons nos amis parisiens à l'accent québécois\, la brasserie de la Goutte d'or. Une belle sélection de leurs bières en provenance directe de la brasserie sera disponible au fut. La liste suivra très bientôt.
URL:https://beer.be/agenda/brasserie-de-la-goutte-dor-tap-take-over/
LOCATION:L'Ermitage Saint-Gilles\, 34 rue de Moscou\, Bruxelles\, 1060\, Belgique
CATEGORIES:Tap Takeover
ATTACH;FMTTYPE=image/jpeg:https://beer.be/wp-content/uploads/2020/07/107963405_277434497036015_6680077955162988876_o.jpg
END:VEVENT
BEGIN:VEVENT
DTSTART;VALUE=DATE:20200731
DTEND;VALUE=DATE:20200801
DTSTAMP:20260423T194648
CREATED:20200720T104233Z
LAST-MODIFIED:20200720T104233Z
UID:15468-1596153600-1596239999@beer.be
SUMMARY:3 Fonteinen Tasting Round 2
DESCRIPTION:Here we go for another round of 3 Fonteinen bottles tasting!!! 🍾🍾🍾🍺🍺 This round will feature: \n-3 Fonteinen Speling VII. X Pruim\n-3 Fonteinen Speling VII. XI Cassis\n-3 Fonteinen Speling VII. XII Zoete Kers\n-3 Fonteinen Speling VII. XIII Rabarber\n-3 Fonteinen Golden Doesjel 2012\n10cl taster 7€\n-3 Fonteinen Hommage blend n°28\n10cl taster 6€\n-3 Fonteinen Hommage 2013 Vintage\n10cl taster 10€
URL:https://beer.be/agenda/3-fonteinen-tasting-round-2/
LOCATION:Beergium Bar\, 1227 Chaussée de Waterloo\, Bruxelles\, 1180\, Belgique
CATEGORIES:Dégustation
ATTACH;FMTTYPE=image/jpeg:https://beer.be/wp-content/uploads/2020/07/109937677_2721140421456398_7974705478125078641_n.jpg
END:VEVENT
END:VCALENDAR