BEGIN:VCALENDAR
VERSION:2.0
PRODID:-//Beer.be - ECPv6.15.20//NONSGML v1.0//EN
CALSCALE:GREGORIAN
METHOD:PUBLISH
X-ORIGINAL-URL:https://beer.be
X-WR-CALDESC:Évènements pour Beer.be
REFRESH-INTERVAL;VALUE=DURATION:PT1H
X-Robots-Tag:noindex
X-PUBLISHED-TTL:PT1H
BEGIN:VTIMEZONE
TZID:Europe/Brussels
BEGIN:DAYLIGHT
TZOFFSETFROM:+0100
TZOFFSETTO:+0200
TZNAME:CEST
DTSTART:20190331T010000
END:DAYLIGHT
BEGIN:STANDARD
TZOFFSETFROM:+0200
TZOFFSETTO:+0100
TZNAME:CET
DTSTART:20191027T010000
END:STANDARD
BEGIN:DAYLIGHT
TZOFFSETFROM:+0100
TZOFFSETTO:+0200
TZNAME:CEST
DTSTART:20200329T010000
END:DAYLIGHT
BEGIN:STANDARD
TZOFFSETFROM:+0200
TZOFFSETTO:+0100
TZNAME:CET
DTSTART:20201025T010000
END:STANDARD
BEGIN:DAYLIGHT
TZOFFSETFROM:+0100
TZOFFSETTO:+0200
TZNAME:CEST
DTSTART:20210328T010000
END:DAYLIGHT
BEGIN:STANDARD
TZOFFSETFROM:+0200
TZOFFSETTO:+0100
TZNAME:CET
DTSTART:20211031T010000
END:STANDARD
END:VTIMEZONE
BEGIN:VEVENT
DTSTART;VALUE=DATE:20200903
DTEND;VALUE=DATE:20200904
DTSTAMP:20260423T165904
CREATED:20200902T080237Z
LAST-MODIFIED:20200902T080237Z
UID:15745-1599091200-1599177599@beer.be
SUMMARY:La Source x Le Barboteur - 1030 DES BERMUDES - Release party
DESCRIPTION:Once upon a time\, an evening at the bar...behind the scenes\, we were lost and confused as our shift went out of control: nothing was clear and everything was haze with all things ending out very strange. Unusual clients acting peculiar ways\, unconceivable\, an air dense and dark\, words of lunacy\, nothing was to be understood\, the sparkle of the air just wasn't the same and we were armless facing this uncontrollable drift. Le Capitaine as usual "tenait la barre" and Respo Juju fought throughout the long night all the way till dawn for this irresistible collapse to cease and then we flipped the curse and then...1030 des Bermudes! Come rejoice with us for the release of our new house beer beautifully and brilliantly brewed by La Source for Le Barboteur. A refreshing tales of friends for this lime and pineapple Tepache Sour! And a mountain of hotdogs to help you soak yourself up throughout the evening!
URL:https://beer.be/agenda/la-source-x-le-barboteur-1030-des-bermudes-release-party/
LOCATION:Barboteur\, 23 avenue Louis Bertrand\, Bruxelles\, Schaerbeek\, 1030\, Belgique
CATEGORIES:Barboteur
ATTACH;FMTTYPE=image/jpeg:https://beer.be/wp-content/uploads/2020/09/118762530_1583215365193835_9211368126148668526_n.jpg
END:VEVENT
BEGIN:VEVENT
DTSTART;VALUE=DATE:20200904
DTEND;VALUE=DATE:20200907
DTSTAMP:20260423T165904
CREATED:20200901T095220Z
LAST-MODIFIED:20200901T095220Z
UID:15724-1599177600-1599436799@beer.be
SUMMARY:Northern Monk (& De Moersleutel) Weekend
DESCRIPTION:Northern is back on tap at the Dynamo for the first time since... we can't remember! We've just received some specials\, super fresh for this weekend. There will also be all the new De Moersleutel\, but by the can only. \nWeather is forecasted to be good so we'll be able to make full use of the terrace and serve all of you without a problem \nTap List:\nFaith – Hazy Pale Ale\nNew World – IPA\nPatrons Project 4.07//Drew Millward: Northern Tropics – Tropical IPA\nPatrons Project 21.05//SKGN: Dream Line Forms Five – DDH IPA\nImperial Death March – Barrel Aged Imperial Stout \nCan list:\nGreat Northern Lager – Lager\nPatrons Project 23.02//Homebrew Heroes: Shepherd's Warning – Red IPA\nPatrons Project 16.04//Haze Outdoors: Bringing Yorkshire Brack – Porter\nDeath – Imperial Stout \nDe Moersleutel Can List:\nAbstract Formation – New England IPA\nConcusion – New England IPA\nOrdinary Fence – New England IPA\nCitra – New England Double IPA\nMosaic – New England Double IPA\nResonance – Coconut & Chocolate Stout\nSmeerolie Mexicake – Imperial Stout\nDouble Roast Kieni – Coffee Imperial Stout
URL:https://beer.be/agenda/northern-monk-de-moersleutel-weekend/
CATEGORIES:Dynamo
ATTACH;FMTTYPE=image/jpeg:https://beer.be/wp-content/uploads/2020/09/118762667_3059513544147780_430238904670310574_o.jpg
END:VEVENT
BEGIN:VEVENT
DTSTART;VALUE=DATE:20200918
DTEND;VALUE=DATE:20200921
DTSTAMP:20260423T165904
CREATED:20200907T061837Z
LAST-MODIFIED:20200907T061837Z
UID:15759-1600387200-1600646399@beer.be
SUMMARY:UK Weekend feat Verdant + Three Hills
DESCRIPTION:Join us for this groundbreaking English keg release!!! 🍺🍺🍺🏴󠁧󠁢󠁥󠁮󠁧󠁿🏴󠁧󠁢󠁥󠁮󠁧󠁿🏴󠁧󠁢󠁥󠁮󠁧󠁿 This weekend we'll focus on Verdant and Three Hills with stunning hop bombs! \nVerdant Taplist:\nMeshes Of The Afternoon 4\,8% Pale Ale\nCombined Whimsy 4\,7% Pale Ale with Centennial\, Chinook and Motueka\nUnfurling of the Hooks 8% DIPA with Idaho 7\, Mosaic and Simcoe\nKeep Left 8% DIPA\nNeal Gets Things Done 6\,5% IPA with Simcoe\, Citra\, Mosaic and Nelson Sauvin\nThree Hills Taplist:\nSmall Steps No. 5 3% DDH Pale Ale Citra BBC\, Mosaic BBC\, Ekuanot BBC\nIn Pursuit No. 5 6% NEIPA with Mosaic BBC\, Citra BBC and Enigma
URL:https://beer.be/agenda/uk-weekend-feat-verdant-three-hills/
LOCATION:Beergium Bar\, 1227 Chaussée de Waterloo\, Bruxelles\, 1180\, Belgique
CATEGORIES:Tap Takeover
ATTACH;FMTTYPE=image/jpeg:https://beer.be/wp-content/uploads/2020/09/119033654_2765048173732289_4432182747734101349_o.jpg
END:VEVENT
BEGIN:VEVENT
DTSTART;VALUE=DATE:20200918
DTEND;VALUE=DATE:20200921
DTSTAMP:20260423T165904
CREATED:20200915T105747Z
LAST-MODIFIED:20200915T105747Z
UID:15803-1600387200-1600646399@beer.be
SUMMARY:North Brewing Beer Weekend
DESCRIPTION:North Brewing has finally started kegging again... which means TRANSMISSION IS BACK!\nFor this occasion\, Sputnik\, Pinata and Transmssion will be at 4€/30cl all weekend. There will be other North beers on tap\, as well as a full range of cans.\nTap List: Special Pale Ale – Pale Ale\nPinata – Mango Pale Ale\nSputnik – Pale Ale\nTransmission - IPA\nStillwater Collab – Kveik IPA\nDugges Collab – Export Stout\nCan List:\nRunning in Pairs - Session IPA\nTFG Mango Passionfruit - Triple Fruited Gose\nYakima Chief - IPA\nSplit Moon - Double IPA\nParia - IPA\nRise Up (collab Naparbier) - Fruit sour Ale\nThe Leafcutter - DDH IPA\nSquareball - Session IPA
URL:https://beer.be/agenda/north-brewing-beer-weekend/
CATEGORIES:Dynamo
ATTACH;FMTTYPE=image/jpeg:https://beer.be/wp-content/uploads/2020/09/119584205_3101578376607963_7979776534371070728_o.jpg
END:VEVENT
BEGIN:VEVENT
DTSTART;VALUE=DATE:20200919
DTEND;VALUE=DATE:20200920
DTSTAMP:20260423T165904
CREATED:20200908T082738Z
LAST-MODIFIED:20200908T082738Z
UID:15773-1600473600-1600559999@beer.be
SUMMARY:Tour & Taxis Breweries Invasion
DESCRIPTION:Le quartier de Tour & Taxis devient un magnifique pôle brassicole de notre ville\, avec pas moins de 4 brasseries artisanales qui officient dans cette zone. Retrouvez les tous ensemble pour un tap take over 100% bruxellois. Chaque brasserie alignera une sélection de 3 bières pour vous offrir un aperçu de leur travail. \nAvec : \n* Brasserie de la Senne\n* En Stoemelings\n* No Science\n* La Source
URL:https://beer.be/agenda/tour-taxis-breweries-invasion/
CATEGORIES:Tap Takeover
ATTACH;FMTTYPE=image/jpeg:https://beer.be/wp-content/uploads/2020/09/118917368_319596972819767_30458984762071203_o.jpg
END:VEVENT
BEGIN:VEVENT
DTSTART;VALUE=DATE:20200925
DTEND;VALUE=DATE:20200926
DTSTAMP:20260423T165904
CREATED:20200923T054349Z
LAST-MODIFIED:20200923T054349Z
UID:15843-1600992000-1601078399@beer.be
SUMMARY:Mad Scientist & Misery Night
DESCRIPTION:When Remy from Misery drops us some kegs\, that calls for a little event. On top\, Jelle from Hops 'n More brought some new goodies from Mad Scientist\, a cool Hungarian brewery. This makes us a bit nostalgic of our massive pre-covid Eastern European Beer Weekends... Anyway\, Mad Scientist is on top of the pack in Hungary and we are very happy our Leuven friends brought them to Belgium! It will be a perfect start of the weekend.\nMisery Tap List :\nHoly Moly – Pale Ale\nHarzington – IPA\nCalifornia Love – West Coast IPA\nMad Scientist Tap List :\nJam 52 – Pale Ale\nLiquid Cocaine – Double IPA\nNew York Mocaccino\nMad Scientist Can List:\nMango Bay\nLiquid Cocaine\nNew York Mocaccino\nJam72\nFrooth Hoperator\nRákóczi Túrós\nEgomaniac Simcoe\nDouble Svart\nYour Weekend Lover\nApricot Madness\nWolfgang
URL:https://beer.be/agenda/mad-scientist-misery-night/
CATEGORIES:Dynamo
ATTACH;FMTTYPE=image/jpeg:https://beer.be/wp-content/uploads/2020/09/120013139_3122921624473638_5690880934024994756_o.jpg
END:VEVENT
BEGIN:VEVENT
DTSTART;VALUE=DATE:20200925
DTEND;VALUE=DATE:20200928
DTSTAMP:20260423T165904
CREATED:20200915T110021Z
LAST-MODIFIED:20200915T110021Z
UID:15806-1600992000-1601251199@beer.be
SUMMARY:Zwanze 2020
DESCRIPTION:Chers amoureux de lambic\, Le samedi 26 septembre\, de midi à minuit nous garantissons que la ZWANZE 2020 sera disponible. Pas de réservation nécessaire. Nos amis du Magic Land Théâtre seront bien là pour vous faire rire. Une sélection spéciale de bouteilles sera proposée. Une sélection d'au moins 20 Cantillon au fût disponible à partir du vendredi 25 septembre 16h00. Si elles sont prêtes\, vous pourrez aussi déguster les "Grolleau" et "50n". Nous espérons voir nombreux lors de ce ZWANZE DAY.
URL:https://beer.be/agenda/zwanze-2020/
LOCATION:Moeder Lambic Fontainas\, 8 place Fontainas\, Bruxelles\, Bruxelles\, 1000\, Belgique
CATEGORIES:Moeder Lambic
ATTACH;FMTTYPE=image/jpeg:https://beer.be/wp-content/uploads/2020/09/119593659_10157831969132686_1258947893816295060_o.jpg
END:VEVENT
BEGIN:VEVENT
DTSTART;VALUE=DATE:20200925
DTEND;VALUE=DATE:20200928
DTSTAMP:20260423T165904
CREATED:20200923T054222Z
LAST-MODIFIED:20200923T054222Z
UID:15840-1600992000-1601251199@beer.be
SUMMARY:OTHER HALF BREWING
DESCRIPTION:No need to introduce this brewery from NY \, stating on the TOP of the best breweries from the wrld! HOPS AT THEIR BEST! Join us for pour some World Class Release from 5 of their beers in CANS
URL:https://beer.be/agenda/other-half-brewing/
LOCATION:Beergium Bar\, 1227 Chaussée de Waterloo\, Bruxelles\, 1180\, Belgique
CATEGORIES:Tap Takeover
ATTACH;FMTTYPE=image/jpeg:https://beer.be/wp-content/uploads/2020/09/119707582_2775589112678195_3846186433430634369_n.jpg
END:VEVENT
END:VCALENDAR