BEGIN:VCALENDAR
VERSION:2.0
PRODID:-//Beer.be - ECPv6.15.20//NONSGML v1.0//EN
CALSCALE:GREGORIAN
METHOD:PUBLISH
X-ORIGINAL-URL:https://beer.be
X-WR-CALDESC:Évènements pour Beer.be
REFRESH-INTERVAL;VALUE=DURATION:PT1H
X-Robots-Tag:noindex
X-PUBLISHED-TTL:PT1H
BEGIN:VTIMEZONE
TZID:Europe/Brussels
BEGIN:DAYLIGHT
TZOFFSETFROM:+0100
TZOFFSETTO:+0200
TZNAME:CEST
DTSTART:20200329T010000
END:DAYLIGHT
BEGIN:STANDARD
TZOFFSETFROM:+0200
TZOFFSETTO:+0100
TZNAME:CET
DTSTART:20201025T010000
END:STANDARD
BEGIN:DAYLIGHT
TZOFFSETFROM:+0100
TZOFFSETTO:+0200
TZNAME:CEST
DTSTART:20210328T010000
END:DAYLIGHT
BEGIN:STANDARD
TZOFFSETFROM:+0200
TZOFFSETTO:+0100
TZNAME:CET
DTSTART:20211031T010000
END:STANDARD
BEGIN:DAYLIGHT
TZOFFSETFROM:+0100
TZOFFSETTO:+0200
TZNAME:CEST
DTSTART:20220327T010000
END:DAYLIGHT
BEGIN:STANDARD
TZOFFSETFROM:+0200
TZOFFSETTO:+0100
TZNAME:CET
DTSTART:20221030T010000
END:STANDARD
END:VTIMEZONE
BEGIN:VEVENT
DTSTART;VALUE=DATE:20210807
DTEND;VALUE=DATE:20210808
DTSTAMP:20260423T002430
CREATED:20210722T061233Z
LAST-MODIFIED:20210722T061233Z
UID:17052-1628294400-1628380799@beer.be
SUMMARY:5th Birthday Party Beerlovers Bar
DESCRIPTION:Op 24 Juni 2021 is de bar 5 jaar geworden. Dit gaan we uitgebreid vieren op zaterdag 7 augustus 2021. Speciaal voor deze verjaardag hebben we een bier laten maken door 1 van onze favoriete brouwerijen\, nl Alvinne. Dit bier\, Cuvée Cathy\, lanceren we die dag. Verwacht iets super speciaals en vooral iets super lekkers . Naast het verjaardagsbier hebben we nog tal van 'speciallekes' op tap. Zo hebben we oa al bijna 5 jaar een koffiestout laten rijpen in de kelder: Péché Mortel van Dieu du Ciel!. Verwacht ook bijzonder lekkere pareltjes van de Ranke en 't Verzet. Meer info binnenkort.
URL:https://beer.be/agenda/5th-birthday-party-beerlovers-bar/
LOCATION:Beerlovers Bar\, Rotterdamstraat 105\, Anvers\, 2060\, Belgique
CATEGORIES:Autre
ATTACH;FMTTYPE=image/jpeg:https://beer.be/wp-content/uploads/2021/07/217610512_1652326525158338_1752970952920934005_n.jpg
END:VEVENT
BEGIN:VEVENT
DTSTART;VALUE=DATE:20210813
DTEND;VALUE=DATE:20210814
DTSTAMP:20260423T002430
CREATED:20210811T052439Z
LAST-MODIFIED:20210811T052439Z
UID:17191-1628812800-1628899199@beer.be
SUMMARY:Basqueland Tap Takeover
DESCRIPTION:We've prepared you a tap takeover with one of our favourite breweries of the last year: the basque from Basqueland! We'll get them on tap for the first time\, there will obviously be some of the Double IPAs they are famous for but also some core range beers to balance the lineup.\n\nTap List:\n1) Aupa - Pale Ale\n2) Zumo - Hazy IPA\n3) Begi Haundi - Oatmeal Stout\n4) Eclipso Facto - Double IPA\n5) Kaleidoscope - New England IPA\n6) Mucho Mucho Strata - Double IPA\n7) Double Negative - Double IPA\n\nCan List:\n Feeding Frenzy\n9) Necto Cooler\n10) Buttons\n11) Somewhere in Norway\n12) Easy Breezy\n13) Ziggy Zoggy\n14) Not My First Rodeo
URL:https://beer.be/agenda/basqueland-tap-takeover/
CATEGORIES:Dynamo
ATTACH;FMTTYPE=image/jpeg:https://beer.be/wp-content/uploads/2021/08/232457708_3996098610489264_3789531859475035874_n.jpg
END:VEVENT
BEGIN:VEVENT
DTSTART;VALUE=DATE:20210814
DTEND;VALUE=DATE:20210815
DTSTAMP:20260423T002430
CREATED:20210806T090620Z
LAST-MODIFIED:20210806T090620Z
UID:17154-1628899200-1628985599@beer.be
SUMMARY:Summer Session IPA - Release party
DESCRIPTION:On espère invoquer l'été avec la sortie de cette session IPA estivale. Brassée avec le nouveau blend de houblons de chez Yakima Chief Hops "cryo pop". D'autres surprises également au fut\, et une nouvelle pizza aux saveurs de l'été pour accompagner le tout.
URL:https://beer.be/agenda/summer-session-ipa-release-party/
LOCATION:L'Ermitage Saint-Gilles\, 34 rue de Moscou\, Bruxelles\, 1060\, Belgique
CATEGORIES:Autre
ATTACH;FMTTYPE=image/jpeg:https://beer.be/wp-content/uploads/2021/08/226355954_537652974347498_178009643289661249_n.jpg
END:VEVENT
BEGIN:VEVENT
DTSTART;VALUE=DATE:20210820
DTEND;VALUE=DATE:20210821
DTSTAMP:20260423T002430
CREATED:20210806T085344Z
LAST-MODIFIED:20210806T085344Z
UID:17139-1629417600-1629503999@beer.be
SUMMARY:Kaapse Brouwers - Tap takeover
DESCRIPTION:We're super stoked to host our good friends from Kaapse Brouwers (Rotterdam) for an anthological tap takeover. They will bring super fresh beers from their state of the art new brewery. The selection will be announced very soon.
URL:https://beer.be/agenda/kaapse-brouwers-tap-takeover/
LOCATION:L'Ermitage Saint-Gilles\, 34 rue de Moscou\, Bruxelles\, 1060\, Belgique
CATEGORIES:Tap Takeover
ATTACH;FMTTYPE=image/jpeg:https://beer.be/wp-content/uploads/2021/08/228120197_539100554202740_2183748573933016126_n.jpg
END:VEVENT
BEGIN:VEVENT
DTSTART;VALUE=DATE:20210820
DTEND;VALUE=DATE:20210821
DTSTAMP:20260423T002430
CREATED:20210819T060237Z
LAST-MODIFIED:20210819T060237Z
UID:17268-1629417600-1629503999@beer.be
SUMMARY:Nepomucen TTO (18 beers) + Tokidoki reopening
DESCRIPTION:After 4 weeks of summer holiday\, our neighbours of Tokidoki are reopening for good\, which means they will provide their delicious food at Dynamo! This is a good opportunity to put one of the breweries we have worked with quite regularly over the last year in the spotlight\, Browar Nepomucen.\n\nTap List:\n1) Sparrow - Session IPA\n2) Pijze Vol 2 - Session IPA\n3) Lark - Pale Ale\n4) FAM. - West Coast IPA\n5) Ostro Kolo - IPA (Citra\, Simcoe)\n6) Dunk Like a Beast - NEIPA (talus\, idaho 7\, simcoe)\n7) Belma- Double IPA (single hop Belma)\n Maria - Berliner Weisse with Berries\n\nCan List:\n9) Forest\n10) Classic with a Twist 5 - Hoppy Grodziskie\n11) Harce\n12) Tropical Hurricane\n13) Wave Train\n14) Meet our Friends - Funky Fluid\n15) Magnificient Three: Hold it! Tribute to HBC\n16) Imperial Pijze\n17) Crazy Lines 12 - Sour to the bone\n18) Double Forest One & Only
URL:https://beer.be/agenda/nepomucen-tto-18-beers-tokidoki-reopening/
CATEGORIES:Dynamo
ATTACH;FMTTYPE=image/jpeg:https://beer.be/wp-content/uploads/2021/08/235344689_4019427094823082_8469217281478633877_n.jpg
END:VEVENT
BEGIN:VEVENT
DTSTART;VALUE=DATE:20210823
DTEND;VALUE=DATE:20210825
DTSTAMP:20260423T002430
CREATED:20210819T060638Z
LAST-MODIFIED:20210819T060638Z
UID:17274-1629676800-1629849599@beer.be
SUMMARY:Pinball + Beer
DESCRIPTION:The 80s and arcades go together like beer and cool parties. If you went from competing to reach the highest score to hosting drinking games… You’re in luck ! Indeed\, you won’t ever have to choose anymore\, now that your favourite bar got a brand new pinball machine!\nBe it to relive some childhood memories or to impress the crowd with your skills\, we’re no one to judge. Neither will this little beauty brought by High Voltage Pinball . Branded by the colours of a well-known franchise\, you’ll be able to experience the comics as if you were suddenly transformed into a turtle with very good skills in ninjutsu and teleported deep in the New York sewers.\nIndeed ! You wouldn’t think us beer afficionados would hype you up without some new beverage to quench your geeky thirst ?!\nDuring this Belgium Beer Week\, we’re going full-retro on that one ! But in true old-school fashion : it’s you against the machine. Will you conquer the leaderboard for all to see ? The real masters may get rewarded with one of our drink for their efforts in saving New York City\, caught in the clutches of Shredder and Krang ...\nCome meet us on August 23rd + 24th and find out!
URL:https://beer.be/agenda/pinball-beer/
LOCATION:Brewdog\, Putterij 20\, Brussels\, 1000\, Belgique
ATTACH;FMTTYPE=image/jpeg:https://beer.be/wp-content/uploads/2021/08/235736155_2318949018235178_9157185422599989799_n.jpg
END:VEVENT
BEGIN:VEVENT
DTSTART;VALUE=DATE:20210825
DTEND;VALUE=DATE:20210826
DTSTAMP:20260423T002430
CREATED:20210817T051112Z
LAST-MODIFIED:20210817T051112Z
UID:17246-1629849600-1629935999@beer.be
SUMMARY:Schwarze Rose (DE) Release
DESCRIPTION:Have you heard of this German upcoming brewery? \nWe'll propose 4 Cans and 1 Keg of this promising hop forward brewery \nReady for something new?
URL:https://beer.be/agenda/schwarze-rose-de-release/
LOCATION:Beergium Bar\, 1227 Chaussée de Waterloo\, Bruxelles\, 1180\, Belgique
CATEGORIES:Autre
ATTACH;FMTTYPE=image/jpeg:https://beer.be/wp-content/uploads/2021/08/236435161_3035214040049033_402581612678211657_n.jpg
END:VEVENT
BEGIN:VEVENT
DTSTART;VALUE=DATE:20210826
DTEND;VALUE=DATE:20210827
DTSTAMP:20260423T002430
CREATED:20210802T061424Z
LAST-MODIFIED:20210802T061424Z
UID:17112-1629936000-1630022399@beer.be
SUMMARY:The Belgian Beers Race Pre-Launch Party - Dynamo & Le Bar à Jeux
DESCRIPTION:Venez passer les dernières heures avant la sortie boutique du jeu en compagnie de l'équipe BYR Games.\n2 lieux\, 2 ambiances : Dynamo Bar de Soif & Le Bar à Jeux (chaussée d'Alsemberg - Saint-Gilles).\nAu programme :\n- Présentation et possibilité de jouer à The Belgian Beers Race\n- Présentation des futurs jeux BYR Games : The Festival & TBBR Dice et évidement possibilité de les tester\n- Stand merchandising TBBR\n- A minuit\, vente en exclusivité des premières boîtes Retail du jeu\n- Evidement dégustation de bières dans les 2 endroits.\n- Et quelques surprises... plus d'information prochainement.\nUn événement participant à la "Belgium Beer Week".
URL:https://beer.be/agenda/the-belgian-beers-race-pre-launch-party-dynamo-le-bar-a-jeux/
CATEGORIES:Dynamo
ATTACH;FMTTYPE=image/jpeg:https://beer.be/wp-content/uploads/2021/08/227175339_4026138667495521_5548281968734758193_n.jpg
END:VEVENT
BEGIN:VEVENT
DTSTART;VALUE=DATE:20210826
DTEND;VALUE=DATE:20210827
DTSTAMP:20260423T002430
CREATED:20210820T082940Z
LAST-MODIFIED:20210820T082940Z
UID:17298-1629936000-1630022399@beer.be
SUMMARY:Outer Range Brewing Collab Release
DESCRIPTION:Outer Range Brewing went for a European Tour this summer and a couple of very interesting collaboration were made \nWe release two of them:\nCollab with Sudden Death - Dude\, Where Are The Hops? (6\,5%) IPA with Chinook BBC\, Azacca\, Mosaic and Galaxy\nCollab with Fauve - Hors de Portée (8\,5%) DDH DIPA with Mosaic & Azacca Cryo. Only 10 kegs out of the brewery \nDelicious Peruvian Food from our friend El Cholingo will be served 
URL:https://beer.be/agenda/outer-range-brewing-collab-release/
LOCATION:Beergium Bar\, 1227 Chaussée de Waterloo\, Bruxelles\, 1180\, Belgique
CATEGORIES:Autre
ATTACH;FMTTYPE=image/jpeg:https://beer.be/wp-content/uploads/2021/08/234833518_3035223770048060_7621345852744596178_n.jpg
END:VEVENT
BEGIN:VEVENT
DTSTART;VALUE=DATE:20210827
DTEND;VALUE=DATE:20210828
DTSTAMP:20260423T002430
CREATED:20210825T050453Z
LAST-MODIFIED:20210825T050453Z
UID:17301-1630022400-1630108799@beer.be
SUMMARY:ALVINNE TTO
DESCRIPTION:2e event tijdens de Belgium Beer Week: ALVINNE is terug\, straffer en lekkerder dan tevoren. Alvinne Tap Takeover ''Vaccinated Edition'' brengt je 8 Alvinne bieren op den Tap. Een ultra yummy mix van Sour & Non Sour Ales. Vrijdag 27 Augustus om 20.00u starten we de TTO samen met 1 van de brouwers die nog maar net het Alvinne team heeft vervoegd....
URL:https://beer.be/agenda/alvinne-tto/
LOCATION:Beerlovers Bar\, Rotterdamstraat 105\, Anvers\, 2060\, Belgique
CATEGORIES:Tap Takeover
ATTACH;FMTTYPE=image/jpeg:https://beer.be/wp-content/uploads/2021/08/239903487_1675966979460959_3176017946401552497_n.jpg
END:VEVENT
BEGIN:VEVENT
DTSTART;VALUE=DATE:20210828
DTEND;VALUE=DATE:20210829
DTSTAMP:20260423T002430
CREATED:20210811T051822Z
LAST-MODIFIED:20210811T051822Z
UID:17182-1630108800-1630195199@beer.be
SUMMARY:Bottle Share Afternoon & Evening
DESCRIPTION:As part of the Belgium Beer Week\, we are organizing another bottle share event. Edition 2.0!\nThe concept is simple. Come to the shop\, bring one beer you want to share (from your favorite brewery\, homebrew\,... )\, take a seat and have a good time.\nWe are also bringing some fun beers to share:\n1. Central Waters - Anniversary Twenty Three Brandy BA - 4.46\n2. Side Project - Merci - 4.42\n3. Antidoot - Vita Brevis MAGNUM - 4.22\n4. Struise - Black Damnation V Double Black 2015 - 4.42\nAND MORE
URL:https://beer.be/agenda/bottle-share-afternoon-evening/
CATEGORIES:Autre
ATTACH;FMTTYPE=image/jpeg:https://beer.be/wp-content/uploads/2021/08/234459299_366621608391505_328735158931835630_n.jpg
END:VEVENT
BEGIN:VEVENT
DTSTART;VALUE=DATE:20210829
DTEND;VALUE=DATE:20210830
DTSTAMP:20260423T002430
CREATED:20210811T052331Z
LAST-MODIFIED:20210811T052331Z
UID:17188-1630195200-1630281599@beer.be
SUMMARY:Ermitage & Dessert : a sweet ending
DESCRIPTION:Pour clôturer cette semaine riche en émotions gustatives\, nous vous proposons une session d'associations savoureuses de desserts uniques et de bières de l'Ermitage\, en présence de la pâtissière et le tout commenté par notre trublion zythophile.\n\nInfos & réservation: hello@agalmalt.com
URL:https://beer.be/agenda/ermitage-dessert-a-sweet-ending/
LOCATION:L'Ermitage Saint-Gilles\, 34 rue de Moscou\, Bruxelles\, 1060\, Belgique
CATEGORIES:Dégustation
ATTACH;FMTTYPE=image/jpeg:https://beer.be/wp-content/uploads/2021/08/233765096_358465882389186_2494553006457129559_n.jpg
END:VEVENT
BEGIN:VEVENT
DTSTART;VALUE=DATE:20210829
DTEND;VALUE=DATE:20210830
DTSTAMP:20260423T002430
CREATED:20210819T055932Z
LAST-MODIFIED:20210819T061136Z
UID:17262-1630195200-1630281599@beer.be
SUMMARY:La Tana & Chef Simone
DESCRIPTION:Last time with La Tana was a blast!  We decided to go for another round!\nWe open our kitchen to Valerio & Chef Simone for a fish and sea food menu! \nOf course\, beer will flow 
URL:https://beer.be/agenda/la-tana-chef-simone/
LOCATION:Beergium Bar\, 1227 Chaussée de Waterloo\, Bruxelles\, 1180\, Belgique
CATEGORIES:Autre
ATTACH;FMTTYPE=image/jpeg:https://beer.be/wp-content/uploads/2021/08/235540587_3036721256564978_4593416564619579858_n.jpg
END:VEVENT
END:VCALENDAR