BEGIN:VCALENDAR
VERSION:2.0
PRODID:-//Beer.be - ECPv6.15.20//NONSGML v1.0//EN
CALSCALE:GREGORIAN
METHOD:PUBLISH
X-ORIGINAL-URL:https://beer.be
X-WR-CALDESC:Évènements pour Beer.be
REFRESH-INTERVAL;VALUE=DURATION:PT1H
X-Robots-Tag:noindex
X-PUBLISHED-TTL:PT1H
BEGIN:VTIMEZONE
TZID:Europe/Brussels
BEGIN:DAYLIGHT
TZOFFSETFROM:+0100
TZOFFSETTO:+0200
TZNAME:CEST
DTSTART:20200329T010000
END:DAYLIGHT
BEGIN:STANDARD
TZOFFSETFROM:+0200
TZOFFSETTO:+0100
TZNAME:CET
DTSTART:20201025T010000
END:STANDARD
BEGIN:DAYLIGHT
TZOFFSETFROM:+0100
TZOFFSETTO:+0200
TZNAME:CEST
DTSTART:20210328T010000
END:DAYLIGHT
BEGIN:STANDARD
TZOFFSETFROM:+0200
TZOFFSETTO:+0100
TZNAME:CET
DTSTART:20211031T010000
END:STANDARD
BEGIN:DAYLIGHT
TZOFFSETFROM:+0100
TZOFFSETTO:+0200
TZNAME:CEST
DTSTART:20220327T010000
END:DAYLIGHT
BEGIN:STANDARD
TZOFFSETFROM:+0200
TZOFFSETTO:+0100
TZNAME:CET
DTSTART:20221030T010000
END:STANDARD
END:VTIMEZONE
BEGIN:VEVENT
DTSTART;VALUE=DATE:20210903
DTEND;VALUE=DATE:20210904
DTSTAMP:20260422T224026
CREATED:20210830T125646Z
LAST-MODIFIED:20210830T125646Z
UID:17395-1630627200-1630713599@beer.be
SUMMARY:Marble Brewery Night
DESCRIPTION:This Friday we organize a night around Marble Brewery\, one of the most respected craft brewery from the North of England. If you have ever visited Manchester\, you probably had a few beers in the Marble Arch\, the pub with the sloping floor. And you must have found the beers delicious! Marble is a brewery that makes more traditional styles\, don't expect the latest Hazy Double IPA. But they make wonderful bitters\, west coast hoppy beers\, barrel aged old ales\, etc.\n\nWe will tap 9 of their beers on Friday\, here is the tap list:\n1) American Pilsener\n2) Berimbolo - Dry Hopped Blond\n3) Cross Collar - West Coast Pale Ale\n4) Lagonda - English Pale Ale\n5) Manchester Bitter\n6) Hip Escape - India Pale Lager\n7) Sky High - IPA\n8 ) Pineapple\, Cacao & Acai Imperial Stout\n9) Old Ale Amontillado - Barrel Aged Old Ale\n\nCan Menu:\n10) Arm Bar - Pale Ale\n11) Earl Grey IPA\n12) Extra Special Marble - ESB\n13) Raspberry & Quince Berliner Weisse\n14) Silly Point - IPA\n15) Stout\n16) Uppe Hela Natten Irish Whiskey - Porter\n17) Barley Wine 2020\n18) Decadence 2020 - Imperial Stout
URL:https://beer.be/agenda/marble-brewery-night/
CATEGORIES:Dynamo
ATTACH;FMTTYPE=image/jpeg:https://beer.be/wp-content/uploads/2021/08/240784174_4057447627687695_8507071771511463344_n.jpg
END:VEVENT
BEGIN:VEVENT
DTSTART;VALUE=DATE:20210909
DTEND;VALUE=DATE:20210912
DTSTAMP:20260422T224026
CREATED:20210901T054040Z
LAST-MODIFIED:20210901T054040Z
UID:17440-1631145600-1631404799@beer.be
SUMMARY:Staggeringly Good Tap Takeover
DESCRIPTION:Our friends from Staggeringly Good sent us a couple of Kegs including their new Wrecker Series \nAre you ready for Hop Bombs and crazy fruity Sours?
URL:https://beer.be/agenda/staggeringly-good-tap-takeover/
LOCATION:Beergium Bar\, 1227 Chaussée de Waterloo\, Bruxelles\, 1180\, Belgique
CATEGORIES:Tap Takeover
ATTACH;FMTTYPE=image/jpeg:https://beer.be/wp-content/uploads/2021/09/241046425_3046618895575214_3912408039123348098_n.jpg
END:VEVENT
BEGIN:VEVENT
DTSTART;VALUE=DATE:20210919
DTEND;VALUE=DATE:20210920
DTSTAMP:20260422T224026
CREATED:20210908T044208Z
LAST-MODIFIED:20210908T044208Z
UID:17589-1632009600-1632095999@beer.be
SUMMARY:Sunday Live - The Flying Platane
DESCRIPTION:The Flying Platane Selecta DJ will groove your body each 3rd Sunday of the month.
URL:https://beer.be/agenda/sunday-live-the-flying-platane/
CATEGORIES:Concert
ATTACH;FMTTYPE=image/jpeg:https://beer.be/wp-content/uploads/2021/09/241442995_320879609829830_8096704586270193881_n.jpg
END:VEVENT
BEGIN:VEVENT
DTSTART;VALUE=DATE:20210921
DTEND;VALUE=DATE:20210922
DTSTAMP:20260422T224026
CREATED:20210922T060452Z
LAST-MODIFIED:20210922T060452Z
UID:17725-1632182400-1632268799@beer.be
SUMMARY:Quiz musical
DESCRIPTION:Nouvelle activité à l'Amère à boire Saint-Gilles : le Quiz Musical !!! \nOn vous attend le mardi 21 septembre à partir de 19h30 pour que vous nous montriez toute l'étendue de vos connaissances en matière de musique.\nEn pratique : Réservation via Facebook ou sur place\, table de 8 max. Et c'"est parti\nPour vous sustenter\, on a 100  dont 15 au fût\, des Spritz\, des limonades au basilic\, des planches de fromages etc etc\nOn est impatients de vous accueillir au 20 avenue Paul DeJaer à SAINT-GILLES (pas à Ixelles\, hein\, vous trompez pas  )
URL:https://beer.be/agenda/quiz-musical/
CATEGORIES:Autre
ATTACH;FMTTYPE=image/jpeg:https://beer.be/wp-content/uploads/2021/09/242159099_400697308126225_3040844834471017603_n.jpg
END:VEVENT
BEGIN:VEVENT
DTSTART;VALUE=DATE:20210923
DTEND;VALUE=DATE:20210924
DTSTAMP:20260422T224026
CREATED:20210830T125828Z
LAST-MODIFIED:20210830T125828Z
UID:17398-1632355200-1632441599@beer.be
SUMMARY:Ārpus TTO
DESCRIPTION: think most of you are familiar with Ārpus by now. Since I'm such a big fan of them my friends from Hops 'N More in Leuven were able to invite them to Ghent! There will be 7 different beers on tap and one of the founders of the brewery will be here to have a beer/chat with!
URL:https://beer.be/agenda/arpus-tto/
LOCATION:Bar Beenhouwer\, Annonciadenstraat 4\, Gand\, 9000\, Belgique
CATEGORIES:Tap Takeover
ATTACH;FMTTYPE=image/jpeg:https://beer.be/wp-content/uploads/2021/08/240968030_981704672391555_2934146373255350333_n.jpg
END:VEVENT
BEGIN:VEVENT
DTSTART;VALUE=DATE:20210924
DTEND;VALUE=DATE:20210925
DTSTAMP:20260422T224026
CREATED:20210921T050318Z
LAST-MODIFIED:20210921T050318Z
UID:17702-1632441600-1632527999@beer.be
SUMMARY:ARPUS Tap Takeover
DESCRIPTION:We are delighted to welcome the brewer of Arpus Brewing Co. on Friday 24th of September. He will bring 8 beers on tap. Expect a lot of super fresh IPA-styles\, a fruited sour beer\, and we guess also a lot of fun. At 20.00h we will raise the curtain.
URL:https://beer.be/agenda/arpus-tap-takeover/
LOCATION:Beerlovers Bar\, Rotterdamstraat 105\, Anvers\, 2060\, Belgique
CATEGORIES:Tap Takeover
ATTACH;FMTTYPE=image/jpeg:https://beer.be/wp-content/uploads/2021/09/242085634_1695115297546127_1531415308103057623_n.jpg
END:VEVENT
BEGIN:VEVENT
DTSTART;VALUE=DATE:20210926
DTEND;VALUE=DATE:20210927
DTSTAMP:20260422T224026
CREATED:20210910T070227Z
LAST-MODIFIED:20210910T070227Z
UID:17665-1632614400-1632700799@beer.be
SUMMARY:Sunday Live - Los Coguaros
DESCRIPTION:Sunday Live ! Los Coguaros\, groupe de Rock-A-Billy Italien. They play masked\, they burn the stage\, they drink tequila during the show !\nhttps://www.facebook.com/coguaros
URL:https://beer.be/agenda/sunday-live-los-coguaros/
CATEGORIES:Concert
ATTACH;FMTTYPE=image/jpeg:https://beer.be/wp-content/uploads/2021/09/241677779_322534292997695_480318407611122479_n.jpg
END:VEVENT
BEGIN:VEVENT
DTSTART;VALUE=DATE:20210929
DTEND;VALUE=DATE:20210930
DTSTAMP:20260422T224026
CREATED:20210922T060352Z
LAST-MODIFIED:20210922T060352Z
UID:17721-1632873600-1632959999@beer.be
SUMMARY:Achille's Bitter Release Party
DESCRIPTION:Yes\, we are a natural wine bar.\nYes we are a wine bar that serves a lotta of food.\nYes\, we are a wine bar that has had a beautiful house beer brewed for us by our fizzy friends from La Source Beer Co.\nSo...let's have a one hell of a party for the occasion!!! :\nDEFI J Dj Set 17:00-21:00\nCESAR PALACE Live 21:00-22:00\nMICKEY Dj Set 22:00-partytime
URL:https://beer.be/agenda/achilles-bitter-release-party/
LOCATION:Achille\, Place Colignon\, Bruxelles\, 1030\, Belgique
CATEGORIES:Autre
ATTACH;FMTTYPE=image/jpeg:https://beer.be/wp-content/uploads/2021/09/242526343_362844912235253_7273542156469737486_n.jpg
END:VEVENT
BEGIN:VEVENT
DTSTART;VALUE=DATE:20210930
DTEND;VALUE=DATE:20211001
DTSTAMP:20260422T224026
CREATED:20210910T071325Z
LAST-MODIFIED:20210910T071325Z
UID:17674-1632960000-1633046399@beer.be
SUMMARY:Jeud’ivre - Reservoir DOSE
DESCRIPTION:Réservoir DOSE\, c'est tous les derniers jeudis du mois. Quentin\, Martin et Pierrot seront derrière les platines de 16h à 21h et régaleront vos petites oreilles de tous types de styles musicaux ! Dans les grandes lignes\, vous pouvez vous attendre à : Rocksteady\, Soul\, Garage\, Rock'n'Roll\, Rockabilly\, Psychobilly\, Punk\, Post-Punk\, et beaucoup d'autres choses.
URL:https://beer.be/agenda/jeudivre-reservoir-dose/
CATEGORIES:Concert
ATTACH;FMTTYPE=image/jpeg:https://beer.be/wp-content/uploads/2021/09/241686722_322451399672651_996260723420297244_n.jpg
END:VEVENT
END:VCALENDAR