BEGIN:VCALENDAR
VERSION:2.0
PRODID:-//Beer.be - ECPv6.15.20//NONSGML v1.0//EN
CALSCALE:GREGORIAN
METHOD:PUBLISH
X-ORIGINAL-URL:https://beer.be
X-WR-CALDESC:Évènements pour Beer.be
REFRESH-INTERVAL;VALUE=DURATION:PT1H
X-Robots-Tag:noindex
X-PUBLISHED-TTL:PT1H
BEGIN:VTIMEZONE
TZID:Europe/Brussels
BEGIN:DAYLIGHT
TZOFFSETFROM:+0100
TZOFFSETTO:+0200
TZNAME:CEST
DTSTART:20200329T010000
END:DAYLIGHT
BEGIN:STANDARD
TZOFFSETFROM:+0200
TZOFFSETTO:+0100
TZNAME:CET
DTSTART:20201025T010000
END:STANDARD
BEGIN:DAYLIGHT
TZOFFSETFROM:+0100
TZOFFSETTO:+0200
TZNAME:CEST
DTSTART:20210328T010000
END:DAYLIGHT
BEGIN:STANDARD
TZOFFSETFROM:+0200
TZOFFSETTO:+0100
TZNAME:CET
DTSTART:20211031T010000
END:STANDARD
BEGIN:DAYLIGHT
TZOFFSETFROM:+0100
TZOFFSETTO:+0200
TZNAME:CEST
DTSTART:20220327T010000
END:DAYLIGHT
BEGIN:STANDARD
TZOFFSETFROM:+0200
TZOFFSETTO:+0100
TZNAME:CET
DTSTART:20221030T010000
END:STANDARD
END:VTIMEZONE
BEGIN:VEVENT
DTSTART;VALUE=DATE:20211001
DTEND;VALUE=DATE:20211002
DTSTAMP:20260422T205453
CREATED:20210930T054115Z
LAST-MODIFIED:20210930T054115Z
UID:17808-1633046400-1633132799@beer.be
SUMMARY:Polly's & Vault City Night
DESCRIPTION:The Polly's beers we were waiting for finally arrived so let's organize the Vault City & Polly's night we have been dreaming of! Vault City is known for their (mainly barrel aged) sours while Polly's make some of the finest IPA in the UK.\n\nTap List:\nVault City\n1) Cloudy Lemonade\n2) Sloe Gin Sour\n3) Sunshine on Portobello\nPolly's\n4) No Fear - Pale Ale\n5) What Have You Done For Me Lately? - Pale Ale\n6) Shine Mode - IPA\n7) Last of the Sun - IPA\n\nCan/Bottle Menu:\nVault City\nApple Cranberry Vanilla Sour\nPies in the Skies\nPomegrenate Session Sour\nOJ IPA Simcoe & Mosaic\nGooseberry & Elderflower Sour\nRaspberry Skies\nHoneyberry & Strawberry Sour\nPeach Cheery Apricot Sour\nRaspberry White Chocolate Stout\nSnakebite & Black\nPear & Vanilla\nDragonfruit\, Strawberry\, Kiwi and Lychee Sour\nPolly's\nExtra Scene - IPA\nHigh Speed Soul - Double IPA
URL:https://beer.be/agenda/pollys-vault-city-night/
CATEGORIES:Dynamo
ATTACH;FMTTYPE=image/jpeg:https://beer.be/wp-content/uploads/2021/09/243204077_4151485071617283_6896901483017009170_n.jpg
END:VEVENT
BEGIN:VEVENT
DTSTART;VALUE=DATE:20211001
DTEND;VALUE=DATE:20211004
DTSTAMP:20260422T205453
CREATED:20210928T044915Z
LAST-MODIFIED:20210928T044915Z
UID:17763-1633046400-1633305599@beer.be
SUMMARY:THE POST APOCALYPTIC PARTY S2-Ep01
DESCRIPTION:Two years already\,... and even a bit more! Let's celebrate it like we do it the best!\nWe'll release some of our best kegs for this special occasion\, be ready for "the post-apocalyptic" party 2!\n25 beers on taps! Even more in cans / bottles\nSmall dishes / tapas styles\, home cooked\, and the usual selection of natural and organic wines\nGood music & good vibes!
URL:https://beer.be/agenda/the-post-apocalyptic-party-s2-ep01/
LOCATION:Beergium Bar\, 1227 Chaussée de Waterloo\, Bruxelles\, 1180\, Belgique
CATEGORIES:Autre
ATTACH;FMTTYPE=image/jpeg:https://beer.be/wp-content/uploads/2021/09/241675176_3054862174750886_3371276362282310524_n.jpg
END:VEVENT
BEGIN:VEVENT
DTSTART;VALUE=DATE:20211002
DTEND;VALUE=DATE:20211003
DTSTAMP:20260422T205453
CREATED:20210922T055927Z
LAST-MODIFIED:20210922T055927Z
UID:17711-1633132800-1633219199@beer.be
SUMMARY:Austrian Night - Bierol Tap Take Over
DESCRIPTION:Nous recevons nos amis de la brasserie autrichienne Bierol pour un brassin collaboratif. L'occasion de vous présenter leurs délicieuses bières et une sélection de vins naturels autrichiens disponible aux caves de l'Ermitage.
URL:https://beer.be/agenda/austrian-night-bierol-tap-take-over/
CATEGORIES:Tap Takeover
ATTACH;FMTTYPE=image/jpeg:https://beer.be/wp-content/uploads/2021/09/242374304_569467227832739_2956985624654331954_n.jpg
END:VEVENT
BEGIN:VEVENT
DTSTART;VALUE=DATE:20211002
DTEND;VALUE=DATE:20211004
DTSTAMP:20260422T205453
CREATED:20210930T054000Z
LAST-MODIFIED:20210930T054000Z
UID:17804-1633132800-1633305599@beer.be
SUMMARY:MODESTE BIERCAFE < CAFÉ ERNST
DESCRIPTION:Net zoals vorig jaar gaat Modeste Bier Festival door in verschillende Antwerpse kroegen. Deze zaterdag en zondag ook bij ons! ANTWERP TAP TAKE OVER\nDeze ZATERDAG & ZONDAG verwelkomen we 4 bieren alsook hun bebaarde brouwers van de jonge Antwerpse craft brouwerijen @unchartedbrewco en @specialebelgetaproom voor het Modest Biercafé.\n\nEXTRA OP ZATERDAG:\nMexican Dogs : sandwich Lints\, worstje\, gegrilde cheddar\, jalapeños\, salsa\, zure room\, lente-ui & crumble van nacho’s.\n\nLine-up:\nTourist #3 < Spéciale Belge Taproom = DH Saison met Saaz 5%\nErnest McFarmhaze < Uncharted Brew Co = Farmhouse IPA 8%\nCreamy Eyes < Uncharted Brew Co = NEIPA 6\,9%\nVerrassingsbier < Spéciale Belge Taproom = Verrassing!
URL:https://beer.be/agenda/modeste-biercafe-cafe-ernst/
LOCATION:Café Ernst\, Ernest van Dijckkaai 18\, Anvers\, 2000\, Belgique
CATEGORIES:Tap Takeover
ATTACH;FMTTYPE=image/jpeg:https://beer.be/wp-content/uploads/2021/09/243716913_854005435298422_2879090228290073058_n.jpg
END:VEVENT
BEGIN:VEVENT
DTSTART;VALUE=DATE:20211009
DTEND;VALUE=DATE:20211010
DTSTAMP:20260422T205453
CREATED:20210929T055945Z
LAST-MODIFIED:20210929T055945Z
UID:17790-1633737600-1633823999@beer.be
SUMMARY:TTO L'Ermitage X Misery Co.
DESCRIPTION:Ce samedi 9 Octobre\, on fait la fête au Wild Lab avec ni plus ni moins deux de nos brasseries préférées. Du coté Ermitage\, 10 pépites à découvrir ou redécouvrir au fût. Coté Misery Co\, 4 dingueries fraîchement brassées. On te dévoile les bières très prochainement\, stay tuned Dude! Mais on peut déja te dire qu'il y aura de quoi faire des Haaaalfs.
URL:https://beer.be/agenda/tto-lermitage-x-misery-co/
LOCATION:Wild Lab Liège\, 14 rue Hors Château\, Liège\, 4000\, Belgique
CATEGORIES:Tap Takeover
ATTACH;FMTTYPE=image/jpeg:https://beer.be/wp-content/uploads/2021/09/243173405_399423615136357_2549607921425651265_n.jpg
END:VEVENT
BEGIN:VEVENT
DTSTART;VALUE=DATE:20211010
DTEND;VALUE=DATE:20211011
DTSTAMP:20260422T205453
CREATED:20210830T125525Z
LAST-MODIFIED:20210830T125525Z
UID:17392-1633824000-1633910399@beer.be
SUMMARY:Sunday Live - Dissidence Blues
DESCRIPTION:Sunday Live with Dissidence Blues.\n'Dissidence Blues' est un nouveau projet en trio avec un répertoire varié et éclectique puisant dans les classiques du blues réarrangés et plus contemporain ainsi que des compositions.\nPatrick De Schuyter: chant\, guitares acoustique et électrique\, dobro\, banjo\nGeneviève Dartevelle: Harmonicas - didgeridoo\nBarry mc Neese: Basse\nhttps://m.facebook.com/Dissidence-BLUES/\n+ ENTRÉE GRATUITE\n++ OUVERTURE DES PORTES 14H00\n+++ CONCERT 17H00
URL:https://beer.be/agenda/sunday-live-dissidence-blues/
CATEGORIES:Concert
ATTACH;FMTTYPE=image/jpeg:https://beer.be/wp-content/uploads/2021/08/240946287_131019012576314_9156451123057261914_n.jpg
END:VEVENT
BEGIN:VEVENT
DTSTART;VALUE=DATE:20211010
DTEND;VALUE=DATE:20211011
DTSTAMP:20260422T205453
CREATED:20211008T065459Z
LAST-MODIFIED:20211008T065459Z
UID:17885-1633824000-1633910399@beer.be
SUMMARY:CatchT'amère : Le Duel
DESCRIPTION:Après la reprise tant attendue de septembre\, le retour du catch d'impro se fait en force\, et pour fêter ça\, on t'a préparé à toi et tous tes petits copains une toute nouvelle formule pas piquée des hannetons : le Duel.\nDeux catcheurs s'affrontent dans une lutte sans merci : pas de quartier\, pas de coéquipier\, pas de pitié. Ça va être intense\, le sous-sol l'Amère à Boire de Saint-Gilles va trembler plus fort que quand le tram passe !\nMaintenant la partie moins drôle : on a pas une place infinie et quelques règles à suivre rapport à une histoire de sécurité sanitaire.\nPas d'entrée libre\, mais des réservations avec une jauge limitée à 40 personnes\, sans discussion. Alors on sait que tu as pris l'habitude que ça soit au chapeau\, mais pour le coup (le coût)\, ça sera entrée payante\, mais au prix démocratique de 5€\, on est pas de radins quand même.\nTu veux réserver ?\nEnvoie un mail à catch.tamere@gmail.com\nPas qu'on ait eu le choix\, mais on s'imagine que tu sais bien que le pass CovidSafe sera en vigueur dans l'établissement. Il faut savoir quand même que le bar n'est pas responsable si tu n'as pas le tien et ne fera pas de contrôle\, on parle bien de ta responsabilité individuelle.\nBisous et impros qui claquent.
URL:https://beer.be/agenda/catchtamere-le-duel/
CATEGORIES:Autre
ATTACH;FMTTYPE=image/jpeg:https://beer.be/wp-content/uploads/2021/10/243283286_3015137168776003_8570049143668340398_n.jpg
END:VEVENT
BEGIN:VEVENT
DTSTART;VALUE=DATE:20211013
DTEND;VALUE=DATE:20211014
DTSTAMP:20260422T205453
CREATED:20211015T112050Z
LAST-MODIFIED:20211015T112050Z
UID:18007-1634083200-1634169599@beer.be
SUMMARY:Music Quiz by CG! #2 BIS 2021!
DESCRIPTION:Vous étiez tellement nombreux à vouloir vous inscrire au quiz des copains du 12 octobre que beaucoup d'équipes sont restées sur le carreau et nous\, ben\, on n'aime pas ça...\nOn vous propose donc une version BIS du Quiz du 12 octobre\, le 13 octobre!!!\nPour réserver votre place\, foncez parce que qu'on ne fera pas une version TER!\nÉvidemment\, toutes les dispositions seront prises afin de respecter les règles sanitaires en vigueur.\n▲ ▲ ▲ PLACES LIMITÉES ▲ ▲ ▲\nPour réserver votre place et celles de vos copain·ine·s\, veuillez nous contacter via Messenger.\n ENTRÉE LIBRE - On passe le chapeau à la fin \nChez Copain\, Av Rogier\, 262 - 1030 Schaerbeek\n Bar ouvert jusque 01h\n Planches Gourmandes - option végétarienne\n Cash\nBan-contact
URL:https://beer.be/agenda/music-quiz-by-cg-2-bis-2021/
LOCATION:Copain\, 262 avenue Rogier\, Bruxelles\, 1030\, Belgique
CATEGORIES:Autre
ATTACH;FMTTYPE=image/jpeg:https://beer.be/wp-content/uploads/2021/10/243540398_4009621092477206_4072630122222623362_n.jpg
END:VEVENT
BEGIN:VEVENT
DTSTART;VALUE=DATE:20211015
DTEND;VALUE=DATE:20211016
DTSTAMP:20260422T205453
CREATED:20210906T053110Z
LAST-MODIFIED:20210906T053110Z
UID:17550-1634256000-1634342399@beer.be
SUMMARY:NOVA RUNDA - MEET THE BREWER
DESCRIPTION:Ever wanted to chat to the brains behind the brews? Nova Runda\, one of Croatia's best craft breweries\, is coming to Belgium for a beer trip and series of tap takeovers. They will come to Leuven for some good vibes\, share some beers at the shop and tell you more about the brewery and beers. We'll have some new Nova Runda releases.
URL:https://beer.be/agenda/nova-runda-meet-the-brewer/
CATEGORIES:Tap Takeover
ATTACH;FMTTYPE=image/jpeg:https://beer.be/wp-content/uploads/2021/09/241048067_383575396696126_9135834700951558616_n.jpg
END:VEVENT
BEGIN:VEVENT
DTSTART;VALUE=DATE:20211016
DTEND;VALUE=DATE:20211017
DTSTAMP:20260422T205453
CREATED:20210910T070347Z
LAST-MODIFIED:20210910T070347Z
UID:17668-1634342400-1634428799@beer.be
SUMMARY:Blood Baby-Sitters
DESCRIPTION:Je peux pas j’ai concert  Blood Baby-Sitters groupe emblématique de la culture punk Bruxelloise vient égailler ton samedi soir ! Blood Baby-Sitters (aka BBS) is a punk-rock band formed in 2005 and based in Brussels.BBS is what happens when you're 18\, you love music and you want to point fingers at serious problems and illustrate them by making references to the funny stories\, films and urban legends we all know. An entertainment based on everybody’s daily humdrums and problems. Our mission? We have NONE but have fun.\n\nhttps://bloodbabysitters.bandcamp.com/\nhttps://www.facebook.com/officialBloodBabySitters/
URL:https://beer.be/agenda/blood-baby-sitters/
CATEGORIES:Concert
ATTACH;FMTTYPE=image/jpeg:https://beer.be/wp-content/uploads/2021/09/241688866_322532026331255_5506945155123650240_n.jpg
END:VEVENT
BEGIN:VEVENT
DTSTART;VALUE=DATE:20211016
DTEND;VALUE=DATE:20211017
DTSTAMP:20260422T205453
CREATED:20211013T044309Z
LAST-MODIFIED:20211013T044309Z
UID:17945-1634342400-1634428799@beer.be
SUMMARY:Nova Runda Meet The Brewer
DESCRIPTION:The Nova Runda team is in town this weekend and they'll come to visit us this Saturday. You must remember them from the second edition of Swafff (for the lucky attending ones). They launched the first IPA driven brewery in the country back in 2013\, in a country mainly dominated by lagers and German styles. After a bit of gypsy brewing\, they finally settle in their new brewery recently and added cans to their previously keg only beers.\n\nTap List:\n1) Nivelator IPA\n2) C4\n3) Beach Bar\n4) Strataspheric Discharge\n5) Kolaboracija\n6) Passion Fruit\, Mango & Lime Sour\n+ more by the can!\nAs always\, our neighbours of Tokidoki will be there to provide food.
URL:https://beer.be/agenda/nova-runda-meet-the-brewer-2/
CATEGORIES:Dynamo
ATTACH;FMTTYPE=image/jpeg:https://beer.be/wp-content/uploads/2021/10/245059064_4189955054436951_4525216925896503351_n.jpg
END:VEVENT
BEGIN:VEVENT
DTSTART;VALUE=DATE:20211017
DTEND;VALUE=DATE:20211018
DTSTAMP:20260422T205453
CREATED:20210910T070837Z
LAST-MODIFIED:20210910T070837Z
UID:17671-1634428800-1634515199@beer.be
SUMMARY:Sunday Live - The Flying Platane
DESCRIPTION:Since 2005\, Flying Platane's Crew offers the finest Skank'n'Roll Shows in Brussels area.\nMore than 70 shows organised\, with almost 200 bands from all around the world..\nSKANK'N'ROLL ?\nFrom "Jamaica Fuelled Riddims" meets "Rock'n'Roll Blended Riffs"\nfrom Old School to New Era ...Ska\, Rockabilly\, Boss Reggae\, Boogie\, Rocksteady\, Soul\, Surf\, ...and beyond\nSOUNDSYSTEM.\nWhen they're not organising shows the "Platane's Crew" is always happy to get on stage as Selectors to share with you a few tunes..\nExpect sounds from "Strictly Ska and Boss Reggae" to "Straight Rock'n'Roll and Rockabilly"\nFollow the page to get in touch : - http://www.facebook.com/FlyingPlataneSoundSystem\nSKANK'N'ROLL SOCIAL-CLUB\nSomething like Platane's Side-Project..\n- A small venue\, with limited capacity in a Brussel's basement\n- Themed Party : Ska\, Soul\, Surf\, ...\n- 1 or 2 exclusive bands\n- After Party All-Night long with selectors and dj's\n- Brings your friends and make new ones\n- Always the same flyer design ..Easy to remember\nFollow the page to get in touch : - http://www.facebook.com/SkanknRoll-Social-Club-by-Flying-Platane-562231443922384/
URL:https://beer.be/agenda/sunday-live-the-flying-platane-2/
CATEGORIES:Concert
ATTACH;FMTTYPE=image/jpeg:https://beer.be/wp-content/uploads/2021/09/241676899_322535109664280_2235014886773144802_n.jpg
END:VEVENT
BEGIN:VEVENT
DTSTART;VALUE=DATE:20211020
DTEND;VALUE=DATE:20211021
DTSTAMP:20260422T205453
CREATED:20211012T051412Z
LAST-MODIFIED:20211012T051412Z
UID:17922-1634688000-1634774399@beer.be
SUMMARY:All Belgian Tap Takeover
DESCRIPTION:We’re happy to be surrounded by such great quality & diversity of craft beers in Brussels\, Wallonia & Flanders! That’s why we want to present you 24 different Belgian beers from 3 breweries: 𝗟𝗮 𝗦𝗼𝘂𝗿𝗰𝗲\, 𝗠𝗶𝘀𝗲𝗿𝘆 & 𝗩𝗲𝗿𝘇𝗲𝘁!\n 𝗟𝗮 𝗦𝗼𝘂𝗿𝗰𝗲 𝗕𝗲𝗲𝗿 𝗖𝗼.\nLocal\, rock ‘n roll & fresh\, three words that describe the beers from Nina\, Mathieu & co. from La Source. In less than two years they’ve impressed our palates many times and we’re excited to have them present with hoppy brews & strawberries...\n 𝗠𝗶𝘀𝗲𝗿𝘆 𝗕𝗲𝗲𝗿 𝗖𝗼.\nProbably the best Manor beer in the world! Remy & Samia opened in the crazy year 2020 a magical place in the Ardennes. The smashing beers of their small production have already won over a lot of people. Time for you to discover them as well!\n 𝗕𝗿𝗼𝘂𝘄𝗲𝗿𝗶𝗷 ’𝘁 𝗩𝗲𝗿𝘇𝗲𝘁\nIt started as a project of 3 bio chemistry students in 2011. By 2016\, the collective opened their own brewery in Anzegem\, brewing lots of different beers but with a big focus on the Oud Bruin beer style. (They are even organising an Oud Bruin Fest at the end of the year!)
URL:https://beer.be/agenda/all-belgian-tap-takeover/
LOCATION:BBP Bailli\, 1 rue du Bailly\, Bruxelles\, 1000\, Belgique
CATEGORIES:Tap Takeover
ATTACH;FMTTYPE=image/jpeg:https://beer.be/wp-content/uploads/2021/10/244577677_195145209396595_8204033753715445205_n.jpg
END:VEVENT
BEGIN:VEVENT
DTSTART;VALUE=DATE:20211023
DTEND;VALUE=DATE:20211024
DTSTAMP:20260422T205453
CREATED:20210914T125642Z
LAST-MODIFIED:20210914T125642Z
UID:17685-1634947200-1635033599@beer.be
SUMMARY:AD Live
DESCRIPTION:AD Musiq Band\, vous présente son dernier EP Fade Away sorti le 29avril 2021.\nhttps://www.facebook.com/AD.Musiq.official/
URL:https://beer.be/agenda/ad-live/
CATEGORIES:Concert
ATTACH;FMTTYPE=image/jpeg:https://beer.be/wp-content/uploads/2021/09/241780361_325024042748720_8865675238191820193_n.jpg
END:VEVENT
BEGIN:VEVENT
DTSTART;VALUE=DATE:20211023
DTEND;VALUE=DATE:20211024
DTSTAMP:20260422T205453
CREATED:20211002T092044Z
LAST-MODIFIED:20211005T053541Z
UID:17829-1634947200-1635033599@beer.be
SUMMARY:Tilquin Fruit Extravaganza
DESCRIPTION:
URL:https://beer.be/agenda/tilquin-fruit-extravaganza/
CATEGORIES:Dynamo,Moeder Lambic
ATTACH;FMTTYPE=image/jpeg:https://beer.be/wp-content/uploads/2021/10/242906791_4470776409627428_5119087139150836554_n.jpg
END:VEVENT
BEGIN:VEVENT
DTSTART;VALUE=DATE:20211029
DTEND;VALUE=DATE:20211030
DTSTAMP:20260422T205453
CREATED:20211011T050326Z
LAST-MODIFIED:20211011T050326Z
UID:17906-1635465600-1635551999@beer.be
SUMMARY:Brewer's Delight #32
DESCRIPTION:It has been way too long since we have hosted an event... So we decided to throw a big party for the great return of our tap takeovers. Not 1\, not 2\, but 3 breweries : what we could call a triple tap takeover with the new kids on the block in Brussels. Brasserie Surrealiste - La Mule - La Jungle will be dancing on the tables and chugging beers by liters on Friday 29/10. And so we will be sure to get people to dance on the tables\, the fabulous 1030 dj duo Ondasonora will be spitting some boomboomboogie all night through! It's gonna be one hell of a party! Last but not least\, Manuela from Beer Dinners will ne making some funky tapas to soak the whole kegs of beer up! 
URL:https://beer.be/agenda/brewers-delight-32/
LOCATION:Barboteur\, 23 avenue Louis Bertrand\, Bruxelles\, Schaerbeek\, 1030\, Belgique
CATEGORIES:Barboteur
ATTACH;FMTTYPE=image/jpeg:https://beer.be/wp-content/uploads/2021/10/244447704_1890134481168587_4432925448876169861_n.jpg
END:VEVENT
BEGIN:VEVENT
DTSTART;VALUE=DATE:20211029
DTEND;VALUE=DATE:20211030
DTSTAMP:20260422T205453
CREATED:20211022T050208Z
LAST-MODIFIED:20211022T050208Z
UID:18068-1635465600-1635551999@beer.be
SUMMARY:Concert des "Broken Stout"
DESCRIPTION:Hello tout le monde! \nPremier Concert au bar le vendredi 29 octobre! Un petit groupe venu de Ciney va vous ambiancer de 20h a 22h aux sons de leur guitare et de leur belle voix\nC'est gratuit\, faudra juste votre CST\ndes bisouuus
URL:https://beer.be/agenda/concert-des-broken-stout/
CATEGORIES:Concert
ATTACH;FMTTYPE=image/jpeg:https://beer.be/wp-content/uploads/2021/10/246373545_422977425898213_6670971788732220248_n.jpg
END:VEVENT
BEGIN:VEVENT
DTSTART;VALUE=DATE:20211029
DTEND;VALUE=DATE:20211030
DTSTAMP:20260422T205453
CREATED:20211025T050346Z
LAST-MODIFIED:20211025T050346Z
UID:18080-1635465600-1635551999@beer.be
SUMMARY:Mon Beat et mon Couteau : CRY edition
DESCRIPTION:Les copains de CRY viennent nous faire une bise et faire tourner quelques plaques pour Halloween !
URL:https://beer.be/agenda/mon-beat-et-mon-couteau-cry-edition/
CATEGORIES:Concert
ATTACH;FMTTYPE=image/jpeg:https://beer.be/wp-content/uploads/2021/10/247525170_1268554246918809_8331350306114474872_n.jpg
END:VEVENT
BEGIN:VEVENT
DTSTART;VALUE=DATE:20211029
DTEND;VALUE=DATE:20211030
DTSTAMP:20260422T205453
CREATED:20211026T173726Z
LAST-MODIFIED:20211026T173726Z
UID:18104-1635465600-1635551999@beer.be
SUMMARY:Malt Attacks & Dynamo Anniversary
DESCRIPTION:Malt Attacks turned 7 a few days ago and Dynamo 6 this week. Good opportunity for a small party. No big English Beer Fest as we used to do\, just a small little party with friends and a few (imperial) stouts on tap. So\, if you feel like you're a friend\, you're welcome.
URL:https://beer.be/agenda/malt-attacks-dynamo-anniversary/
CATEGORIES:Dynamo
ATTACH;FMTTYPE=image/jpeg:https://beer.be/wp-content/uploads/2021/10/249045027_4232128566886266_8153937378270633503_n.jpg
END:VEVENT
BEGIN:VEVENT
DTSTART;VALUE=DATE:20211030
DTEND;VALUE=DATE:20211031
DTSTAMP:20260422T205453
CREATED:20210914T125750Z
LAST-MODIFIED:20210914T125750Z
UID:17688-1635552000-1635638399@beer.be
SUMMARY:Plagiaat
DESCRIPTION:Plagiaat is back with a vengeance: they shamelessly serve the bangers of 50 years of Rock 'n Roll history ! Party along to The Clash\, Black Keys\, White Stripes\, Nirvana and dozens of other Rock 'n Roll Hall of Fame bangers in one steamy set!
URL:https://beer.be/agenda/plagiaat/
CATEGORIES:Concert
ATTACH;FMTTYPE=image/jpeg:https://beer.be/wp-content/uploads/2021/09/241730694_324294742821650_2718507723885535208_n.jpg
END:VEVENT
BEGIN:VEVENT
DTSTART;VALUE=DATE:20211030
DTEND;VALUE=DATE:20211031
DTSTAMP:20260422T205453
CREATED:20211013T044458Z
LAST-MODIFIED:20211013T044458Z
UID:17948-1635552000-1635638399@beer.be
SUMMARY:TARTINE & CINEMA - QUIZZ #1
DESCRIPTION:Première soirée Tartine & Cinema !\nThème Halloween / Entrée gratuite.\nOn vous prépare un beau programme :\n1/ BLIND TEST MUSIQUE\n2/ QUIZZ CINEMA\n3/ DJ SET Majin Woar\nVenez en équipe\, les gagnants auront une tournée offerte !\nOn a hâte.\nBisous\,\nLa team Tartine & Cinema
URL:https://beer.be/agenda/tartine-cinema-quizz-1/
CATEGORIES:Autre
ATTACH;FMTTYPE=image/jpeg:https://beer.be/wp-content/uploads/2021/10/245065765_113321984455754_3403433279873012807_n.jpg
END:VEVENT
BEGIN:VEVENT
DTSTART;VALUE=DATE:20211030
DTEND;VALUE=DATE:20211031
DTSTAMP:20260422T205453
CREATED:20211028T122443Z
LAST-MODIFIED:20211028T122443Z
UID:18113-1635552000-1635638399@beer.be
SUMMARY:The Garden 5th Birthday European Collab Tour
DESCRIPTION:One of the new and most promising breweries from Croatia are hitting their 5th anniversary: The Garden Brewery. to celebrate their 5th anniversary they brewed 5 collabs with the most lovely breweries from Europe. This Saturday we celebrate with them with the 5 collab beers they brewed. 3 on draft\, 2 in can. We start at 15.00h. Cheerio!
URL:https://beer.be/agenda/the-garden-5th-birthday-european-collab-tour/
LOCATION:Beerlovers Bar\, Rotterdamstraat 105\, Anvers\, 2060\, Belgique
CATEGORIES:Tap Takeover
ATTACH;FMTTYPE=image/jpeg:https://beer.be/wp-content/uploads/2021/10/250028684_1726580824399574_2301714787962148781_n.jpg
END:VEVENT
END:VCALENDAR