BEGIN:VCALENDAR
VERSION:2.0
PRODID:-//Beer.be - ECPv6.15.20//NONSGML v1.0//EN
CALSCALE:GREGORIAN
METHOD:PUBLISH
X-WR-CALNAME:Beer.be
X-ORIGINAL-URL:https://beer.be
X-WR-CALDESC:Évènements pour Beer.be
REFRESH-INTERVAL;VALUE=DURATION:PT1H
X-Robots-Tag:noindex
X-PUBLISHED-TTL:PT1H
BEGIN:VTIMEZONE
TZID:Europe/Brussels
BEGIN:DAYLIGHT
TZOFFSETFROM:+0100
TZOFFSETTO:+0200
TZNAME:CEST
DTSTART:20200329T010000
END:DAYLIGHT
BEGIN:STANDARD
TZOFFSETFROM:+0200
TZOFFSETTO:+0100
TZNAME:CET
DTSTART:20201025T010000
END:STANDARD
BEGIN:DAYLIGHT
TZOFFSETFROM:+0100
TZOFFSETTO:+0200
TZNAME:CEST
DTSTART:20210328T010000
END:DAYLIGHT
BEGIN:STANDARD
TZOFFSETFROM:+0200
TZOFFSETTO:+0100
TZNAME:CET
DTSTART:20211031T010000
END:STANDARD
BEGIN:DAYLIGHT
TZOFFSETFROM:+0100
TZOFFSETTO:+0200
TZNAME:CEST
DTSTART:20220327T010000
END:DAYLIGHT
BEGIN:STANDARD
TZOFFSETFROM:+0200
TZOFFSETTO:+0100
TZNAME:CET
DTSTART:20221030T010000
END:STANDARD
END:VTIMEZONE
BEGIN:VEVENT
DTSTART;VALUE=DATE:20211104
DTEND;VALUE=DATE:20211105
DTSTAMP:20260422T192436
CREATED:20211013T043607Z
LAST-MODIFIED:20211013T043607Z
UID:17936-1635984000-1636070399@beer.be
SUMMARY:Danubian Express
DESCRIPTION:La rencontre entre la Roumanie et la Bulgarie\, entre une Geampara et une Rachenitsa\, entre la Rakia et la Tsuica\, entre le Taragot et le Kaval. Danubian Express\, c'est quatre musiciens mordus par les musiques se déployant des Carpates au Rhodopes en longeant le plus grand fleuve d'Europe.\n\nhttps://www.facebook.com/Danubianexpress
URL:https://beer.be/agenda/danubian-express/
CATEGORIES:Concert
ATTACH;FMTTYPE=image/jpeg:https://beer.be/wp-content/uploads/2021/10/245426939_344231140828010_4804698451319572863_n.jpg
END:VEVENT
BEGIN:VEVENT
DTSTART;VALUE=DATE:20211105
DTEND;VALUE=DATE:20211106
DTSTAMP:20260422T192436
CREATED:20211101T105536Z
LAST-MODIFIED:20211101T105536Z
UID:18145-1636070400-1636156799@beer.be
SUMMARY:Zichovec (CZ) Meet The Brewer
DESCRIPTION:Fancy some great Czech beers? We host state of the art Bohemian brewer this Friday at the Dynamo! Pivovar Zichovec\, out of... Zichovec is a familly owned brewery that makes some of the best craft beers in the country. They will be in town for an event around their beers. They will obviously bring some pilseners but also styles we are desperate for\, like... Black IPA.\n\nTap list:\n1) Krahulik 11 - Pilsner\n2) Krahulik 12 - Pilsner\n3) Mosaic - Pale Ale\n4) Hotline - IPA\n5) Baby Revolution - Black IPA\n6) Nectar of Happiness Nelson Sauvin - NEIPA\n7) Sour Passion Fruit - Sour Ale\n + Some Bourbon BA Beauty\n\nCan Menu:\n9) Robin - Pale Ale\n10) Juicy Lucy - NEIPA\n11) Session Juicy Lucy - Session IPA\n12) Coconut Juicy Lucy - NEIPA\n13) Nectar of Happiness - NEIPA\n14) Zkruhovec - NEIPA\n15) Anniversary - Triple IPA\n16) Imperial Bounty - Baltic Porter\nFood will be provided by our neighbours from Tokidoki.
URL:https://beer.be/agenda/zichovec-cz-meet-the-brewer/
CATEGORIES:Dynamo
ATTACH;FMTTYPE=image/jpeg:https://beer.be/wp-content/uploads/2021/11/250796862_4250520448380411_6479563635328927241_n.jpg
END:VEVENT
BEGIN:VEVENT
DTSTART;VALUE=DATE:20211107
DTEND;VALUE=DATE:20211108
DTSTAMP:20260422T192436
CREATED:20211005T054318Z
LAST-MODIFIED:20211018T051944Z
UID:17835-1636243200-1636329599@beer.be
SUMMARY:Quizz musical part II
DESCRIPTION:On vous attend le dimanche 17 octobre septembre à partir de 18h30 pour que vous nous montriez toute l'étendue de vos connaissances en matière de musique.\nEn pratique : Réservation via Facebook ou sur place\, table de 20 max. Et c'"est parti\nPour vous sustenter\, on a 100  dont 15 au fût\, des Spritz\, des limonades au basilic\, des planches de fromages etc etc\nOn est impatients de vous accueillir au 20 avenue Paul DeJaer à SAINT-GILLES (pas à Ixelles\, hein\, vous trompez pas  )
URL:https://beer.be/agenda/quizz-musical-part-ii/
CATEGORIES:Autre
ATTACH;FMTTYPE=image/jpeg:https://beer.be/wp-content/uploads/2021/10/244425614_412644990264790_805967814901785260_n.jpg
END:VEVENT
BEGIN:VEVENT
DTSTART;VALUE=DATE:20211107
DTEND;VALUE=DATE:20211108
DTSTAMP:20260422T192436
CREATED:20211025T050220Z
LAST-MODIFIED:20211025T050220Z
UID:18078-1636243200-1636329599@beer.be
SUMMARY:Quizz musical part III
DESCRIPTION:On vous attend le dimanche 7 novembre à partir de 17h pour que vous nous montriez toute l'étendue de vos connaissances en matière de musique.\nEn pratique : Réservation via Facebook ou sur place ! Attention nombre de places limité à 45 personnes.\nPour vous sustenter\, on a 100  dont 15 au fût\, des Spritz\, des limonades au basilic\, des planches de fromages etc etc\nOn est impatients de vous accueillir au 20 avenue Paul DeJaer à SAINT-GILLES (pas à Ixelles\, hein\, vous trompez pas  )
URL:https://beer.be/agenda/quizz-musical-part-iii/
CATEGORIES:Autre
ATTACH;FMTTYPE=image/jpeg:https://beer.be/wp-content/uploads/2021/10/244425614_412644990264790_805967814901785260_n.jpg
END:VEVENT
BEGIN:VEVENT
DTSTART;VALUE=DATE:20211113
DTEND;VALUE=DATE:20211114
DTSTAMP:20260422T192436
CREATED:20211114T134136Z
LAST-MODIFIED:20211114T134136Z
UID:18173-1636761600-1636847999@beer.be
SUMMARY:Epaulé mixé #1 - Dj Kinkle
DESCRIPTION:Epaulé Mixé est un projet très simple et qui nous tient à cœur : du bon son et du bon vin. Chaque mois un DJ viendra nous présenter une sélection musicale et viticole en collaboration avec notre magasin "Les caves de l'Ermitage". On commence directement avec un fin palais aux accents rock'n'roll\, notre bien aimé Dj Kinkle.\n\nIl a sélectionné pour vous 3 cuvées aussi rares que délicieuses qui seront exceptionnellement disponibles au verre durant son set.\n* Lac noir - Domaine Ad Vinum (Gard)\n* Forks and Knives - Milan Nestarec (République Tchèque)\n* La Gaille du chat - Olivier Boulin (Savoie)
URL:https://beer.be/agenda/epaule-mixe-1-dj-kinkle/
CATEGORIES:Concert
ATTACH;FMTTYPE=image/jpeg:https://beer.be/wp-content/uploads/2021/11/251572357_597725848340210_2455850347144361632_n.jpg
END:VEVENT
BEGIN:VEVENT
DTSTART;VALUE=DATE:20211114
DTEND;VALUE=DATE:20211115
DTSTAMP:20260422T192436
CREATED:20211114T133804Z
LAST-MODIFIED:20211114T133804Z
UID:18166-1636848000-1636934399@beer.be
SUMMARY:CatchT'amère : Duel n°2
DESCRIPTION:Après la reprise tant attendue de septembre\, le retour du catch d'impro se fait en force\, et pour fêter ça\, on t'a préparé à toi et tous tes petits copains une toute nouvelle formule pas piquée des hannetons tous les deuxièmes dimanche du mois : le Duel. Deux catcheurs s'affrontent dans une lutte sans merci : pas de quartier\, pas de coéquipier\, pas de pitié. Ça va être intense\, le sous-sol de l'Amère à Boire de Saint-Gilles va trembler plus fort que quand le tram passe ! Partie moins marrante : on imagine que t'es au courant que le pass sanitaire s'applique\, pas qu'on ait eu le choix. La bonne nouvelle\, c'est qu'il n'y a plus de réservations et que tu n'as qu'à ramener ta petite frimousse.
URL:https://beer.be/agenda/catchtamere-duel-n2/
CATEGORIES:Autre
ATTACH;FMTTYPE=image/jpeg:https://beer.be/wp-content/uploads/2021/11/245646975_3029587373997649_979611732110855363_n.jpg
END:VEVENT
BEGIN:VEVENT
DTSTART;VALUE=DATE:20211118
DTEND;VALUE=DATE:20211122
DTSTAMP:20260422T192436
CREATED:20211114T134830Z
LAST-MODIFIED:20211114T134830Z
UID:18182-1637193600-1637539199@beer.be
SUMMARY:The French Connexion: 90 BPM/ Fauve/ Mont Salève / Brewing Bears Tap Takeover
DESCRIPTION:The French beer scene is unmistakably very active. Some of our friends brought us some kegged and canned goodness to prove it \nLet's spotlight both upcoming breweries and more than confirmed ones \nHere are the guests for the weekend!\n 90 BPM (Dijon)\n Fauve (Paris)\n Brasserie du Mont Salève (Neydens)\n Brewing Bears (Montpellier)
URL:https://beer.be/agenda/the-french-connexion-90-bpm-fauve-mont-saleve-brewing-bears-tap-takeover/
LOCATION:Beergium Bar\, 1227 Chaussée de Waterloo\, Bruxelles\, 1180\, Belgique
CATEGORIES:Tap Takeover
ATTACH;FMTTYPE=image/jpeg:https://beer.be/wp-content/uploads/2021/11/253672236_3096791833891253_8920072927478355634_n.jpg
END:VEVENT
BEGIN:VEVENT
DTSTART;VALUE=DATE:20211121
DTEND;VALUE=DATE:20211122
DTSTAMP:20260422T192436
CREATED:20211008T065618Z
LAST-MODIFIED:20211008T065618Z
UID:17888-1637452800-1637539199@beer.be
SUMMARY:Needle goes VELVET
DESCRIPTION:NEEDLE goes VELVET is a Nico tribute by Kika Da Silva & Needle. A cool original storytelling performance & semi-acoustic Velvet Underground set as in Andy Warhol's The Factory\, New York late '60's.\nhttps://www.facebook.com/Needlegoesvelvet
URL:https://beer.be/agenda/needle-goes-velvet/
CATEGORIES:Concert
ATTACH;FMTTYPE=image/jpeg:https://beer.be/wp-content/uploads/2021/10/244345896_340276121223512_3518136497795543438_n.jpg
END:VEVENT
BEGIN:VEVENT
DTSTART;VALUE=DATE:20211124
DTEND;VALUE=DATE:20211125
DTSTAMP:20260422T192436
CREATED:20211114T133523Z
LAST-MODIFIED:20211114T133523Z
UID:18160-1637712000-1637798399@beer.be
SUMMARY:Tap Takeover // O/O Brewing
DESCRIPTION:The Swedish craft beer scene is spectacular! That's why we're stoked to host Olof & Olle from the stylish 𝗢/𝗢 𝗕𝗿𝗲𝘄𝗶𝗻𝗴 to our 𝗕𝗕𝗣 𝗕𝗮𝗶𝗹𝗹𝗶 Taproom! O/O shipped 15 exciting beers from Göteborg to Brussels. From super fressshhh IPAs over crisp lagers & fruited sours to big barrel-aged stouts... Skål!
URL:https://beer.be/agenda/tap-takeover-o-o-brewing/
LOCATION:BBP Bailli\, 1 rue du Bailly\, Bruxelles\, 1000\, Belgique
CATEGORIES:Tap Takeover
ATTACH;FMTTYPE=image/jpeg:https://beer.be/wp-content/uploads/2021/11/253156813_212533084324474_2442003758376364224_n.jpg
END:VEVENT
BEGIN:VEVENT
DTSTART;VALUE=DATE:20211125
DTEND;VALUE=DATE:20211126
DTSTAMP:20260422T192436
CREATED:20211002T091653Z
LAST-MODIFIED:20211002T091653Z
UID:17823-1637798400-1637884799@beer.be
SUMMARY:Free Funk Boogie Backlash
DESCRIPTION:Free Funk Boogie Backlash petit groupe de reprise bien connu du publique Schaerbeekois pour avoir animé vos guinguettes et divertissements de l’été. Ils viendront pervertir pour notre plus grand plaisir la nouvelle scène du bar de la Mule.\nFree Funk Boogie Backlash\nMartin Salemi : keyboards\nJacob Miller : bass\, vocals\nGaspard Sicx : drums
URL:https://beer.be/agenda/free-funk-boogie-backlash/
CATEGORIES:Concert
ATTACH;FMTTYPE=image/jpeg:https://beer.be/wp-content/uploads/2021/10/243565132_336123088305482_3643339672808799862_n.jpg
END:VEVENT
BEGIN:VEVENT
DTSTART;VALUE=DATE:20211125
DTEND;VALUE=DATE:20211126
DTSTAMP:20260422T192436
CREATED:20211116T194945Z
LAST-MODIFIED:20211116T194945Z
UID:18228-1637798400-1637884799@beer.be
SUMMARY:The Darkside of Nepomucen - 15 beers to try!
DESCRIPTION:The new Nepomucen beers have just arrived! And we finally get dark beers as well. We've already tried their export stouts during our last trip in Poland and they were beautiful.\nSo we'll tap them all together next Thusday.\n\nTap menu:\n1) Black Magic - DDH Black IPA\n2) Jean Michel 1 - Export Stout with Bourbon Coffee\n3) Jean Michel 2 - Export Stout with Coffee\, Coconu & Vanilla\n4) Sabro - DDH Double IPA\n5) Crazy Lines 15 - Tea IPA\n6) Classic with a Twist 6 - Rauchmarzen\n\nCan/ Bottle Menu:\n7) Meet our Friends 10: Deer Bear - Triple IPA\n8 ) Deep Forest - Double IPA with spruce\n9) Idaho 7 - DDH Double IPA\n10) Classic with a Twist 7 - Rauchmarzen with bacon\n11) Classic with a Twist 9 - Maple Pumpkin Ale\n12) Magnificient Three: Shake It! - Double IPA\n13) A Good Thug - German Pils\n14) Hopollo - Alcohol Free IPA\n15) Naked Foot - West Coast IPA
URL:https://beer.be/agenda/the-darkside-of-nepomucen-15-beers-to-try/
CATEGORIES:Dynamo
ATTACH;FMTTYPE=image/jpeg:https://beer.be/wp-content/uploads/2021/11/256822279_4297172147048574_7637260267037147025_n.jpg
END:VEVENT
BEGIN:VEVENT
DTSTART;VALUE=DATE:20211127
DTEND;VALUE=DATE:20211128
DTSTAMP:20260422T192436
CREATED:20210923T061117Z
LAST-MODIFIED:20210923T061117Z
UID:17733-1637971200-1638057599@beer.be
SUMMARY:M.CHUZI
DESCRIPTION:M.CHUZI World-wise sauce based on melting pot à la bruxelloise. A spicy mix of afro grooves\, funk\, prog jazz.\nhttps://www.facebook.com/m.chuzimusic/
URL:https://beer.be/agenda/m-chuzi/
CATEGORIES:Concert
ATTACH;FMTTYPE=image/jpeg:https://beer.be/wp-content/uploads/2021/09/242686058_330701985514259_7717634760743885268_n.jpg
END:VEVENT
BEGIN:VEVENT
DTSTART;VALUE=DATE:20211127
DTEND;VALUE=DATE:20211128
DTSTAMP:20260422T192436
CREATED:20211116T195148Z
LAST-MODIFIED:20211116T195148Z
UID:18231-1637971200-1638057599@beer.be
SUMMARY:Brew By Numbers - Tap Take Over
DESCRIPTION:La mythique brasserie Londonienne "Brew By Numbers" vient nous rendre visite pour une collaboration et un Tap Take Over qui s'annonce déjà anthologique. Une méticuleuse sélection a été faite et les bières arriveront directement chez nous plus fraiches que jamais.\n\nVoici l'alléchante sélection  :\n* 05 India Pale Ale Mosaic\n* 42 DDH Pale Ale Modern Wharf\n* 21 Pale Ale Mosaic Citra\n* 67 Cider Citra & Honey Cider (Hawkes Collab)\n* 11 Session IPA Mosaic\n* 18 Farmhouse Peach & Apricot\n* 10 Coffee & Vanilla Porter\n* 30 Lager Organic\n* 19 Gose Kiwi\, Pear & Lime\n* 85 Triple IPA Centennial & Chinook
URL:https://beer.be/agenda/brew-by-numbers-tap-take-over/
CATEGORIES:Tap Takeover
ATTACH;FMTTYPE=image/jpeg:https://beer.be/wp-content/uploads/2021/11/256049687_605146190931509_8304641406371178048_n.jpg
END:VEVENT
END:VCALENDAR