BEGIN:VCALENDAR
VERSION:2.0
PRODID:-//Beer.be - ECPv6.15.20//NONSGML v1.0//EN
CALSCALE:GREGORIAN
METHOD:PUBLISH
X-WR-CALNAME:Beer.be
X-ORIGINAL-URL:https://beer.be
X-WR-CALDESC:Évènements pour Beer.be
REFRESH-INTERVAL;VALUE=DURATION:PT1H
X-Robots-Tag:noindex
X-PUBLISHED-TTL:PT1H
BEGIN:VTIMEZONE
TZID:Europe/Brussels
BEGIN:DAYLIGHT
TZOFFSETFROM:+0100
TZOFFSETTO:+0200
TZNAME:CEST
DTSTART:20190331T010000
END:DAYLIGHT
BEGIN:STANDARD
TZOFFSETFROM:+0200
TZOFFSETTO:+0100
TZNAME:CET
DTSTART:20191027T010000
END:STANDARD
BEGIN:DAYLIGHT
TZOFFSETFROM:+0100
TZOFFSETTO:+0200
TZNAME:CEST
DTSTART:20200329T010000
END:DAYLIGHT
BEGIN:STANDARD
TZOFFSETFROM:+0200
TZOFFSETTO:+0100
TZNAME:CET
DTSTART:20201025T010000
END:STANDARD
BEGIN:DAYLIGHT
TZOFFSETFROM:+0100
TZOFFSETTO:+0200
TZNAME:CEST
DTSTART:20210328T010000
END:DAYLIGHT
BEGIN:STANDARD
TZOFFSETFROM:+0200
TZOFFSETTO:+0100
TZNAME:CET
DTSTART:20211031T010000
END:STANDARD
END:VTIMEZONE
BEGIN:VEVENT
DTSTART;VALUE=DATE:20200903
DTEND;VALUE=DATE:20200904
DTSTAMP:20260423T201640
CREATED:20200902T080237Z
LAST-MODIFIED:20200902T080237Z
UID:15745-1599091200-1599177599@beer.be
SUMMARY:La Source x Le Barboteur - 1030 DES BERMUDES - Release party
DESCRIPTION:Once upon a time\, an evening at the bar...behind the scenes\, we were lost and confused as our shift went out of control: nothing was clear and everything was haze with all things ending out very strange. Unusual clients acting peculiar ways\, unconceivable\, an air dense and dark\, words of lunacy\, nothing was to be understood\, the sparkle of the air just wasn't the same and we were armless facing this uncontrollable drift. Le Capitaine as usual "tenait la barre" and Respo Juju fought throughout the long night all the way till dawn for this irresistible collapse to cease and then we flipped the curse and then...1030 des Bermudes! Come rejoice with us for the release of our new house beer beautifully and brilliantly brewed by La Source for Le Barboteur. A refreshing tales of friends for this lime and pineapple Tepache Sour! And a mountain of hotdogs to help you soak yourself up throughout the evening!
URL:https://beer.be/agenda/la-source-x-le-barboteur-1030-des-bermudes-release-party/
LOCATION:Barboteur\, 23 avenue Louis Bertrand\, Bruxelles\, Schaerbeek\, 1030\, Belgique
CATEGORIES:Barboteur
ATTACH;FMTTYPE=image/jpeg:https://beer.be/wp-content/uploads/2020/09/118762530_1583215365193835_9211368126148668526_n.jpg
END:VEVENT
END:VCALENDAR