BEGIN:VCALENDAR
VERSION:2.0
PRODID:-//Beer.be - ECPv6.15.20//NONSGML v1.0//EN
CALSCALE:GREGORIAN
METHOD:PUBLISH
X-WR-CALNAME:Beer.be
X-ORIGINAL-URL:https://beer.be
X-WR-CALDESC:Évènements pour Beer.be
REFRESH-INTERVAL;VALUE=DURATION:PT1H
X-Robots-Tag:noindex
X-PUBLISHED-TTL:PT1H
BEGIN:VTIMEZONE
TZID:Europe/Brussels
BEGIN:DAYLIGHT
TZOFFSETFROM:+0100
TZOFFSETTO:+0200
TZNAME:CEST
DTSTART:20180325T010000
END:DAYLIGHT
BEGIN:STANDARD
TZOFFSETFROM:+0200
TZOFFSETTO:+0100
TZNAME:CET
DTSTART:20181028T010000
END:STANDARD
BEGIN:DAYLIGHT
TZOFFSETFROM:+0100
TZOFFSETTO:+0200
TZNAME:CEST
DTSTART:20190331T010000
END:DAYLIGHT
BEGIN:STANDARD
TZOFFSETFROM:+0200
TZOFFSETTO:+0100
TZNAME:CET
DTSTART:20191027T010000
END:STANDARD
BEGIN:DAYLIGHT
TZOFFSETFROM:+0100
TZOFFSETTO:+0200
TZNAME:CEST
DTSTART:20200329T010000
END:DAYLIGHT
BEGIN:STANDARD
TZOFFSETFROM:+0200
TZOFFSETTO:+0100
TZNAME:CET
DTSTART:20201025T010000
END:STANDARD
END:VTIMEZONE
BEGIN:VEVENT
DTSTART;TZID=Europe/Brussels:20190319T080000
DTEND;TZID=Europe/Brussels:20190319T170000
DTSTAMP:20260423T080958
CREATED:20190319T171432Z
LAST-MODIFIED:20190319T171432Z
UID:13590-1552982400-1553014800@beer.be
SUMMARY:Bardaf chez En Stoemelings - Crew Member Party
DESCRIPTION:Visite la brasserie En Stoemelings\, déguste une Bardaf et deviens Crew Member en t'offrant des bières à vie!??Bonjour à toutes et à tous\, le lancement de la bière Bardaf sur le marché est un succès qui ne fait que commencer et une grande décision a été prise : celle de passer en bio! Pour fêter cela et pour te proposer de t'impliquer davantage\, nous te convions à notre Crew Member Party le dimanche 31 mars.
URL:https://beer.be/agenda/bardaf-chez-en-stoemelings-crew-member-party/
LOCATION:Brasserie En Stoemelings\, 37 rue Dieudonné Lefèvre\, Bruxelles\, 1020\, Belgique
CATEGORIES:Brasserie
ATTACH;FMTTYPE=image/jpeg:https://beer.be/wp-content/uploads/2019/03/53212846_1806555439450288_7917398900208566272_o.jpg
END:VEVENT
END:VCALENDAR