BEGIN:VCALENDAR
VERSION:2.0
PRODID:-//Beer.be - ECPv6.15.20//NONSGML v1.0//EN
CALSCALE:GREGORIAN
METHOD:PUBLISH
X-ORIGINAL-URL:https://beer.be
X-WR-CALDESC:Évènements pour Beer.be
REFRESH-INTERVAL;VALUE=DURATION:PT1H
X-Robots-Tag:noindex
X-PUBLISHED-TTL:PT1H
BEGIN:VTIMEZONE
TZID:Europe/Brussels
BEGIN:DAYLIGHT
TZOFFSETFROM:+0100
TZOFFSETTO:+0200
TZNAME:CEST
DTSTART:20210328T010000
END:DAYLIGHT
BEGIN:STANDARD
TZOFFSETFROM:+0200
TZOFFSETTO:+0100
TZNAME:CET
DTSTART:20211031T010000
END:STANDARD
BEGIN:DAYLIGHT
TZOFFSETFROM:+0100
TZOFFSETTO:+0200
TZNAME:CEST
DTSTART:20220327T010000
END:DAYLIGHT
BEGIN:STANDARD
TZOFFSETFROM:+0200
TZOFFSETTO:+0100
TZNAME:CET
DTSTART:20221030T010000
END:STANDARD
BEGIN:DAYLIGHT
TZOFFSETFROM:+0100
TZOFFSETTO:+0200
TZNAME:CEST
DTSTART:20230326T010000
END:DAYLIGHT
BEGIN:STANDARD
TZOFFSETFROM:+0200
TZOFFSETTO:+0100
TZNAME:CET
DTSTART:20231029T010000
END:STANDARD
END:VTIMEZONE
BEGIN:VEVENT
DTSTART;TZID=Europe/Brussels:20220716T140000
DTEND;TZID=Europe/Brussels:20220716T163000
DTSTAMP:20260423T223856
CREATED:20220603T045645Z
LAST-MODIFIED:20220709T091238Z
UID:20399-1657980000-1657989000@beer.be
SUMMARY:Atelier : découvrir l'archéologie et l'histoire de la bière - partie 1
DESCRIPTION:Quand la bière est-elle apparue ? Comment l’Humain l’a découverte et à quoi ressemblaient les premières recettes de notre boisson préférée ? Quels sont les peuples pionniers dans l’évolution de la bière ? Peut-on encore déguster des bières dont la recette ressemble à celles de nos ancêtres ? Et en fait\, quelle est la différence entre l’archéologie et l’histoire ?\n\nCette introduction et première partie de notre atelier comprend une présentation qui s’étendra des dinosaures aux Celtes en passant par l’Empire Romain ou encore l’Egypte de Cléopâtre ainsi que plusieurs dégustations thématiques dont des bières très difficile à trouver. Au bout de 2h30\, vous aurez aborder la naissance présumée de la bière au Moyen Orient jusqu’à son évolution et son voyage à travers l’Afrique du Nord et l’Europe jusqu’au début du Moyen Age.\n\nCette première partie comprend une suite : découvrir l’archéologie et l’histoire de la bière – partie 2 qui débute au Moyen Age et s’achève au tournant des deux guerres mondiales en Europe.\n\nLa prochaine séance est prévue le samedi 16 juillet 2022 à 14h au bar L’amère à boire de Saint-Gilles (Avenue Paul Dejaer 20\, 1060 Bruxelles\, proche des transports en commun).
URL:https://beer.be/agenda/atelier-decouvrir-larcheologie-et-lhistoire-de-la-biere-partie-1/
LOCATION:L'Amère à boire Saint-Gilles\, Avenue Paul Dejaer 20\, 1060
CATEGORIES:Cours
ATTACH;FMTTYPE=image/jpeg:https://beer.be/wp-content/uploads/2022/06/242908087_4644855492220797_3733208338727470680_n.jpg
END:VEVENT
BEGIN:VEVENT
DTSTART;TZID=Europe/Brussels:20220717T140000
DTEND;TZID=Europe/Brussels:20220717T163000
DTSTAMP:20260423T223856
CREATED:20220603T045745Z
LAST-MODIFIED:20220709T091230Z
UID:20401-1658066400-1658075400@beer.be
SUMMARY:Atelier : découvrir l'archéologie et l'histoire de la bière - partie 2
DESCRIPTION:La bière fut-elle vraiment brassée par des moines au Moyen Age ? Comment expliquer les différentes cultures de la bière en Europe ? Quelles furent les révolutions apportées par la science moderne dans le milieu brassicole ? Quel fut l’impact des grandes révolutions et des guerres sur notre boisson préférée ?\n\nCette seconde et dernière partie de notre atelier comprend une présentation qui s’étendra du début du Moyen Age à l’aube des deux Guerres Mondiales en Europe ainsi que plusieurs dégustations thématiques dont des bières très difficile à trouver. Au bout de 2h30\, vous aurez aborder l’évolution du brassage et de la bière dans le monde occidental sur plusieurs siècles jusqu’à comprendre pourquoi nous buvons notre boisson préférée de nos jours.\n\nCette seconde partie comprend une introduction préalable: découvrir l’archéologie et l’histoire de la bière – partie 1 qui débute à la Préhistoire et s’achève au début du Moyen Age.\n\nLa prochaine séance est prévue le dimanche 17 juillet 2022 à 14h au bar L’amère à boire de Saint-Gilles (Avenue Paul Dejaer 20\, 1060 Bruxelles\, proche des transports en commun).a
URL:https://beer.be/agenda/atelier-decouvrir-larcheologie-et-lhistoire-de-la-biere-partie-2/
LOCATION:L'Amère à boire Saint-Gilles\, Avenue Paul Dejaer 20\, 1060
CATEGORIES:Cours
ATTACH;FMTTYPE=image/jpeg:https://beer.be/wp-content/uploads/2022/06/histoire.jpg
END:VEVENT
END:VCALENDAR