BEGIN:VCALENDAR
VERSION:2.0
PRODID:-//Beer.be - ECPv6.15.20//NONSGML v1.0//EN
CALSCALE:GREGORIAN
METHOD:PUBLISH
X-WR-CALNAME:Beer.be
X-ORIGINAL-URL:https://beer.be
X-WR-CALDESC:Évènements pour Beer.be
REFRESH-INTERVAL;VALUE=DURATION:PT1H
X-Robots-Tag:noindex
X-PUBLISHED-TTL:PT1H
BEGIN:VTIMEZONE
TZID:Europe/Brussels
BEGIN:DAYLIGHT
TZOFFSETFROM:+0100
TZOFFSETTO:+0200
TZNAME:CEST
DTSTART:20180325T010000
END:DAYLIGHT
BEGIN:STANDARD
TZOFFSETFROM:+0200
TZOFFSETTO:+0100
TZNAME:CET
DTSTART:20181028T010000
END:STANDARD
BEGIN:DAYLIGHT
TZOFFSETFROM:+0100
TZOFFSETTO:+0200
TZNAME:CEST
DTSTART:20190331T010000
END:DAYLIGHT
BEGIN:STANDARD
TZOFFSETFROM:+0200
TZOFFSETTO:+0100
TZNAME:CET
DTSTART:20191027T010000
END:STANDARD
BEGIN:DAYLIGHT
TZOFFSETFROM:+0100
TZOFFSETTO:+0200
TZNAME:CEST
DTSTART:20200329T010000
END:DAYLIGHT
BEGIN:STANDARD
TZOFFSETFROM:+0200
TZOFFSETTO:+0100
TZNAME:CET
DTSTART:20201025T010000
END:STANDARD
END:VTIMEZONE
BEGIN:VEVENT
DTSTART;VALUE=DATE:20191219
DTEND;VALUE=DATE:20191220
DTSTAMP:20260422T194643
CREATED:20191207T190330Z
LAST-MODIFIED:20191207T190330Z
UID:14747-1576713600-1576799999@beer.be
SUMMARY:Chef's Delight #7: Xmas edition with Beer Dinners
DESCRIPTION:Chef's Delight est de retour et pour sa plus belle formule : l'accord mets-bières pour un Menu de Noël entre copains et copines ! Pour l'occasion nous invitons la talentueuse Manuela qui se cache derrière le délicieux concept Beer Dinners project. Cette année nous déclinons le dîner selon la formule d'une grande table d'hôtes avec un maximum de 12 places. C'est donc extrêmement limité. Un menu 4 services concocté avec amour et audacieusement accordé avec 4 bières artisanales! Réservation conseillée ! barboteurbierotheque@gmail.com - 0470/832.172
URL:https://beer.be/agenda/chefs-delight-7-xmas-edition-with-beer-dinners/
LOCATION:Barboteur\, 23 avenue Louis Bertrand\, Bruxelles\, Schaerbeek\, 1030\, Belgique
CATEGORIES:Barboteur
ATTACH;FMTTYPE=image/jpeg:https://beer.be/wp-content/uploads/2019/12/78502943_1352472771601430_1757354648764678144_o.jpg
END:VEVENT
END:VCALENDAR