BEGIN:VCALENDAR
VERSION:2.0
PRODID:-//Beer.be - ECPv6.15.20//NONSGML v1.0//EN
CALSCALE:GREGORIAN
METHOD:PUBLISH
X-ORIGINAL-URL:https://beer.be
X-WR-CALDESC:Évènements pour Beer.be
REFRESH-INTERVAL;VALUE=DURATION:PT1H
X-Robots-Tag:noindex
X-PUBLISHED-TTL:PT1H
BEGIN:VTIMEZONE
TZID:Europe/Brussels
BEGIN:DAYLIGHT
TZOFFSETFROM:+0100
TZOFFSETTO:+0200
TZNAME:CEST
DTSTART:20180325T010000
END:DAYLIGHT
BEGIN:STANDARD
TZOFFSETFROM:+0200
TZOFFSETTO:+0100
TZNAME:CET
DTSTART:20181028T010000
END:STANDARD
BEGIN:DAYLIGHT
TZOFFSETFROM:+0100
TZOFFSETTO:+0200
TZNAME:CEST
DTSTART:20190331T010000
END:DAYLIGHT
BEGIN:STANDARD
TZOFFSETFROM:+0200
TZOFFSETTO:+0100
TZNAME:CET
DTSTART:20191027T010000
END:STANDARD
BEGIN:DAYLIGHT
TZOFFSETFROM:+0100
TZOFFSETTO:+0200
TZNAME:CEST
DTSTART:20200329T010000
END:DAYLIGHT
BEGIN:STANDARD
TZOFFSETFROM:+0200
TZOFFSETTO:+0100
TZNAME:CET
DTSTART:20201025T010000
END:STANDARD
END:VTIMEZONE
BEGIN:VEVENT
DTSTART;VALUE=DATE:20190301
DTEND;VALUE=DATE:20190302
DTSTAMP:20260423T051240
CREATED:20190220T152729Z
LAST-MODIFIED:20190220T152729Z
UID:13417-1551398400-1551484799@beer.be
SUMMARY:Soirée Beer Market #44" : "British Beer Acte 1"
DESCRIPTION:Bon\, concentrez-vous car c'est un peu plus compliqué que d'habitude cette fois. On va vous proposer une soirée dégustation non pas en un\, mais en deux soirs ! En effet l'acte 1 aura lieu le vendredi soir à La Louvière alors que l'acte 2 quant à lui se déroulera à Namur. Le thème de ces soirées sera la bière anglaise de la nouvelle vague. Du bon\, du pas fréquent\, du frais... tout pour rendre heureux un lupulomane averti. Rendez-vous donc le 1er mars au Beer Market de La Louvière\, et le lendemain au Craft Beer Market de Namur. \nBien évidemment vous n'êtes pas obligé de participer aux deux soirées.
URL:https://beer.be/agenda/soiree-beer-market-44-british-beer-acte-1/
LOCATION:Beer Market\, 2 Rue Louis de Brouckère\, La Louvière\, 7100\, Belgique
CATEGORIES:Dégustation
ATTACH;FMTTYPE=image/jpeg:https://beer.be/wp-content/uploads/2019/02/52590381_855967401405549_2644421392895836160_o.jpg
END:VEVENT
BEGIN:VEVENT
DTSTART;VALUE=DATE:20190315
DTEND;VALUE=DATE:20190316
DTSTAMP:20260423T051240
CREATED:20190305T094324Z
LAST-MODIFIED:20190305T094324Z
UID:13486-1552608000-1552694399@beer.be
SUMMARY:Soirée Beer Market #45" : " French Connection "
DESCRIPTION:A nous les petites françaises ! On croit souvent que les pires bières sont faites en France. Ce sera notre mission de vous démontrer le contraire. Avec un bel assortiment de bières artisanales venues de tout un tas de nouvelles brasseries. \nConcept : 7 bières artisanales vous sont présentées et décrites. Et bien sûr vous les goûtez. Les thèmes de ces soirées récurrentes varient (exploration d’un pays en particulier\, d’un style\, etc…). Ces séances se déroulent généralement le mercredi\, le vendredi ou le samedi à 19h30 après la fermeture de la boutique.
URL:https://beer.be/agenda/soiree-beer-market-45-french-connection/
LOCATION:Beer Market\, 2 Rue Louis de Brouckère\, La Louvière\, 7100\, Belgique
CATEGORIES:Dégustation
ATTACH;FMTTYPE=image/jpeg:https://beer.be/wp-content/uploads/2019/03/53211727_861334080868881_3377489155461218304_o.jpg
END:VEVENT
BEGIN:VEVENT
DTSTART;VALUE=DATE:20190323
DTEND;VALUE=DATE:20190324
DTSTAMP:20260423T051240
CREATED:20190227T140309Z
LAST-MODIFIED:20190227T140309Z
UID:13451-1553299200-1553385599@beer.be
SUMMARY:Matinée Beer Market : "Breakfast session"
DESCRIPTION:Une matinée dégustation\, en voilà une idée ! Il faut dire que les brasseurs nous tentent depuis bien des années avec leur « Breakfast Stout »\, leur « Coffee Brown Ale » et autres IPA généreusement fruitées… Eh bien on a décidé de les prendre au mot\, ces vils tentateurs\, ces pousse-au-crime ! Ainsi\, le samedi 23 mars\, à l’heure où blanchit la campagne (ou quand même un peu plus tard\, disons 9h00 !)\, se tiendra au Beer Market la première Matinée Dégustation de l’histoire de la bière. D’ailleurs\, des huissiers du Guinness Book seront présents pour homologuer le concept. Vous seront donc proposées 5 bières au profil matinal\, du moins ferons nous semblant de nous en convaincre pour justifier la démarche. Le tout accompagné de viennoiseries qui vous seront gracieusement offertes. \nA noter :\n- Il y aura un thermos de café à disposition pour les participants et leurs éventuels accompagnants BOB(ette).\n- Tous les vaillants participants à cette première mondiale bénéficieront d’une réduction de 10% sur tous leurs hypothétiques achats en magasin ce jour là. Hormis la PAF de la matinée en elle-même\, qui s’élève à 15€.\nPS : il n’y aura pas vraiment de huissiers du Guinness Book. \nConcept : Petit déjeuner + 5 bières artisanales qui vous sont présentées et décrites. Et bien sûr vous les goûtez. Les thèmes de ces soirées récurrentes varient (exploration d’un pays en particulier\, d’un style\, etc…).
URL:https://beer.be/agenda/matinee-beer-market-breakfast-session/
LOCATION:Beer Market\, 2 Rue Louis de Brouckère\, La Louvière\, 7100\, Belgique
CATEGORIES:Dégustation
ATTACH;FMTTYPE=image/jpeg:https://beer.be/wp-content/uploads/2019/02/52803037_860003411001948_2471632827058225152_o.jpg
END:VEVENT
BEGIN:VEVENT
DTSTART;VALUE=DATE:20190329
DTEND;VALUE=DATE:20190330
DTSTAMP:20260423T051240
CREATED:20190325T133425Z
LAST-MODIFIED:20190325T133425Z
UID:13618-1553817600-1553903999@beer.be
SUMMARY:Soirée Beer Market #46" : " Polska "
DESCRIPTION:Les plus assidus s'en souviendront\, mais nous avions il y a de cela un an ou deux déjà organisé une première soirée Polonaise. Or cette marmite en constante ébullition qu'est la scène brassicole Polonaise n'a de cesse d'évoluer. Il nous semblait donc opportun de nous y replonger pour goûter ce qu'il s'y brasse en 2019. Concept : 7 bières artisanales vous sont présentées et décrites. Et bien sûr vous les goûtez. Les thèmes de ces soirées récurrentes varient (exploration d’un pays en particulier\, d’un style\, etc…). Ces séances se déroulent généralement le mercredi\, le vendredi ou le samedi à 19h30 après la fermeture de la boutique.
URL:https://beer.be/agenda/soiree-beer-market-46-polska/
LOCATION:Beer Market\, 2 Rue Louis de Brouckère\, La Louvière\, 7100\, Belgique
CATEGORIES:Dégustation
ATTACH;FMTTYPE=image/jpeg:https://beer.be/wp-content/uploads/2019/03/54433239_872065776462378_6632575797435564032_o.jpg
END:VEVENT
END:VCALENDAR