BEGIN:VCALENDAR
VERSION:2.0
PRODID:-//Beer.be - ECPv6.15.20//NONSGML v1.0//EN
CALSCALE:GREGORIAN
METHOD:PUBLISH
X-ORIGINAL-URL:https://beer.be
X-WR-CALDESC:Évènements pour Beer.be
REFRESH-INTERVAL;VALUE=DURATION:PT1H
X-Robots-Tag:noindex
X-PUBLISHED-TTL:PT1H
BEGIN:VTIMEZONE
TZID:Europe/Brussels
BEGIN:DAYLIGHT
TZOFFSETFROM:+0100
TZOFFSETTO:+0200
TZNAME:CEST
DTSTART:20180325T010000
END:DAYLIGHT
BEGIN:STANDARD
TZOFFSETFROM:+0200
TZOFFSETTO:+0100
TZNAME:CET
DTSTART:20181028T010000
END:STANDARD
BEGIN:DAYLIGHT
TZOFFSETFROM:+0100
TZOFFSETTO:+0200
TZNAME:CEST
DTSTART:20190331T010000
END:DAYLIGHT
BEGIN:STANDARD
TZOFFSETFROM:+0200
TZOFFSETTO:+0100
TZNAME:CET
DTSTART:20191027T010000
END:STANDARD
BEGIN:DAYLIGHT
TZOFFSETFROM:+0100
TZOFFSETTO:+0200
TZNAME:CEST
DTSTART:20200329T010000
END:DAYLIGHT
BEGIN:STANDARD
TZOFFSETFROM:+0200
TZOFFSETTO:+0100
TZNAME:CET
DTSTART:20201025T010000
END:STANDARD
END:VTIMEZONE
BEGIN:VEVENT
DTSTART;VALUE=DATE:20190511
DTEND;VALUE=DATE:20190512
DTSTAMP:20260423T020954
CREATED:20190507T173352Z
LAST-MODIFIED:20190507T173352Z
UID:13848-1557532800-1557619199@beer.be
SUMMARY:Soirée Beer Market #49" : "Black is Black"
DESCRIPTION:Thème de la soirée: Bière a la fraise. Non je plaisante! 🙂 L'image parle d'elle même\, nous allons en effet déguster des bières noires et rien que ça! Globalement ce sera du très lourd\, alors prévoyez de manger comme il faut avant la dégustation. Vous voilà prévenus. \nConcept : 7 bières artisanales vous sont présentées et décrites. Et bien sûr\, vous les goûtez. Les thèmes de ces soirées récurrentes varient (exploration d’un pays en particulier\, d’un style\, etc…). Ces séances se déroulent généralement le vendredi ou le samedi à 19h30\, après la fermeture de la boutique.
URL:https://beer.be/agenda/soiree-beer-market-49-black-is-black/
LOCATION:Beer Market\, 2 Rue Louis de Brouckère\, La Louvière\, 7100\, Belgique
CATEGORIES:Dégustation
ATTACH;FMTTYPE=image/jpeg:https://beer.be/wp-content/uploads/2019/05/59899668_899563963712559_5687201960273379328_o.jpg
END:VEVENT
END:VCALENDAR