BEGIN:VCALENDAR
VERSION:2.0
PRODID:-//Beer.be - ECPv6.15.20//NONSGML v1.0//EN
CALSCALE:GREGORIAN
METHOD:PUBLISH
X-WR-CALNAME:Beer.be
X-ORIGINAL-URL:https://beer.be
X-WR-CALDESC:Évènements pour Beer.be
REFRESH-INTERVAL;VALUE=DURATION:PT1H
X-Robots-Tag:noindex
X-PUBLISHED-TTL:PT1H
BEGIN:VTIMEZONE
TZID:Europe/Brussels
BEGIN:DAYLIGHT
TZOFFSETFROM:+0100
TZOFFSETTO:+0200
TZNAME:CEST
DTSTART:20200329T010000
END:DAYLIGHT
BEGIN:STANDARD
TZOFFSETFROM:+0200
TZOFFSETTO:+0100
TZNAME:CET
DTSTART:20201025T010000
END:STANDARD
BEGIN:DAYLIGHT
TZOFFSETFROM:+0100
TZOFFSETTO:+0200
TZNAME:CEST
DTSTART:20210328T010000
END:DAYLIGHT
BEGIN:STANDARD
TZOFFSETFROM:+0200
TZOFFSETTO:+0100
TZNAME:CET
DTSTART:20211031T010000
END:STANDARD
BEGIN:DAYLIGHT
TZOFFSETFROM:+0100
TZOFFSETTO:+0200
TZNAME:CEST
DTSTART:20220327T010000
END:DAYLIGHT
BEGIN:STANDARD
TZOFFSETFROM:+0200
TZOFFSETTO:+0100
TZNAME:CET
DTSTART:20221030T010000
END:STANDARD
END:VTIMEZONE
BEGIN:VEVENT
DTSTART;VALUE=DATE:20210829
DTEND;VALUE=DATE:20210830
DTSTAMP:20260424T000853
CREATED:20210811T061536Z
LAST-MODIFIED:20210811T061536Z
UID:17207-1630195200-1630281599@beer.be
SUMMARY:Beer my guest @Atomium
DESCRIPTION:Visiter l'Atomium et profiter d'une belle dégustation bière en terrasse? C'est exactement ce que nous vous avons annoncé cet été\, le dimanche 29 août! L'Atomium et la bière sont deux stars indiscutables de la Belgique ; inclassables\, surprenants\, créatifs\, étonnants\, impressionnants… Ces deux symboles font parler de la Belgique dans le monde entier. Venez visiter l'Atomium et profitez ensuite d'une agréable dégustation de bière avec un guide professionnel de Beer My Guest. C'est l'occasion de vous y initier à l'art de la biérologie (ou zythologie) et d'en apprendre plus sur notre breuvage national sous un angle original. Pourquoi la bière belge une si bonne réputation? Le Lambic\, c'est uniquement à Bruxelles qu'on en boit? On répondra à toutes ces questions et bien d'autres encore pour faire de vous un connaisseur de bière\, afin de prêcher la bonne parole autour de vous et d'épater vos amis ! \n> Langue : Bilingue FR et NL\n> Quoi : visite de l'Atomium + une dégustation bière\n> Horaire : dégustation bière de 14h30 à 16h\n> Lieu: dégustation sur la terrasse\, au pied de l'Atomium\n> Visite Atomium libre avant ou après la dégustation bière\n> Tarif : 39€ au lieu de 42€ par personne\n>> Inclus : Entrée Atomium\, dégustation bière avec une zythologue professionnelle bruxelloise\, 4 galopins de bière\nRÉSERVATION : https://mailchi.mp/atomium .be/reservbeermyguest
URL:https://beer.be/agenda/beer-my-guest-atomium/
LOCATION:Atomium
CATEGORIES:Dégustation
ATTACH;FMTTYPE=image/jpeg:https://beer.be/wp-content/uploads/2021/08/1937_image_217455045_10165451141895437_89558081241858009_n-2048x1024-1.jpg
END:VEVENT
END:VCALENDAR