BEGIN:VCALENDAR
VERSION:2.0
PRODID:-//Beer.be - ECPv6.15.20//NONSGML v1.0//EN
CALSCALE:GREGORIAN
METHOD:PUBLISH
X-WR-CALNAME:Beer.be
X-ORIGINAL-URL:https://beer.be
X-WR-CALDESC:Évènements pour Beer.be
REFRESH-INTERVAL;VALUE=DURATION:PT1H
X-Robots-Tag:noindex
X-PUBLISHED-TTL:PT1H
BEGIN:VTIMEZONE
TZID:Europe/Brussels
BEGIN:DAYLIGHT
TZOFFSETFROM:+0100
TZOFFSETTO:+0200
TZNAME:CEST
DTSTART:20180325T010000
END:DAYLIGHT
BEGIN:STANDARD
TZOFFSETFROM:+0200
TZOFFSETTO:+0100
TZNAME:CET
DTSTART:20181028T010000
END:STANDARD
BEGIN:DAYLIGHT
TZOFFSETFROM:+0100
TZOFFSETTO:+0200
TZNAME:CEST
DTSTART:20190331T010000
END:DAYLIGHT
BEGIN:STANDARD
TZOFFSETFROM:+0200
TZOFFSETTO:+0100
TZNAME:CET
DTSTART:20191027T010000
END:STANDARD
BEGIN:DAYLIGHT
TZOFFSETFROM:+0100
TZOFFSETTO:+0200
TZNAME:CEST
DTSTART:20200329T010000
END:DAYLIGHT
BEGIN:STANDARD
TZOFFSETFROM:+0200
TZOFFSETTO:+0100
TZNAME:CET
DTSTART:20201025T010000
END:STANDARD
END:VTIMEZONE
BEGIN:VEVENT
DTSTART;VALUE=DATE:20191003
DTEND;VALUE=DATE:20191004
DTSTAMP:20260425T225227
CREATED:20190925T070530Z
LAST-MODIFIED:20190925T070530Z
UID:14355-1570060800-1570147199@beer.be
SUMMARY:Brassages #2 - découvertes de bières locales et micro-brasseurs
DESCRIPTION:C'est la rentrée : BRASSAGES revient ! 🙌 Le concept ne change pas : rapprocher les amateurs de bières des microbrasseurs locaux pour entendre leur histoire et goûter leurs produits. Pour cette seconde édition\, l'ASBL Deux Tartines vous invite à rencontrer le très sauvage Simon Charlier qui brasse "La Bestiale Blonde" et depuis peu\, sa petite soeur\, "La Blonde Légère". Dégustation offerte et possibilité d'achat sur place ! 🦌
URL:https://beer.be/agenda/brassages-2-decouvertes-de-bieres-locales-et-micro-brasseurs/
LOCATION:LeanSquare - Coworking\, 3 rue Chapelle des Clercs\, Liège\, 4000\, Belgium
CATEGORIES:Dégustation
ATTACH;FMTTYPE=image/jpeg:https://beer.be/wp-content/uploads/2019/09/70191272_2335860156630699_7753609669540577280_o.jpg
END:VEVENT
BEGIN:VEVENT
DTSTART;VALUE=DATE:20191004
DTEND;VALUE=DATE:20191005
DTSTAMP:20260425T225227
CREATED:20190917T115939Z
LAST-MODIFIED:20190917T115939Z
UID:14341-1570147200-1570233599@beer.be
SUMMARY:Brewer's Delight #25 : Brekeriet Tap Takeover (SE)
DESCRIPTION:Véritable coup de coeur de la 3ème édition du festival Swafff - ok ok nous les adorions déjà bien avant 😀 - et l'une des pépites de la scène brassicole suédoise\, la brasserie Brekeriet nous fait l'honneur d'un tap takeover de haut vol pour la 25è édition des Brewer's Delight ! Spécialisée dans la production de bières 'sauvages' de fermentation spontanée\, saisons rustiques et autres macérations de fruits et fleurs\, les frères EK nous ont concocté une sélection de 11 bières au fût et quelques bouteilles au cas où ce n'était pas assez... Swafff !
URL:https://beer.be/agenda/brewers-delight-25-brekeriet-tap-takeover-se/
LOCATION:Barboteur\, 23 avenue Louis Bertrand\, Bruxelles\, Schaerbeek\, 1030\, Belgique
CATEGORIES:Barboteur
ATTACH;FMTTYPE=image/jpeg:https://beer.be/wp-content/uploads/2019/09/71090127_1281014785413896_3132103083836833792_o.jpg
END:VEVENT
BEGIN:VEVENT
DTSTART;VALUE=DATE:20191005
DTEND;VALUE=DATE:20191007
DTSTAMP:20260425T225227
CREATED:20190909T092202Z
LAST-MODIFIED:20190909T092202Z
UID:14282-1570233600-1570406399@beer.be
SUMMARY:Festival des Brasseries - seconde édition
DESCRIPTION:👉 profiter des brasseries locales et artisanales\n👉 en partenariat avec les cafés du\ncentre\n👉 Animation musicale\n👉 Concert « Awissa » \nLe but est de promouvoir nos petites brasseries en vous faisant découvrir leurs produits 👌\nPlus de 50 bières 🍺😱 Tu ne sais pas choisir ⁉️ Pas grave\, avec le verre spécialement conçu\, tu pourras toutes les goûter 😍 Un coupe-faim est prévu pour éponger...🍔 L’objectif est de pouvoir créer une synergie entre les cafés des alentours et de ces brasseries afin de satisfaire au mieux les futurs clients ✅ Alors viens déguster des bières régionales connues et surtout méconnues 🎉🍺
URL:https://beer.be/agenda/festival-des-brasseries-seconde-edition/
LOCATION:Grand Place de Ath\, Grand Place\, Ath\, 7800\, Belgique
CATEGORIES:Festival
ATTACH;FMTTYPE=image/jpeg:https://beer.be/wp-content/uploads/2019/09/67887650_2848961988452848_6581095353058066432_n.jpg
END:VEVENT
BEGIN:VEVENT
DTSTART;VALUE=DATE:20191006
DTEND;VALUE=DATE:20191007
DTSTAMP:20260425T225227
CREATED:20190828T072440Z
LAST-MODIFIED:20190828T072440Z
UID:14239-1570320000-1570406399@beer.be
SUMMARY:Bezoek Anders! tijdens Open Bedrijven Dag
DESCRIPTION:Anders! est pour la première fois ouvert au public! Pour toutes celles et ceux qui désirent découvrir notre brasserie de l'intérieur : soyez de la partie le dimanche 6 octobre.
URL:https://beer.be/agenda/bezoek-anders-tijdens-open-bedrijven-dag/
LOCATION:Brouwerij Anders!\, 1400 Stadsbeemd\, Halen\, 3545\, Belgique
CATEGORIES:Brasserie
ATTACH;FMTTYPE=image/jpeg:https://beer.be/wp-content/uploads/2019/08/68755306_2367922643293900_7955250644556709888_o.jpg
END:VEVENT
BEGIN:VEVENT
DTSTART;VALUE=DATE:20191006
DTEND;VALUE=DATE:20191007
DTSTAMP:20260425T225227
CREATED:20190917T092647Z
LAST-MODIFIED:20190917T092647Z
UID:14326-1570320000-1570406399@beer.be
SUMMARY:Jbcv Hop's Party 2019
DESCRIPTION:Comme chaque année nous brasserons vos houblons\, ceux de l'HOPération ! Notre habitat groupé "Le Zeste" vous accueillera pour une après-midi de détente familiale. Brassin public\, dégustation de bières\, grimages\, plaine de jeux\, rétro gaming et kicker seront au programme de cette quatrième édition ! On vous attend nombreux/ses au Zeste ce 06 octobre !
URL:https://beer.be/agenda/jbcv-hops-party-2019/
LOCATION:Le Zeste\, 20 rue des Communes\, Genappe\, 1470\, Belgique
CATEGORIES:Brasserie
ATTACH;FMTTYPE=image/jpeg:https://beer.be/wp-content/uploads/2019/09/69780906_2968343916562761_4788899203738763264_o.jpg
END:VEVENT
BEGIN:VEVENT
DTSTART;VALUE=DATE:20191010
DTEND;VALUE=DATE:20191011
DTSTAMP:20260425T225227
CREATED:20191010T072923Z
LAST-MODIFIED:20191010T072923Z
UID:14413-1570665600-1570751999@beer.be
SUMMARY:Chike Mademoiselle - On perce le premier fût !
DESCRIPTION:Damoiselles et damoiseaux\, il y a quelques mois\, la brasserie bruxelloise "En Stoemelings" a invité l'équipe du Cabaret Mademoiselle à brasser sa propre bière. En ce début octobre\, la Chike Mademoiselle est prête à être servie. Nous percerons le premier fût le jeudi 10 octobre à 21h ! La Chike Mademoiselle : blanche au Jasmin\, 6%. C'est la fille spirituelle de la Chike Madame\, une blanche distinguée parfumée aux fleurs de Jasmin\, plus maltée que son ascendante ! Il y a également des bouteilles "collectors" avec certains de vos artistes préférés. Faites comme les Pokemon\, attrapez-les toutes !
URL:https://beer.be/agenda/chike-mademoiselle-on-perce-le-premier-fut/
LOCATION:Cabaret Mademoiselle\, 53 rue du marché au charbon\, Bruxelles\, 1000\, Belgique
CATEGORIES:Autre
ATTACH;FMTTYPE=image/jpeg:https://beer.be/wp-content/uploads/2019/10/72118276_2272043082900036_740166561821622272_o.jpg
END:VEVENT
BEGIN:VEVENT
DTSTART;VALUE=DATE:20191010
DTEND;VALUE=DATE:20191011
DTSTAMP:20260425T225227
CREATED:20191010T073240Z
LAST-MODIFIED:20191010T073240Z
UID:14417-1570665600-1570751999@beer.be
SUMMARY:BBP x Maison Dandoy // Tough Cookie Launch
DESCRIPTION:One small step for a circular economy\, one giant step for a cookie. We're proud to announce this spectaculoos two way collaboration with Maison Dandoy. We've created a speculoos stout by reusing their broken speculoos cookies while they used our spent grain to bake a new cookie. And round and round we go!
URL:https://beer.be/agenda/bbp-x-maison-dandoy-tough-cookie-launch/
LOCATION:Brussels Beer Project Dansaert\, 188 rue Antoine Dansaert\, Bruxelles\, 1000\, Belgique
CATEGORIES:Autre
ATTACH;FMTTYPE=image/jpeg:https://beer.be/wp-content/uploads/2019/10/71739453_737095596732055_7483820731906654208_o.jpg
END:VEVENT
BEGIN:VEVENT
DTSTART;VALUE=DATE:20191011
DTEND;VALUE=DATE:20191014
DTSTAMP:20260425T225227
CREATED:20191002T073642Z
LAST-MODIFIED:20191002T073642Z
UID:14379-1570752000-1571011199@beer.be
SUMMARY:TTO Stigbergets & Ten Hands
DESCRIPTION:TTO with 2 big names of the Swedish craft beer scene \nStigbergets Bryggeri from Göteborg\, our long time partners: \nDouble Headed DDH West Coast IPA - DDH West Coast IPA\nMandereen - Session IPA collab med Martin "Mander" Ander\nMorgonsuris - Raspberry-Cherry-Lingonberry-Juniper-Beetroot-Berliner Weisse\nNew and Improved GBG - New England IPA. The official sequel of GBG Beer Week 2016.\nPanta Rei - American IPA\nPilsner - Pilsener\nStigbergets / Garage Oceans Apart - IPA\nWest Coast IPA - India Pale Ale\nYanga Wake AM - Chocolate Cinnamon Vanilla Imperial Stout \nTen Hands Brewing from Karlstad\, a brand new brewery\, but already in love with their beers! \nPlanet Guava - Hazy IPA with Guava Puree\, dry hopped with Citra and Mosaic\nDragonfly - Hazy IPA\nDDH Surfin' Safari - West Coast IPA
URL:https://beer.be/agenda/tto-stigbergets-ten-hands/
LOCATION:Beergium Bar\, 1227 Chaussée de Waterloo\, Bruxelles\, 1180\, Belgique
CATEGORIES:Tap Takeover
ATTACH;FMTTYPE=image/jpeg:https://beer.be/wp-content/uploads/2019/10/71898242_2466049010298875_3347781420725567488_o.jpg
END:VEVENT
BEGIN:VEVENT
DTSTART;VALUE=DATE:20191011
DTEND;VALUE=DATE:20191015
DTSTAMP:20260425T225227
CREATED:20191002T074053Z
LAST-MODIFIED:20191002T074053Z
UID:14382-1570752000-1571097599@beer.be
SUMMARY:To ØL Tap Takeover 11 - 10
DESCRIPTION:They are defiant. They've been producing liquid hapiness since 2010. They transformed the essence of gypsy brewing. They are one of the most important modern international breweries.and all of their brews are lusted after by most beer lovers. We are proud to announce that: \nOn the 11th of october To Øl comes back to Brussels with a lot of new and few of their old guard classics that we can't stop sipping. Taplist to be revealed soon. For now\, let mystery surround this coordinated attack of malt\, water\, yeast and hops.
URL:https://beer.be/agenda/to-ol-tap-takeover-11-10/
LOCATION:Brewdog\, Putterij 20\, Brussels\, 1000\, Belgique
CATEGORIES:Tap Takeover
ATTACH;FMTTYPE=image/jpeg:https://beer.be/wp-content/uploads/2019/10/71279532_1655353891261364_3004896091083636736_o.jpg
END:VEVENT
BEGIN:VEVENT
DTSTART;VALUE=DATE:20191012
DTEND;VALUE=DATE:20191013
DTSTAMP:20260425T225227
CREATED:20190909T093158Z
LAST-MODIFIED:20190909T093158Z
UID:14289-1570838400-1570924799@beer.be
SUMMARY:La Source - Brewery & Bar Opening
DESCRIPTION:GRAND OPENING PARTY! Le 12/10\, La Source ouvrira ses portes sur le site du Be-Here à Tour&Taxis ! Au programme\, MEGA FIESTA et une quinzaine de bières à découvrir! \nmais aussi:\n* inauguration de Fermenthings & foodpairing\n* concerts\n* food trucks\n* flash tattoo\n* live painting \nbisous\nMathieu & Nina
URL:https://beer.be/agenda/la-source-brewery-bar-opening/
LOCATION:La Source Beer Co.\, 4 rue Dieudonné Lefèvre\, Bruxelles\, 1020\, Belgique
CATEGORIES:Ouverture
ATTACH;FMTTYPE=image/jpeg:https://beer.be/wp-content/uploads/2019/09/69434899_483194555572251_1166320810432921600_o.jpg
END:VEVENT
BEGIN:VEVENT
DTSTART;VALUE=DATE:20191013
DTEND;VALUE=DATE:20191014
DTSTAMP:20260425T225227
CREATED:20190909T094303Z
LAST-MODIFIED:20190909T094303Z
UID:14298-1570924800-1571011199@beer.be
SUMMARY:One year anniversary Party
DESCRIPTION:Un après notre grande ouverture\, nous sommes très heureux de vous accueillir de nouveau! Nos ouvrons nos portes afin de partager avec vous notre aventure et nos dernières créations.
URL:https://beer.be/agenda/one-year-anniversary-party/
CATEGORIES:Brasserie
ATTACH;FMTTYPE=image/jpeg:https://beer.be/wp-content/uploads/2019/09/70178337_670224080127720_4501123660328730624_o.jpg
END:VEVENT
BEGIN:VEVENT
DTSTART;VALUE=DATE:20191017
DTEND;VALUE=DATE:20191018
DTSTAMP:20260425T225227
CREATED:20191015T151402Z
LAST-MODIFIED:20191015T151402Z
UID:14430-1571270400-1571356799@beer.be
SUMMARY:Moving Fermentation #1
DESCRIPTION:Fresh news from our taps 😜 Directly from the woods of southern England. We are so happy to introduce you a new reality for the Moeder's family: Vibrant Forest Brewery 🌲🌳 \nWe'll block 8 lines at - Moeder Lambic Fontainas - from Thursday\, October 17th (11am) until ... the death of the kegs\, of course. 😎 \nOn tap this Thursday :\n• Summerlands 3.5% Session IPA\n• Pupa 4.5% Juicy Pale Ale\n• Chinook 5% Single Hop Pale\n• Kaleidoscope 6.5% India Pale Ale\n• Stone Sap 6.8% New England IPA\n• Barbarella 6.2% Rhubarb IPA\n• Black Forest 4.9% Porter\n• Duelling Scarabs 8% DIPA
URL:https://beer.be/agenda/moving-fermentation-1/
LOCATION:Moeder Lambic Fontainas\, 8 place Fontainas\, Bruxelles\, Bruxelles\, 1000\, Belgique
CATEGORIES:Tap Takeover
ATTACH;FMTTYPE=image/jpeg:https://beer.be/wp-content/uploads/2019/10/71890343_10156815166272686_3586394852910170112_o.jpg
END:VEVENT
BEGIN:VEVENT
DTSTART;VALUE=DATE:20191017
DTEND;VALUE=DATE:20191021
DTSTAMP:20260425T225227
CREATED:20191002T073512Z
LAST-MODIFIED:20191002T073512Z
UID:14376-1571270400-1571615999@beer.be
SUMMARY:Collabfest 2019
DESCRIPTION:Collabfest is the best time of year and in 2019\, we're going bigger and better than ever before. 4 days...78 breweries...16 countries...1 epic beer festival. If you don't know what Collabfest is... Every year\, our bars partner up with a local brewery and collaborate on a beer. These beers then get shipped out to every other bar for an beer filled 4-day showcase. Each day we'll be pouring new beers\, giving you to chance to try them all!
URL:https://beer.be/agenda/collabfest-2019/
LOCATION:Brewdog\, Putterij 20\, Brussels\, 1000\, Belgique
CATEGORIES:Autre
ATTACH;FMTTYPE=image/jpeg:https://beer.be/wp-content/uploads/2019/10/72622514_1657965534333533_9141943777659715584_n.jpg
END:VEVENT
BEGIN:VEVENT
DTSTART;VALUE=DATE:20191018
DTEND;VALUE=DATE:20191019
DTSTAMP:20260425T225227
CREATED:20190917T093041Z
LAST-MODIFIED:20190917T093041Z
UID:14334-1571356800-1571443199@beer.be
SUMMARY:Boekvoorstelling en taptakeover
DESCRIPTION:'Craft bier brouwen' is het tastbare resultaat van een jaar in het spoor van de new wave van Belgische brouwers. We stellen dit kleurrijke boek van Jeroen Bert\, met foto's van Nele Pierlet\, graag aan u voor bij verrassende bieren van Antidoot - Wilde Fermenten\, Brasserie Atrium\, Brasserie du Borinage\, Bieren Cabardouche\, Dok Brewing Company\, Nanobrasserie de l'Ermitage\, Siphon Brewing en Brouwerij 't Verzet. 'Craft bier brouwen' wordt uitgegeven bij Uitgeverij Lannoo.
URL:https://beer.be/agenda/boekvoorstelling-en-taptakeover/
LOCATION:DOK Brewing Company\, 4B Dok Noord\, Gent\, 9000\, Belgique
CATEGORIES:Autre
ATTACH;FMTTYPE=image/jpeg:https://beer.be/wp-content/uploads/2019/09/70466593_194237984923089_6106941791192219648_o.jpg
END:VEVENT
BEGIN:VEVENT
DTSTART;VALUE=DATE:20191018
DTEND;VALUE=DATE:20191019
DTSTAMP:20260425T225227
CREATED:20191015T151625Z
LAST-MODIFIED:20191015T151625Z
UID:14433-1571356800-1571443199@beer.be
SUMMARY:Australia is Coming: La Sirène Night
DESCRIPTION:We go every year to the Carnivale Brettanomyces in Amsterdam\, a semi professional beer festival dedicated to bretts and sours and “La Sirene” beers were one of our highlights this year. Costa\, who is based in Melbourne\, Australia\, makes absolutely fantastic saisons and sour beers. When he told us that some of his beers were on a boat to Europe\, we felt we had to find a way to bring them to Brussels. The amount of work put on the barrel aged beers is insane but it has a direct impact on the final product. For this night\, no tap takeover\, there will be only 2 of his beers on tap and 8 by the bottle. Quantities are limited (12 bottles only for most beers) but the barrel aged beers will be available by the taster as well\, to make sure everybody can have a go. \nBeer Menu:\n1) Saison - 6\,5% Complex rustic flavours of spice and a little funk combine deliciously to finally deliver a dry finish. \n2) Citray Sour – 4\,5% Sour Farmhouse Ale brewed with local hops\, house yeast\, house lactobacillus and oranges. \n3) Bière de Provision – 3\,8% Farmhouse Style Workers Beer - Light Bodied - Floral Crisp & unique wild yeast imparts tart refreshment. \n4) Paradoxe – 5% Classic grape characters and juicy yet tangy green fruits dominate with the bracing acidity that delivers a dry\, creamy and refreshing finish. \n5) Wild Saison – 6\,5% Fermented and aged with wild Brettanomyces yeast coupled with their trademark funk. \n6) Farmhouse Noir – 6\,5% Dark Farmhouse Ale with smooth rich and dark malts and their house yeast\, naturally soured using their indigenous bacteria\, and with earthy citrus hop characters. \n7) Wild Wit – 4\,8% The Wild Wit is a Farmhouse Style White Ale that was laid to rest back in 2015 in premium Burgundy barrels which previously had Chardonnay in them. After a secondary then tertiary fermentation\, they hopped this farmhouse White Ale with wonderfully tropical Galaxy to give it a new-world edge. \n8) Cuvee de Bois – 6\,2% Barrel Aged Wild Ale with Chardonnay - Cuvée De Bois began as an open fermented Farmhouse Ale\, that was co-fermented with Victorian "free run" Chardonnay and left to naturally sour for an extended period. To the young fermented beer\, they blended 2 x selected barriques of 2013 & 2014 Saison that had been barrel fermented and aged on chardonnay lees a modern day ‘Bière De Coupage’ technique where young and old beer is blended. Cuvée De Bois was laid on its side to mature and naturally carbonate using indigenous flora for the last 8 months. \n9) Reserve Saison – 7% Saison vintages aged in Burgundian Barriques and Hogsheads since 2015 and 2016. The Reserve Saison displays generous oak character and balance with ethereal yet rustic notes of the indigenous wild yeast residing within the walls of their brewery. The Reserve Saison is the ultimate expression of their site and House Style\, imparting a sense of place\, time and season to this wild ale. \n10) Bière de Cerise – 5\,5% Barrel Aged Sour Wild Cherry Ale Solera Method - Blended from various farmhouse ales that have matured in French Oak barriques. These wild ales sat on luscious whole European cherries for 18-36 months naturally allowing the wild flora found in the brewery to slowly ferment and /or sour the remaining sugars.
URL:https://beer.be/agenda/australia-is-coming-la-sirene-night/
CATEGORIES:Dynamo
ATTACH;FMTTYPE=image/jpeg:https://beer.be/wp-content/uploads/2019/10/73202875_2323926921039783_1200931529509830656_o.jpg
END:VEVENT
BEGIN:VEVENT
DTSTART;VALUE=DATE:20191019
DTEND;VALUE=DATE:20191020
DTSTAMP:20260425T225227
CREATED:20190104T112522Z
LAST-MODIFIED:20190104T112522Z
UID:13043-1571443200-1571529599@beer.be
SUMMARY:Bezoek brasserie Minne
DESCRIPTION:Brasserie de Bastogne is niet meer. Lang leve Brasserie Minne! We bezoeken de gloednieuwe brouwerij en proeven van hun bieren...
URL:https://beer.be/agenda/bezoek-brasserie-minne/
LOCATION:Brasserie Minne\, 3 Belleau\, Vaux-sur-Sûre\, 6640\, Belgique
CATEGORIES:Brasserie
ATTACH;FMTTYPE=image/jpeg:https://beer.be/wp-content/uploads/2019/01/49206519_2056401631065934_1336101533363732480_o.jpg
END:VEVENT
BEGIN:VEVENT
DTSTART;VALUE=DATE:20191019
DTEND;VALUE=DATE:20191020
DTSTAMP:20260425T225227
CREATED:20190925T070635Z
LAST-MODIFIED:20190925T070635Z
UID:14358-1571443200-1571529599@beer.be
SUMMARY:Mountain Bike live at l'Ermitage Taproom
DESCRIPTION:"Après une carrière fulgurante s'étant éteinte telle une étoile filante\, Mountain Bike revient sans nouvel album pour quelques concerts mous et éprouvants afin de tenter de retrouver leur vieille gloire d'antan." Ils nous font l'honneur d'un concert exclusif\, lunaire\, et déjà culte dans notre humble petite brasserie.
URL:https://beer.be/agenda/mountain-bike-live-at-lermitage-taproom/
LOCATION:Nanobrasserie de l'Ermitage\, 28 rue Lambert Crickx\, Bruxelles\, 1070\, Belgique
CATEGORIES:Concert
ATTACH;FMTTYPE=image/jpeg:https://beer.be/wp-content/uploads/2019/09/70666568_2172535239517486_5035227080086781952_o.jpg
END:VEVENT
BEGIN:VEVENT
DTSTART;VALUE=DATE:20191024
DTEND;VALUE=DATE:20191025
DTSTAMP:20260425T225227
CREATED:20191010T072053Z
LAST-MODIFIED:20191010T072053Z
UID:14401-1571875200-1571961599@beer.be
SUMMARY:BBP // Siphon Brewing Tap Takeover
DESCRIPTION:Come and meet Siphon Brewing ! Where Old World meets New World. A small Belgian brewery on the grounds of a four-generation-old family restaurant in Damme. They brew classic Belgian styles with a twist\, as well as international styles not always common in Belgium.
URL:https://beer.be/agenda/bbp-siphon-brewing-tap-takeover/
LOCATION:Brussels Beer Project Dansaert\, 188 rue Antoine Dansaert\, Bruxelles\, 1000\, Belgique
CATEGORIES:Tap Takeover
ATTACH;FMTTYPE=image/jpeg:https://beer.be/wp-content/uploads/2019/10/71475831_732667677174847_1049726252371410944_o.jpg
END:VEVENT
BEGIN:VEVENT
DTSTART;VALUE=DATE:20191025
DTEND;VALUE=DATE:20191026
DTSTAMP:20260425T225227
CREATED:20191015T152000Z
LAST-MODIFIED:20191015T152000Z
UID:14442-1571961600-1572047999@beer.be
SUMMARY:BBP x El Taco Mobil // Tacos night
DESCRIPTION:My head says gym\, but my heart says tacos ! Listen to your heart & join us for this amazing Tacos night ! El Taco Mobil will park his taquería ambulante in front of the brewery\, bringing you the authentic mexican sabor\, using only the best ingredients\, source from sustainable farmers and vendors.
URL:https://beer.be/agenda/bbp-x-el-taco-mobil-tacos-night/
LOCATION:Brussels Beer Project Dansaert\, 188 rue Antoine Dansaert\, Bruxelles\, 1000\, Belgique
CATEGORIES:Autre
ATTACH;FMTTYPE=image/jpeg:https://beer.be/wp-content/uploads/2019/10/72526312_741271196314495_93566446658912256_o.jpg
END:VEVENT
BEGIN:VEVENT
DTSTART;VALUE=DATE:20191025
DTEND;VALUE=DATE:20191026
DTSTAMP:20260425T225227
CREATED:20191024T074634Z
LAST-MODIFIED:20191024T074634Z
UID:14484-1571961600-1572047999@beer.be
SUMMARY:Moeder Lambic Original - Discovery : La Source
DESCRIPTION:Nous avons goûté\, nous avons aimé. Venez découvrir LA SOURCE ! La Brasserie LA SOURCE passe de l'autre côté du canal. 🍺 La Source Beer Co c'est une micro brasserie artisanale située au Be-Here près de Tour & Taxis (Metro Pannenhuis). 🍻\n• Taupe - 5% - Porter\n• Vipère - 6% - IPA (Cask)\n• Pigeon - 3\,5% - Sour dry hop sorachi ace\n• Daim - 8% - Belgian triple\n• Mauvaise herbe - 4\,5% - Gruit\n• Libellule - 4% - Wheate ale\n• Louve - 8% - Double IPA
URL:https://beer.be/agenda/moeder-lambic-original-discovery-la-source/
LOCATION:Moeder Lambic Fontainas\, 8 place Fontainas\, Bruxelles\, Bruxelles\, 1000\, Belgique
CATEGORIES:Moeder Lambic
ATTACH;FMTTYPE=image/jpeg:https://beer.be/wp-content/uploads/2019/10/73230222_943790095990308_5859623181853130752_n.jpg
END:VEVENT
BEGIN:VEVENT
DTSTART;VALUE=DATE:20191025
DTEND;VALUE=DATE:20191027
DTSTAMP:20260425T225227
CREATED:20191010T072750Z
LAST-MODIFIED:20191010T072750Z
UID:14410-1571961600-1572134399@beer.be
SUMMARY:Malt Attacks & Dynamo Anniversary Party
DESCRIPTION:Malt Attacks is turning 5 and Dynamo 4 end of this month. Time flies... but it's also the perfect excuse to get lots of beers from some of the best craft breweries from the UK! For this edition we'll bring beer from 6 different craft breweries\, some of our all time favourites and some new ones we have been following for a while and never seen in Belgium. 35 of the finest brews you can find in the country\, over the course of a weekend. 18 will be tapped on the Friday\, with a full new menu on the Saturday. Antoine will come with a pop up Malt Attacks to let you go back home with little souvenirs.
URL:https://beer.be/agenda/malt-attacks-dynamo-anniversary-party/
CATEGORIES:Dynamo
ATTACH;FMTTYPE=image/jpeg:https://beer.be/wp-content/uploads/2019/10/72458451_2314088872023588_8055129941521465344_o.jpg
END:VEVENT
BEGIN:VEVENT
DTSTART;VALUE=DATE:20191026
DTEND;VALUE=DATE:20191027
DTSTAMP:20260425T225227
CREATED:20190925T070837Z
LAST-MODIFIED:20190925T070837Z
UID:14361-1572048000-1572134399@beer.be
SUMMARY:EFP Bottle Club #2
DESCRIPTION:You have incredible bottles\, and don't know who could try these with you? One bottle is too big for you\, and you don't want to waste half of it? You are looking for some people to witness how amazing one beer is? Here comes the bottle club! Come with a 66/75 cl bottle (or 2x33cl) you have in your very own collection\, and introduce it to us. Let's share our passion and love for beer. This club is\, of course\, free to attend\, and everybody is welcome. Don't hesitate to invite your friends or family.
URL:https://beer.be/agenda/efp-bottle-club-2/
LOCATION:Brewdog\, Putterij 20\, Brussels\, 1000\, Belgique
CATEGORIES:Dégustation
ATTACH;FMTTYPE=image/jpeg:https://beer.be/wp-content/uploads/2019/09/70506889_1649559245174162_3692738372008148992_n.jpg
END:VEVENT
BEGIN:VEVENT
DTSTART;VALUE=DATE:20191027
DTEND;VALUE=DATE:20191028
DTSTAMP:20260425T225227
CREATED:20191020T071154Z
LAST-MODIFIED:20191020T071154Z
UID:14470-1572134400-1572220799@beer.be
SUMMARY:WinterKoninck tap opening
DESCRIPTION:Na 5 jaar weggeweest\, is hij terug. De enige echte WINTERKONINCK! In de bar ben je welkom voor een sfeervolle zondagnamiddag. Kom proeven van die eerste\, vers getapte wintervreugde. Bovendien\, speciaal voor deze gelegenheid\, trakteren we die dag iedereen bij de start van de tour op een eerste WinterKoninck. 😉
URL:https://beer.be/agenda/winterkoninck-tap-opening/
LOCATION:Brouwerij De Koninck\, Boomgaardstraat 37\, Anvers\, 2018\, Belgique
CATEGORIES:Brasserie
END:VEVENT
BEGIN:VEVENT
DTSTART;VALUE=DATE:20191029
DTEND;VALUE=DATE:20191030
DTSTAMP:20260425T225227
CREATED:20191010T072322Z
LAST-MODIFIED:20191010T072322Z
UID:14404-1572307200-1572393599@beer.be
SUMMARY:Tout\, tout\, vous saurez tout sur l’IPA
DESCRIPTION:Les questions sur les bières de style IPA sont tellement récurrentes que je vous propose de faire le point ! Origines\, contexte\, déclinaisons\, … et chez nous ? Venez en apprendre plus\, venez avec vos questions (on essayera...) et venez\, bien sûr\, en déguster ! Il y aura de la découverte.
URL:https://beer.be/agenda/tout-tout-vous-saurez-tout-sur-lipa/
LOCATION:Dekkera\, 109 rue Pierre Decoster\, Bruxelles\, 1190\, Belgique
CATEGORIES:Dégustation
ATTACH;FMTTYPE=image/jpeg:https://beer.be/wp-content/uploads/2019/10/71334366_510028489564064_750636472318558208_n.jpg
END:VEVENT
BEGIN:VEVENT
DTSTART;VALUE=DATE:20191031
DTEND;VALUE=DATE:20191101
DTSTAMP:20260425T225227
CREATED:20190817T103533Z
LAST-MODIFIED:20190817T103533Z
UID:14180-1572480000-1572566399@beer.be
SUMMARY:Halloween’s Monster Mash - Second Edition
DESCRIPTION:Hell-O boils and ghouls! Get ready for the second edition of Voodoo Vegan’s Halloween Monster Mash at Dynamo - Bar de Soif! Just like last year\, with plenty of spine-tingling music to lift the spirits (👻)\, old school B horror movie screenings and\, above all\, lots of scary delicious thematic food to share (or not)! It’s going to be terrrrrific!
URL:https://beer.be/agenda/halloweens-monster-mash-second-edition/
CATEGORIES:Dynamo
ATTACH;FMTTYPE=image/jpeg:https://beer.be/wp-content/uploads/2019/08/67641676_2407444316005883_6859525893740560384_n.jpg
END:VEVENT
BEGIN:VEVENT
DTSTART;VALUE=DATE:20191031
DTEND;VALUE=DATE:20191101
DTSTAMP:20260425T225227
CREATED:20191015T151737Z
LAST-MODIFIED:20191015T151737Z
UID:14436-1572480000-1572566399@beer.be
SUMMARY:It's a Fantôme Halloween
DESCRIPTION:A small showcase of Fantômes latest (and not only) creations. 4 beers 4 kegs 1 spooky night in the name of craft beer excellence!
URL:https://beer.be/agenda/its-a-fantome-halloween/
LOCATION:Brewdog\, Putterij 20\, Brussels\, 1000\, Belgique
CATEGORIES:Tap Takeover
ATTACH;FMTTYPE=image/jpeg:https://beer.be/wp-content/uploads/2019/10/72488071_1670232369773516_2802152056796741632_n.jpg
END:VEVENT
BEGIN:VEVENT
DTSTART;VALUE=DATE:20191031
DTEND;VALUE=DATE:20191104
DTSTAMP:20260425T225227
CREATED:20191020T070822Z
LAST-MODIFIED:20191020T070822Z
UID:14464-1572480000-1572825599@beer.be
SUMMARY:Hoof Hearted @Beergium BAR
DESCRIPTION:🍻 10 TAPS of 💨 Hoof Hearted Brewing 💨 from Columbus\, Ohio 👉 OHIO's best ⏩ Check them on Untappd\, the selection we'll offer have ratings between 4.17 & 4.63........!!!!! Not so BAD 🤣 \nQuit Your Fussin On Me - 4.17 !! 🤪 Sour DIPA w/ Boysenberries\, Blackberries\, Raspberries\, Vanilla & Milk Sugar\, 9%\nCowboy Konkey Dong - 4.32 !! 😱 DDH DIPA\, 8%\nRoller Blabe 3DH - 4.32 !! 😵 Triple Dry-Hopped DIPA\, 8%\nSouth of Eleven - 4.18 !! 😳 Hessian DIPA\, 10\,2%\nEverybody Wants Some (Vic Secret) - 4.20 !! 😱 Triple Dry-Hopped DIPA\, 9\,2%\nDragonsaddle - 4.63 !!!!!!!!!!!!!!!!!!!! 🤪🤪🤪🤪 Triple IPA\, 11\,5%Even More Tennis Elbow - 4.34 !!! 😵 Imperial Stout w/ Hazelnut\, Coconut & Vanilla\, 13% (Collab with Evil Twin Brewing)\nBourbon Barrel Aged Motion Lao-tion - 4.26 !! 😵 Imperial Stout w/ Laotion Coffee\, 11\,5% (Collab with Horus Aged Ales)\nBourbon Barrel Aged Fitness Freak - 4.46 !!!!! 🤪 Imperial Stout w/ Vanilla\, Maple & Hoof Hearted Coffee\, 14%\nBourbon Barrel Aged Girth Brooks - 4.48 !!!!!!!!!!!!!!!!!!!!!!!!!! 🤪 Imperial Stout w/ Coffee\, Coconut & Vanilla\, 15%
URL:https://beer.be/agenda/hoof-hearted-beergium-bar/
LOCATION:Beergium Bar\, 1227 Chaussée de Waterloo\, Bruxelles\, 1180\, Belgique
CATEGORIES:Tap Takeover
ATTACH;FMTTYPE=image/jpeg:https://beer.be/wp-content/uploads/2019/10/73067258_2473438712893238_5122369801859104768_n.jpg
END:VEVENT
END:VCALENDAR