BEGIN:VCALENDAR
VERSION:2.0
PRODID:-//Beer.be - ECPv6.15.20//NONSGML v1.0//EN
CALSCALE:GREGORIAN
METHOD:PUBLISH
X-ORIGINAL-URL:https://beer.be
X-WR-CALDESC:Évènements pour Beer.be
REFRESH-INTERVAL;VALUE=DURATION:PT1H
X-Robots-Tag:noindex
X-PUBLISHED-TTL:PT1H
BEGIN:VTIMEZONE
TZID:Europe/Brussels
BEGIN:DAYLIGHT
TZOFFSETFROM:+0100
TZOFFSETTO:+0200
TZNAME:CEST
DTSTART:20190331T010000
END:DAYLIGHT
BEGIN:STANDARD
TZOFFSETFROM:+0200
TZOFFSETTO:+0100
TZNAME:CET
DTSTART:20191027T010000
END:STANDARD
BEGIN:DAYLIGHT
TZOFFSETFROM:+0100
TZOFFSETTO:+0200
TZNAME:CEST
DTSTART:20200329T010000
END:DAYLIGHT
BEGIN:STANDARD
TZOFFSETFROM:+0200
TZOFFSETTO:+0100
TZNAME:CET
DTSTART:20201025T010000
END:STANDARD
BEGIN:DAYLIGHT
TZOFFSETFROM:+0100
TZOFFSETTO:+0200
TZNAME:CEST
DTSTART:20210328T010000
END:DAYLIGHT
BEGIN:STANDARD
TZOFFSETFROM:+0200
TZOFFSETTO:+0100
TZNAME:CET
DTSTART:20211031T010000
END:STANDARD
END:VTIMEZONE
BEGIN:VEVENT
DTSTART;VALUE=DATE:20200301
DTEND;VALUE=DATE:20200302
DTSTAMP:20260425T143806
CREATED:20200224T101540Z
LAST-MODIFIED:20200224T101540Z
UID:15196-1583020800-1583107199@beer.be
SUMMARY:Mushroom roast
DESCRIPTION:Deze Sunday roast staat volledig in het teken van paddestoelen.\nFood by BØEF: Kip shitake burger\nFood by RØK: 4 Verschillende paddestoel gerechten\nDrinks by Dok Brewing Company: Exclusieve versie van Blik op oneindig. Deze versie van onze triple mash barley wine onderging een extra rijping op gedroogde shitakes. Blik op oneindig zoals jullie hem kennen\, maar met extra umami.
URL:https://beer.be/agenda/mushroom-roast/
LOCATION:DOK Brewing Company\, 4B Dok Noord\, Gent\, 9000\, Belgique
CATEGORIES:Dégustation
END:VEVENT
BEGIN:VEVENT
DTSTART;VALUE=DATE:20200304
DTEND;VALUE=DATE:20200305
DTSTAMP:20260425T143806
CREATED:20200221T074353Z
LAST-MODIFIED:20200221T074353Z
UID:15169-1583280000-1583366399@beer.be
SUMMARY:La Brasserie Minne à l’honneur
DESCRIPTION:En Mars c’est la Brasserie Minne qui sera mise à l’honneur!
URL:https://beer.be/agenda/la-brasserie-minne-a-lhonneur/
LOCATION:El Senor Duck Napo\, Rue en neuvice 5\, Liège\, 4000\, Belgique
CATEGORIES:Dégustation
ATTACH;FMTTYPE=image/jpeg:https://beer.be/wp-content/uploads/2020/02/86659838_2720831237965010_2674689384640413696_n.jpg
END:VEVENT
BEGIN:VEVENT
DTSTART;VALUE=DATE:20200306
DTEND;VALUE=DATE:20200307
DTSTAMP:20260425T143806
CREATED:20200211T174354Z
LAST-MODIFIED:20200211T174354Z
UID:15083-1583452800-1583539199@beer.be
SUMMARY:Noisy Way (Blues- Garage) - Live at the Taproom
DESCRIPTION:Noisy Way vient de sortir son premier album " Get To The Essential"\, fin janvier dernier. Le groupe nous fait le plaisir d'un concert exclusif à la brasserie le 6 mars prochain. Cet album sent bon la suie et le whisky. C'est crasseux\, c'est du blues gras\, et on aime ça ! \nJetez-y une oreille par ici ... :\n> Spotify: https://spoti.fi/2tRFM4p\n> Apple Music: https://apple.co/2TWbDMc\n> Deezer: https://bit.ly/36sDKoy\n> YouTube: https://bit.ly/2TWK2KO... Et si vous voulez décupler l'expérience sensorielle\, passez les voir à la brasserie en dégustant l'une ou l'autre bonne bière.
URL:https://beer.be/agenda/noisy-way-blues-garage-live-at-the-taproom/
LOCATION:Nanobrasserie de l'Ermitage\, 28 rue Lambert Crickx\, Bruxelles\, 1070\, Belgique
CATEGORIES:Concert
ATTACH;FMTTYPE=image/jpeg:https://beer.be/wp-content/uploads/2020/02/85071056_2457435844360756_3821117809228775424_n.jpg
END:VEVENT
BEGIN:VEVENT
DTSTART;VALUE=DATE:20200307
DTEND;VALUE=DATE:20200308
DTSTAMP:20260425T143806
CREATED:20191230T195406Z
LAST-MODIFIED:20191230T195406Z
UID:14813-1583539200-1583625599@beer.be
SUMMARY:Proeverij Vrouwen en Bier
DESCRIPTION:Naar aanleiding van Internationale Vrouwendag staat onze proeverij volledig in het teken van Vrouwen & Bier!
URL:https://beer.be/agenda/proeverij-vrouwen-en-bier/
LOCATION:Brasserie Belgoo\, Georges Wittouckstraat 61\, Sint-Pieters-Leeuw\, 1600\, Belgique
CATEGORIES:Dégustation
ATTACH;FMTTYPE=image/jpeg:https://beer.be/wp-content/uploads/2019/12/80301609_2694849683887789_4607863506123882496_o.jpg
END:VEVENT
BEGIN:VEVENT
DTSTART;VALUE=DATE:20200307
DTEND;VALUE=DATE:20200308
DTSTAMP:20260425T143806
CREATED:20200204T154142Z
LAST-MODIFIED:20200204T154142Z
UID:15014-1583539200-1583625599@beer.be
SUMMARY:BoA / Droit Divin / A Supernaut / Finger Lick (free concerts)
DESCRIPTION:## STONER NIGHT ##\n## ANIMAL NE-DIPA RELEASE PARTY ##\n## Jy Vé BDAY BASH ## \n==============\n## TIME TABLE ##\n============== \n## 20:00 - BEAT OF APEX. (rock\, metal\, psy-stoner) ##\nBeat of Apex dark side op the Apex. \nRhythm Guitar: Vivien 'Monkey' H.\nDrums: François 'Moloss Gripal' Tshinkulu\nBass: Sasha 'Muscle' D'Hondt\nLead Guitar: Corentin 'C-Dawg' Sterckx \n## 21:00 - DROIT DIVIN. (rock\, stoner\, psycho 70's) ##\nDroit Divin is the pretend soundtrack of the violent and alcohol-fueled adventures of a fugitive renegade. \nGuitar: Nassos\nBass: Amaury\nDrums: Samuel \n## 22:00 - A SUPERNAUT. (rock\, alternative\, stoner) ##\nASupernaut Heavy Stoner mixologist band from Brux'HELL. \nGuitar: Thomas Venegoni\nBass: Nicolas Dekeuster\nDrums: Jean-François Hermand \n## 23:00 - FINGER LICK. (stoner rock) ##\nFinger Lick Sexy Stoner rock from the Hellhole. \nGuitar: Shaun von C\nDrums: Jonas Sanders\nBass: Benny Lust\nGuitar: Dash
URL:https://beer.be/agenda/boa-droit-divin-a-supernaut-finger-lick-free-concerts/
LOCATION:La Source Beer Co.\, 4 rue Dieudonné Lefèvre\, Bruxelles\, 1020\, Belgique
CATEGORIES:Concert
ATTACH;FMTTYPE=image/jpeg:https://beer.be/wp-content/uploads/2020/02/84049418_588956511662721_7839967662133215232_o.jpg
END:VEVENT
BEGIN:VEVENT
DTSTART;VALUE=DATE:20200307
DTEND;VALUE=DATE:20200308
DTSTAMP:20260425T143806
CREATED:20200305T080655Z
LAST-MODIFIED:20200305T080655Z
UID:15245-1583539200-1583625599@beer.be
SUMMARY:Day of the dude 2020
DESCRIPTION:March 6 is the anniversary of the 1998 film's release. Fans celebrate it as "The Day of the Dude\," in honor of the easygoing philosophy of the movie's protagonist\, played by Jeff Bridges. Jeff "The Dude" Lebowski is a single\, unemployed slacker who likes weed\, White Russians and bowling.
URL:https://beer.be/agenda/day-of-the-dude-2020/
LOCATION:Python\, 55 avenue Emile Max\, Bruxelles\, 1030\, Belgique
CATEGORIES:Python
ATTACH;FMTTYPE=image/jpeg:https://beer.be/wp-content/uploads/2020/03/89286143_877952069314807_1529471436454887424_o.jpg
END:VEVENT
BEGIN:VEVENT
DTSTART;VALUE=DATE:20200307
DTEND;VALUE=DATE:20200309
DTSTAMP:20260425T143806
CREATED:20190827T113725Z
LAST-MODIFIED:20190827T113725Z
UID:14228-1583539200-1583711999@beer.be
SUMMARY:Hoppe Craft Beer Fest 2020
DESCRIPTION:MEER DAN 100 BIEREN UIT MEER DAN 15 LANDEN\nHet International Craft Beer Fest HOPPE is uniek in zijn soort en biedt de ware bierfanaat een nieuw toevluchtsoord om zijn zintuigen te laten prikkelen door een uitgebreid aanbod van craftbieren uit alle uithoeken van de wereld. Kortom\, een evenement dat je absoluut niet mag missen! Wees er snel bij\, er is slechts plaats voor een gelimiteerd aantal bezoekers.
URL:https://beer.be/agenda/hoppe-craft-beer-fest-2020/
LOCATION:Hoppebeerfest\, 10 Kappelstraat\, Merksplas\, 2330\, Belgique
CATEGORIES:Festival
ATTACH;FMTTYPE=image/jpeg:https://beer.be/wp-content/uploads/2019/08/57909020_2544518958908964_287265017827426304_o-1.jpg
END:VEVENT
BEGIN:VEVENT
DTSTART;VALUE=DATE:20200308
DTEND;VALUE=DATE:20200309
DTSTAMP:20260425T143806
CREATED:20200216T084624Z
LAST-MODIFIED:20200216T084624Z
UID:15121-1583625600-1583711999@beer.be
SUMMARY:NOLA 2020
DESCRIPTION:Eind januari brouwden Kim (Zytholicious) en Daniella (Dok Brewing Company) opnieuw NOLA bij Siphon Brewing in Damme. Dit jaar werden ze bijgestaan door Paula (Brasserie Atrium)\, Charlotte (KEREL) en Johanna Pycke (Amour - Pycke Zot). Na de Hoppy Weizen van vorig jaar brouwden we deze keer een American Porter. Benieuwd? Kom dan NOLA proeven op Internationale Vrouwendag (8 maart) en hef het glas samen met deze door bier gepassioneerde vrouwen. RØK maakt de beleving compleet met een perfecte foodpairing!
URL:https://beer.be/agenda/nola-2020/
LOCATION:DOK Brewing Company\, 4B Dok Noord\, Gent\, 9000\, Belgique
CATEGORIES:Brasserie
ATTACH;FMTTYPE=image/jpeg:https://beer.be/wp-content/uploads/2020/02/86463866_899894837111390_457935237075173376_o.jpg
END:VEVENT
BEGIN:VEVENT
DTSTART;VALUE=DATE:20200311
DTEND;VALUE=DATE:20200314
DTSTAMP:20260425T143806
CREATED:20200221T074522Z
LAST-MODIFIED:20200221T074522Z
UID:15172-1583884800-1584143999@beer.be
SUMMARY:Piccolo Birrificio Clandestino TTO
DESCRIPTION:Straight from Livorno in Tuscany\, one of the historical and finest italian craft breweries will be joining us to invade our taste buds with their liquid wonders! These guys take the time to pamper their yeast and carefully select the hops\, malts and spices in their brews to make them so enjoyable that we'll be sipping our glasses clean in no time....
URL:https://beer.be/agenda/piccolo-birrificio-clandestino-tto/
LOCATION:Brewdog\, Putterij 20\, Brussels\, 1000\, Belgique
CATEGORIES:Tap Takeover
ATTACH;FMTTYPE=image/jpeg:https://beer.be/wp-content/uploads/2020/02/86488778_1812885492174869_604818230925590528_n.jpg
END:VEVENT
BEGIN:VEVENT
DTSTART;VALUE=DATE:20200312
DTEND;VALUE=DATE:20200313
DTSTAMP:20260425T143806
CREATED:20200305T080012Z
LAST-MODIFIED:20200305T080012Z
UID:15239-1583971200-1584057599@beer.be
SUMMARY:Dekkera bien qui boira le dernier
DESCRIPTION:Un jeudi soir après le boulot pour découvrir les trésors brassicoles d'une bièrerie de quartier et des objets en verre fabriqués à partir de bouteilles de bière (promis\, il n'y aura pas de Corona!).
URL:https://beer.be/agenda/dekkera-bien-qui-boira-le-dernier/
LOCATION:Dekkera\, 109 rue Pierre Decoster\, Bruxelles\, 1190\, Belgique
CATEGORIES:Dégustation
ATTACH;FMTTYPE=image/jpeg:https://beer.be/wp-content/uploads/2020/03/87988255_10159306779907004_3034977131491753984_o.jpg
END:VEVENT
BEGIN:VEVENT
DTSTART;VALUE=DATE:20200312
DTEND;VALUE=DATE:20200313
DTSTAMP:20260425T143806
CREATED:20200312T182127Z
LAST-MODIFIED:20200416T074056Z
UID:15279-1583971200-1584057599@beer.be
SUMMARY:Monthly Beer Workshops # March - Cereal Killer
DESCRIPTION:Chaque mois\, Agalmalt vous donne rendez-vous dans un chouette lieu bruxellois\, pour approcher ensemble une des nombreuses facettes de la bière. Ce sont nos Monthly Beer Workshops. Nous avons l'incroyable honneur de tenir le premier Workshop brandé Agalmalt dans un lieu cher à notre coeur\, GIST\, tenu par deux des amateurs de bière les plus compétents et les plus exigeants de Bruxelles: Jody et Jenlain. Au mois de mars: Les CEREALES ! L’Orge malté est de loin la céréale la plus utilisée dans le monde brassicole occidental. Pourtant\, elle est loin d'avoir l'exclusivité. Il y a d’autres qualités que le simple apport du sucre pour la fermentation à retirer des céréales\, et nous allons nous pencher là-dessus ce soir!
URL:https://beer.be/agenda/monthly-beer-workshops-march-cereal-killer/
CATEGORIES:Dégustation
ATTACH;FMTTYPE=image/jpeg:https://beer.be/wp-content/uploads/2020/03/85008873_115601666675610_6130233330118950912_o.jpg
END:VEVENT
BEGIN:VEVENT
DTSTART;VALUE=DATE:20200313
DTEND;VALUE=DATE:20200314
DTSTAMP:20260425T143806
CREATED:20200301T103258Z
LAST-MODIFIED:20200301T103258Z
UID:15210-1584057600-1584143999@beer.be
SUMMARY:Brewer's Delight #30 - La Source & Vote for housebeer & Dj Duke
DESCRIPTION:🍻👀Oh my! Oh my! Oh my! It's already the 30th tap takeover organised at Le Barboteur - Bièrothèque!!! 🍻👀 For this very special occasion\, we'll host Brussels new jewel La Source Beer Co with loads of new exciting and fresh beers. And even more WOW\, the brewery will present 3 (YES 3) test beers amongst which you'll be able to vote for the one you prefer to become our 2nd house beer after our beloved Ipa de Papa 🍻👀🍻👀 And ffor the sport\, DJ Duke will bring the heat to our aquarium with a fine selection of rock'n'roll djeeing!
URL:https://beer.be/agenda/brewers-delight-30-la-source-vote-for-housebeer-dj-duke/
LOCATION:Barboteur\, 23 avenue Louis Bertrand\, Bruxelles\, Schaerbeek\, 1030\, Belgique
CATEGORIES:Barboteur
ATTACH;FMTTYPE=image/jpeg:https://beer.be/wp-content/uploads/2020/03/87778012_1426291437552896_5073742534321111040_o.jpg
END:VEVENT
BEGIN:VEVENT
DTSTART;VALUE=DATE:20200313
DTEND;VALUE=DATE:20200314
DTSTAMP:20260425T143806
CREATED:20200301T103624Z
LAST-MODIFIED:20200301T103624Z
UID:15213-1584057600-1584143999@beer.be
SUMMARY:Conférence Le Houblon
DESCRIPTION:Ne ratez pas la prochaine conférence du Cercle Horticole... Présentée par un acteur locale de qualité ! Avec la participation de Ma Bouche Rit (avec entre autres du saucisson à l'Empire).
URL:https://beer.be/agenda/conference-le-houblon/
LOCATION:Cercle Horticole Boussu\, Rue Alfred Bendal 251\, Boussu\, 7300\, Belgique
CATEGORIES:Autre
ATTACH;FMTTYPE=image/jpeg:https://beer.be/wp-content/uploads/2020/03/88098821_2621456324660767_2168508479281561600_o.jpg
END:VEVENT
BEGIN:VEVENT
DTSTART;VALUE=DATE:20200313
DTEND;VALUE=DATE:20200314
DTSTAMP:20260425T143806
CREATED:20200312T182544Z
LAST-MODIFIED:20200313T092335Z
UID:15285-1584057600-1584143999@beer.be
SUMMARY:3 Fonteinen Tasting
DESCRIPTION:Conjure Friday 13th bad luck with a tasting of 6 outstanding beers! \nI.I Nocturne Valavonde (Nightfall): Dark beer with no wheat aged 30 months in barrels \nII.II Robijn blended & alive: 710gr of cherries per liter\, blended with a young lambic \nVII.IV Zotte kadeeën bosbes + framboos Blended & alive: 10% blueberry lambic\, 90% raspberry lambic aged in freshly emptied Bordeaux barrels \nVII.VI Zotte kadeeën trosbes + kriek Blended & alive: 75% red currant lambic\, 90% sour cherry lambic blended with young lambic then aged in freshly emptied Bordeaux barrels. \nZenne y Frontera batch 5 blend 49\nBlend of lambics aged in 40 years old Oloroso and PX sherry casks \nGolden Doesjel vintage 2012
URL:https://beer.be/agenda/3-fonteinen-tasting/
LOCATION:Beergium Bar\, 1227 Chaussée de Waterloo\, Bruxelles\, 1180\, Belgique
CATEGORIES:Dégustation
ATTACH;FMTTYPE=image/jpeg:https://beer.be/wp-content/uploads/2020/03/89156531_2610443872526054_5497656588120358912_n.jpg
END:VEVENT
BEGIN:VEVENT
DTSTART;VALUE=DATE:20200314
DTEND;VALUE=DATE:20200315
DTSTAMP:20260425T143806
CREATED:20200211T173958Z
LAST-MODIFIED:20200211T173958Z
UID:15073-1584144000-1584230399@beer.be
SUMMARY:Léopold 7 fête ses 7 ans !
DESCRIPTION:Léopold 7 a l'énooooooorme plaisir de vous convier à fêter ses 7 ans à la Brasserie\, le samedi 14 mars prochain ! 👉 Bookez dès à présent la date de cette journée-soirée-anniversaire qui débutera dès 14h et durera.... jusqu'aux petites heures de la nuit ! Nous vous attendons nombreux\, petits et grands ! 🍻\nAu programme : ⚡Bar Léopold 7 / Foodtrucks sucrés et salés / Concerts / Dégustations / Visites / Photomaton... et de nombreuses surprises à découvrir au fur et à mesure d'ici le jour J !
URL:https://beer.be/agenda/leopold-7-fete-ses-7-ans/
LOCATION:Léopold 7\, 17 rue de la Médaille\, Liège\, 4218\, Belgique
CATEGORIES:Brasserie
ATTACH;FMTTYPE=image/jpeg:https://beer.be/wp-content/uploads/2020/02/84091475_2658257627614836_946037985135034368_o.jpg
END:VEVENT
BEGIN:VEVENT
DTSTART;VALUE=DATE:20200314
DTEND;VALUE=DATE:20200315
DTSTAMP:20260425T143806
CREATED:20200224T101413Z
LAST-MODIFIED:20200224T101413Z
UID:15193-1584144000-1584230399@beer.be
SUMMARY:Brassin Public - Open brouwdag - Public brewing session
DESCRIPTION:Nous organisons un brassin public deux samedis par an\, en novembre et en mars. Le second de la saison de brassage 2019/2020 se tiendra le samedi 14 mars 2020. \n🕛 Programme :\nde 07h à 09h00 Opération de brassage\nde 09h00 à 13h00 Filtration et houblonnage\nde 12h00 à 15h00 Cuisson du moût\nvers 15h30 Pompage du moût sur le bac refroidissoir\nde 07h à 12h00 Nettoyage des fûts à l’ancienne \nVisites guidées en français toutes les demi-heures à partir de 7h10 et jusqu’à 16h10.\nTICKETS : https://www.billetweb.fr/samedi-14-mars-2020-brassin-public-chez-cantillon&language=fr
URL:https://beer.be/agenda/brassin-public-open-brouwdag-public-brewing-session-2/
LOCATION:Cantillon\, rue Gheude\, 56\, Bruxelles\, 1070\, Belgique
CATEGORIES:Brasserie
ATTACH;FMTTYPE=image/jpeg:https://beer.be/wp-content/uploads/2020/02/87358956_3002344856484137_3957267031266426880_o-1.jpg
END:VEVENT
BEGIN:VEVENT
DTSTART;VALUE=DATE:20200327
DTEND;VALUE=DATE:20200328
DTSTAMP:20260425T143806
CREATED:20200324T125442Z
LAST-MODIFIED:20200324T125442Z
UID:15307-1585267200-1585353599@beer.be
SUMMARY:TBBR Beers Party (Facebook live)
DESCRIPTION:Venez partager une bière virtuellement avec l'équipe BYR Games & Cowmic ... Nous parlerons de l'actualité\, d'un éventuel report de la campagne\, du Kickstarter\, ... et de ce que vous voudrez 🙂 Toutes les questions seront les bienvenues. On vous demandera de poster des photos de vous dégustant une bonne bière devant votre écran (il se peut qu'il y ai un chat sur le coté\, toutes les informations seront postées d'ici là).
URL:https://beer.be/agenda/tbbr-beers-party-facebook-live/
CATEGORIES:Autre
ATTACH;FMTTYPE=image/jpeg:https://beer.be/wp-content/uploads/2020/03/90503022_2692320640877337_4614527465711206400_o.jpg
END:VEVENT
END:VCALENDAR