BEGIN:VCALENDAR
VERSION:2.0
PRODID:-//Beer.be - ECPv6.15.20//NONSGML v1.0//EN
CALSCALE:GREGORIAN
METHOD:PUBLISH
X-WR-CALNAME:Beer.be
X-ORIGINAL-URL:https://beer.be
X-WR-CALDESC:Évènements pour Beer.be
REFRESH-INTERVAL;VALUE=DURATION:PT1H
X-Robots-Tag:noindex
X-PUBLISHED-TTL:PT1H
BEGIN:VTIMEZONE
TZID:Europe/Brussels
BEGIN:DAYLIGHT
TZOFFSETFROM:+0100
TZOFFSETTO:+0200
TZNAME:CEST
DTSTART:20200329T010000
END:DAYLIGHT
BEGIN:STANDARD
TZOFFSETFROM:+0200
TZOFFSETTO:+0100
TZNAME:CET
DTSTART:20201025T010000
END:STANDARD
BEGIN:DAYLIGHT
TZOFFSETFROM:+0100
TZOFFSETTO:+0200
TZNAME:CEST
DTSTART:20210328T010000
END:DAYLIGHT
BEGIN:STANDARD
TZOFFSETFROM:+0200
TZOFFSETTO:+0100
TZNAME:CET
DTSTART:20211031T010000
END:STANDARD
BEGIN:DAYLIGHT
TZOFFSETFROM:+0100
TZOFFSETTO:+0200
TZNAME:CEST
DTSTART:20220327T010000
END:DAYLIGHT
BEGIN:STANDARD
TZOFFSETFROM:+0200
TZOFFSETTO:+0100
TZNAME:CET
DTSTART:20221030T010000
END:STANDARD
END:VTIMEZONE
BEGIN:VEVENT
DTSTART;VALUE=DATE:20210401
DTEND;VALUE=DATE:20210402
DTSTAMP:20260424T174446
CREATED:20210331T045035Z
LAST-MODIFIED:20210331T045035Z
UID:16473-1617235200-1617321599@beer.be
SUMMARY:Drinking with the Idiots #3
DESCRIPTION:Join us live for a special tasting of six barley wines with Grégoire Rifaut at Dynamo\, his bar and bottle shop in Brussels. These are collaborations put together by Jef Pirens of D'Oude Maalderij with Brasserie Minne\, Brouwerij 't Verzet\, 't Hofbrouwerijke\, Brouwerij Alvinne\, Totem and Atrium under a project he calls 'Brewmance' or Mash of the Titans. We are going to be April Fools after trying out this six pack!
URL:https://beer.be/agenda/drinking-with-the-idiots-3/
CATEGORIES:Autre
ATTACH;FMTTYPE=image/jpeg:https://beer.be/wp-content/uploads/2021/03/167142956_1160034001106611_8386815654637996964_n.jpg
END:VEVENT
BEGIN:VEVENT
DTSTART;VALUE=DATE:20210409
DTEND;VALUE=DATE:20210410
DTSTAMP:20260424T174446
CREATED:20210311T094123Z
LAST-MODIFIED:20210311T094123Z
UID:16370-1617926400-1618012799@beer.be
SUMMARY:Virtueel brouwerijbezoek
DESCRIPTION:We missen het om onze passie met jullie te kunnen delen. Daarom nodigen we jullie graag virtueel uit in onze brouwerij. Je hoort waar wij als brouwerij voor staan\, hoe we brouwen\, wat we brouwen en hoe dit is ontstaan.\nUiteraard hoort bij een brouwerijbezoek ook proeven! Daarom ontvang je een pakket met onze 4 vaste bieren + wat extra’s. Het virtueel bezoek zal ongeveer 2 uur duren.
URL:https://beer.be/agenda/virtueel-brouwerijbezoek/
CATEGORIES:Brasserie
ATTACH;FMTTYPE=image/jpeg:https://beer.be/wp-content/uploads/2021/03/159385595_4483803038312935_3692574385545303436_o.jpg
END:VEVENT
BEGIN:VEVENT
DTSTART;VALUE=DATE:20210416
DTEND;VALUE=DATE:20210417
DTSTAMP:20260424T174446
CREATED:20210414T044600Z
LAST-MODIFIED:20210414T044600Z
UID:16531-1618531200-1618617599@beer.be
SUMMARY:Evénement surprise
DESCRIPTION:
URL:https://beer.be/agenda/evenement-surprise/
CATEGORIES:Autre
ATTACH;FMTTYPE=image/jpeg:https://beer.be/wp-content/uploads/2021/04/173171850_1080224632498784_6033792013475963571_n.jpg
END:VEVENT
BEGIN:VEVENT
DTSTART;VALUE=DATE:20210423
DTEND;VALUE=DATE:20210424
DTSTAMP:20260424T174446
CREATED:20210422T051125Z
LAST-MODIFIED:20210422T051125Z
UID:16555-1619136000-1619222399@beer.be
SUMMARY:BEER SALE #2
DESCRIPTION:Join us from 4 to 7 to discover two latest releases\n The long awaited DOUBLE TROUBLE (double IPA) finally in cans and produced in our brewery !\n Aswell as the super tasteful CALAVERA (IPA)\, stock of this first batch will go fast …
URL:https://beer.be/agenda/beer-sale-2/
LOCATION:Brasserie Surréaliste\, Place du Nouveau Marché aux Grains 22-23\, Bruxelles\, 1000\, Belgique
CATEGORIES:Autre
ATTACH;FMTTYPE=image/jpeg:https://beer.be/wp-content/uploads/2021/04/175999345_875961329651569_6452182566595721107_n.jpg
END:VEVENT
END:VCALENDAR