BEGIN:VCALENDAR
VERSION:2.0
PRODID:-//Beer.be - ECPv6.15.20//NONSGML v1.0//EN
CALSCALE:GREGORIAN
METHOD:PUBLISH
X-WR-CALNAME:Beer.be
X-ORIGINAL-URL:https://beer.be
X-WR-CALDESC:Évènements pour Beer.be
REFRESH-INTERVAL;VALUE=DURATION:PT1H
X-Robots-Tag:noindex
X-PUBLISHED-TTL:PT1H
BEGIN:VTIMEZONE
TZID:Europe/Brussels
BEGIN:DAYLIGHT
TZOFFSETFROM:+0100
TZOFFSETTO:+0200
TZNAME:CEST
DTSTART:20200329T010000
END:DAYLIGHT
BEGIN:STANDARD
TZOFFSETFROM:+0200
TZOFFSETTO:+0100
TZNAME:CET
DTSTART:20201025T010000
END:STANDARD
BEGIN:DAYLIGHT
TZOFFSETFROM:+0100
TZOFFSETTO:+0200
TZNAME:CEST
DTSTART:20210328T010000
END:DAYLIGHT
BEGIN:STANDARD
TZOFFSETFROM:+0200
TZOFFSETTO:+0100
TZNAME:CET
DTSTART:20211031T010000
END:STANDARD
BEGIN:DAYLIGHT
TZOFFSETFROM:+0100
TZOFFSETTO:+0200
TZNAME:CEST
DTSTART:20220327T010000
END:DAYLIGHT
BEGIN:STANDARD
TZOFFSETFROM:+0200
TZOFFSETTO:+0100
TZNAME:CET
DTSTART:20221030T010000
END:STANDARD
END:VTIMEZONE
BEGIN:VEVENT
DTSTART;VALUE=DATE:20210601
DTEND;VALUE=DATE:20210605
DTSTAMP:20260424T140623
CREATED:20210420T134818Z
LAST-MODIFIED:20210420T134818Z
UID:16545-1622505600-1622851199@beer.be
SUMMARY:The brewers of Europe Forum
DESCRIPTION:Non-alcoholic beers are rising in Europe and small breweries have joined the move! Discover how small breweries can brew the perfect non-alcoholic #beers with our experts Dr Michel from GEA Craft Brewing\, Manuel from Zeta Beer\, Angel from Cerveza Majadera and Dr Gastl from TU München.
URL:https://beer.be/agenda/the-brewers-of-europe-forum/
CATEGORIES:Autre
ATTACH;FMTTYPE=image/jpeg:https://beer.be/wp-content/uploads/2021/04/175501495_2510521532589255_3718102775161571400_n.jpg
END:VEVENT
BEGIN:VEVENT
DTSTART;VALUE=DATE:20210602
DTEND;VALUE=DATE:20210606
DTSTAMP:20260424T140623
CREATED:20210601T045924Z
LAST-MODIFIED:20210601T045924Z
UID:16748-1622592000-1622937599@beer.be
SUMMARY:Around the World - Beer Release
DESCRIPTION:Reizen zit er momenteel nog niet echt in\, dus brengen we de bestemmingen naar hier. Met BIER! En prachtig zonnig weer op ons terras.\nWe gaan langs 3 continenten en 6 landen voor de release van deze week:\n++ Polen\n++ USA\n++ Rusland\n++ Spanje\n++ Verenigd Koninkrijk\n++ en jawel\, Zuid-Korea\nEen mooie lijst met verse IPAs\, sours\, stouts en medes van meer dan 15 verschillende craft brouwerijen.
URL:https://beer.be/agenda/around-the-world-beer-release/
CATEGORIES:Autre
ATTACH;FMTTYPE=image/jpeg:https://beer.be/wp-content/uploads/2021/06/194246281_321059382947728_6049381710058081824_n.jpg
END:VEVENT
BEGIN:VEVENT
DTSTART;VALUE=DATE:20210604
DTEND;VALUE=DATE:20210605
DTSTAMP:20260424T140623
CREATED:20210604T052630Z
LAST-MODIFIED:20210604T052630Z
UID:16776-1622764800-1622851199@beer.be
SUMMARY:drinkdrink! Taproom
DESCRIPTION:Bières et bonnes choses à manger\nBier en lekker eten
URL:https://beer.be/agenda/drinkdrink-taproom/
LOCATION:DrinkDrink\, 123 Rue Paepsem\, Bruxelles\, 1070\, Belgique
CATEGORIES:Autre
ATTACH;FMTTYPE=image/jpeg:https://beer.be/wp-content/uploads/2021/06/195982936_1888823774617139_3206433199662307638_n-scaled.jpg
END:VEVENT
BEGIN:VEVENT
DTSTART;VALUE=DATE:20210604
DTEND;VALUE=DATE:20210605
DTSTAMP:20260424T140623
CREATED:20210607T053031Z
LAST-MODIFIED:20210607T053031Z
UID:16799-1622764800-1622851199@beer.be
SUMMARY:Vulpuloid IPA release
DESCRIPTION:Release van onze Vulpuloid ipa. Een West Coast Hazy IPA\, gebrouwen zoals wij onze ipa's graag drinken: volmondig met een fijne carbonatie\, hint van fruit\, licht kruidig\, een beetje harsig en een dorstlessende bittere afdronk.
URL:https://beer.be/agenda/vulpuloid-ipa-release/
LOCATION:Beerlovers Bar\, Rotterdamstraat 105\, Anvers\, 2060\, Belgique
CATEGORIES:Autre
ATTACH;FMTTYPE=image/jpeg:https://beer.be/wp-content/uploads/2021/06/194815793_919708938874482_849731632740899850_n.jpg
END:VEVENT
BEGIN:VEVENT
DTSTART;VALUE=DATE:20210611
DTEND;VALUE=DATE:20210612
DTSTAMP:20260424T140623
CREATED:20210604T052122Z
LAST-MODIFIED:20210604T052122Z
UID:16767-1623369600-1623455999@beer.be
SUMMARY:Sabro Bianco (House beer) - Release party
DESCRIPTION:L'équipe de l'Ermitage Saint-Gilles s'est réunie pour brasser une bière exclusive pour notre bar. Pour l'occasion nous allons également brancher des futs rares de notre programme de fermentations mixtes vieillies dans notre "cellier".
URL:https://beer.be/agenda/sabro-bianco-house-beer-release-party/
LOCATION:L'Ermitage Saint-Gilles\, 34 rue de Moscou\, Bruxelles\, 1060\, Belgique
CATEGORIES:Autre
ATTACH;FMTTYPE=image/jpeg:https://beer.be/wp-content/uploads/2021/06/193348683_498574508255345_4412613413125147972_n.jpg
END:VEVENT
BEGIN:VEVENT
DTSTART;VALUE=DATE:20210611
DTEND;VALUE=DATE:20210612
DTSTAMP:20260424T140623
CREATED:20210607T052925Z
LAST-MODIFIED:20210607T052925Z
UID:16795-1623369600-1623455999@beer.be
SUMMARY:Pizza & Bier
DESCRIPTION:Elke 2e en 4e vrijdag van de maand ben je terug welkom bij ons om heerlijke zuurdesem pizza's te komen eten uit onze steenoven met daarbij een lekker biertje! Reservatie is mogelijk (en aan te raden in deze tijden) op info@thofbrouwerijke.be. Voor de living-on-the-edgers\, je kan steeds langskomen en hopen dat er nog een tafeltje vrij is.
URL:https://beer.be/agenda/pizza-bier/
LOCATION:'t Hofbrouwerijke\, 151 Hoogstraat\, Putte\, Belgique
CATEGORIES:Brasserie
ATTACH;FMTTYPE=image/jpeg:https://beer.be/wp-content/uploads/2021/06/197418927_10159611062013628_5894536777514492861_n.jpg
END:VEVENT
BEGIN:VEVENT
DTSTART;VALUE=DATE:20210612
DTEND;VALUE=DATE:20210613
DTSTAMP:20260424T140623
CREATED:20210530T081445Z
LAST-MODIFIED:20210530T081445Z
UID:16727-1623456000-1623542399@beer.be
SUMMARY:Brewers Roundtable: Tradition and Innovation
DESCRIPTION:On June 12 we'll get together with with Sakiškės from Lithuania\, DOK from Belgium\, and Browar Stu Mostow from Poland for a chat about innovation and change.
URL:https://beer.be/agenda/brewers-roundtable-tradition-and-innovation/
LOCATION:DOK Brewing Company\, 4B Dok Noord\, Gent\, 9000\, Belgique
CATEGORIES:Autre
ATTACH;FMTTYPE=image/jpeg:https://beer.be/wp-content/uploads/2021/05/192733293_159807519487031_3765325293828330528_n.jpg
END:VEVENT
BEGIN:VEVENT
DTSTART;VALUE=DATE:20210612
DTEND;VALUE=DATE:20210613
DTSTAMP:20260424T140623
CREATED:20210607T052729Z
LAST-MODIFIED:20210607T052729Z
UID:16792-1623456000-1623542399@beer.be
SUMMARY:Les Jurgens Brothers au Gist
DESCRIPTION:Garage/punk/synth... Mr Bernard & professeur Durt vous préparent un set endiablé! Ca commence tôt\, venez tôt !
URL:https://beer.be/agenda/les-jurgens-brothers-au-gist/
CATEGORIES:Gist
ATTACH;FMTTYPE=image/jpeg:https://beer.be/wp-content/uploads/2021/06/195975924_10158214591081526_8634197483107786235_n.jpg
END:VEVENT
BEGIN:VEVENT
DTSTART;VALUE=DATE:20210615
DTEND;VALUE=DATE:20210616
DTSTAMP:20260424T140623
CREATED:20210526T140507Z
LAST-MODIFIED:20210526T140507Z
UID:16711-1623715200-1623801599@beer.be
SUMMARY:Rencontre gastronomique avec la brasserie Atrium
DESCRIPTION:Venez découvrir les bières de la brasserie Atrium autour d'un menu concocté par le chef Olivier Baijot.
URL:https://beer.be/agenda/rencontre-gastronomique-avec-la-brasserie-atrium/
LOCATION:Restaurant Le Saint-Gilles\, 28 rue Saint-Gilles\, Saint-Hubert\, 6870\, Belgique
CATEGORIES:Dégustation
ATTACH;FMTTYPE=image/jpeg:https://beer.be/wp-content/uploads/2021/05/190287493_4621841754509988_4326058305487315500_n.jpg
END:VEVENT
BEGIN:VEVENT
DTSTART;VALUE=DATE:20210619
DTEND;VALUE=DATE:20210620
DTSTAMP:20260424T140624
CREATED:20210526T140904Z
LAST-MODIFIED:20210526T140904Z
UID:16719-1624060800-1624147199@beer.be
SUMMARY:Dégustation Saison Colmant @ Drink Experience
DESCRIPTION:Venez découvrir la Saison Colmant autour d'une dégustation gratuite samedi 19/06/2021 au Drink Experience !
URL:https://beer.be/agenda/degustation-saison-colmant-drink-experience/
LOCATION:Drink Experience\, 14 avenue Léopold III\, Bray\, 7130\, Belgique
CATEGORIES:Dégustation
ATTACH;FMTTYPE=image/jpeg:https://beer.be/wp-content/uploads/2021/05/191418387_661352808117132_1099156332601817868_n.jpg
END:VEVENT
BEGIN:VEVENT
DTSTART;VALUE=DATE:20210619
DTEND;VALUE=DATE:20210620
DTSTAMP:20260424T140624
CREATED:20210615T050024Z
LAST-MODIFIED:20210615T050024Z
UID:16828-1624060800-1624147199@beer.be
SUMMARY:L'effet de Vénus
DESCRIPTION:Meet us Saturday 19th June at the brewery for the 𝑽𝒆𝒏𝒖𝒔 𝑬𝒇𝒇𝒆𝒄𝒕 launch party.\nVenus Effect is 4\,5% Gose\, this light and refreshing beer is emblematic of germanic Goslar region. The little acidity and subtle salty finish makes is a perfect summer beer.\n Crowdfunders: You are welcome to come pick up your dream pack if you didn't had the occasion yet. (250€ / 100€ / 55€)\n Member of the Surréaliste Beer Club You can come get your pack of June. 6 Venus Effect\, lucky fellows \n In stock beers to buy on take away and beers on draft !\n\nWe are also very happy to announce a collab with Chez Mama who will cook delicious finger food inspired by her travels. 
URL:https://beer.be/agenda/leffet-de-venus/
LOCATION:Brasserie Surréaliste\, Place du Nouveau Marché aux Grains 22-23\, Bruxelles\, 1000\, Belgique
CATEGORIES:Brasserie
ATTACH;FMTTYPE=image/jpeg:https://beer.be/wp-content/uploads/2021/06/197842662_903976976850004_7573325848020084267_n.jpg
END:VEVENT
BEGIN:VEVENT
DTSTART;VALUE=DATE:20210619
DTEND;VALUE=DATE:20210620
DTSTAMP:20260424T140624
CREATED:20210617T052110Z
LAST-MODIFIED:20210617T052110Z
UID:16837-1624060800-1624147199@beer.be
SUMMARY:Poland-Spain with Funky Fluid
DESCRIPTION:This Saturday night\, Poland will compete against Spain for the EURO competition\nGrzegorz from Funky Fluid is in town\, so they will join us for a Polish night - sharing good beers\, and watching the game!!!\nFor the occasion\, we'll serve some exclusive kegs from Funky Fluid:\nCzech Pils: Classic Czech-style Pilsner with Saaz hops\nGelato: Blotkake (collab with LERVIG) :Ice Cream Sour inspired by Norwegian Cake\, brewed with huge amounts of Raspberries\, Cranberries\, Marshmallow\, Vanilla & Graham Cracker\nTriple Talus: Triple New England IPA with Talus and Citra\nLeviathan: Imperial Rye Baltic Porter infused with Toasted Coconut and high quality Cocoa Beans from Beskid Chocolate\nPastry Chef - Blueberry Maple Muffin : Sweet Imperial Stout brewed with Blueberries\, Maple Syrup & Cinnamon\nBlack Currant Sour: Sour with Blackcurrant\nAlso the 24 CANS from their EUROBOX
URL:https://beer.be/agenda/poland-spain-with-funky-fluid/
LOCATION:Beergium Bar\, 1227 Chaussée de Waterloo\, Bruxelles\, 1180\, Belgique
CATEGORIES:Tap Takeover
ATTACH;FMTTYPE=image/jpeg:https://beer.be/wp-content/uploads/2021/06/201740059_2989705181266586_3088899355145678560_n.jpg
END:VEVENT
BEGIN:VEVENT
DTSTART;VALUE=DATE:20210624
DTEND;VALUE=DATE:20210625
DTSTAMP:20260424T140624
CREATED:20210601T045808Z
LAST-MODIFIED:20210601T045808Z
UID:16745-1624492800-1624579199@beer.be
SUMMARY:Fugushima Launch Event
DESCRIPTION:Hello les amis bruxellois ! Retrouvez-nous au Dynamo le 24 juin pour un event de lancement de notre Fugushima. On y sera à partir de 17h30. Vous pouvez évidemment inviter des amis à vous 
URL:https://beer.be/agenda/fugushima-launch-event/
CATEGORIES:Dynamo
ATTACH;FMTTYPE=image/jpeg:https://beer.be/wp-content/uploads/2021/06/191696217_10226302517894928_696235605654654156_n.jpg
END:VEVENT
BEGIN:VEVENT
DTSTART;VALUE=DATE:20210624
DTEND;VALUE=DATE:20210625
DTSTAMP:20260424T140624
CREATED:20210621T045932Z
LAST-MODIFIED:20210621T045932Z
UID:16854-1624492800-1624579199@beer.be
SUMMARY:CASK ALERT! English Bitter by La Jungle
DESCRIPTION:A one and only cask of the new Brussels English Bitter made by brewery La Jungle ! You want to try it? Be quick!
URL:https://beer.be/agenda/cask-alert-english-bitter-by-la-jungle/
CATEGORIES:Gist
ATTACH;FMTTYPE=image/jpeg:https://beer.be/wp-content/uploads/2021/06/202710346_1185256095248625_3015945005604533381_n.jpg
END:VEVENT
BEGIN:VEVENT
DTSTART;VALUE=DATE:20210624
DTEND;VALUE=DATE:20210625
DTSTAMP:20260424T140624
CREATED:20210624T050148Z
LAST-MODIFIED:20210624T050148Z
UID:16883-1624492800-1624579199@beer.be
SUMMARY:Anniversary Tasting Event - Vintage Stout Night
DESCRIPTION:Hops N More bestaat 1 jaar. We doen een heleboel leuke activiteiten om dit te vieren. Met een reeks leuke\, thematische tastings willen we onze passie voor craft bier delen.\nTijdens deze tasting staan donkere\, zware bieren centraal. We proeven een reeks Imperial Stouts en Barleywines\, al dan niet op vat gelegen. Er zitten ook leuke vintage edities tussen.\nEnkele van de flessen die we samen gaan proeven:\n++ The Bruery - Black Tuesday Rum BA 2014\n++ The Bruery - Chocolate Rain 2018\n++ Goose Island - BCBS Rare 2015\n++ Cigar City - Double Barrel Hunahpu\nen meer!\nAantal personen: 10\nWe werken samen met de lokale handelaars voor enkele leuke food pairings:\nMacaron van MMacaron\nDessertje van Sarah Renson\nKaasje van Elsen\nInschrijven kan via e-mail naar info@hopsnmore.com
URL:https://beer.be/agenda/anniversary-tasting-event-vintage-stout-night/
CATEGORIES:Dégustation
ATTACH;FMTTYPE=image/jpeg:https://beer.be/wp-content/uploads/2021/06/202361695_333570741696592_3528909828681443217_n.jpg
END:VEVENT
BEGIN:VEVENT
DTSTART;VALUE=DATE:20210625
DTEND;VALUE=DATE:20210626
DTSTAMP:20260424T140624
CREATED:20210617T051939Z
LAST-MODIFIED:20210617T051939Z
UID:16834-1624579200-1624665599@beer.be
SUMMARY:Dry & Bitter Tap Takeover
DESCRIPTION:Let’s have another tap takeover on Friday 25 with Dry & Bitter. There will be 8 beers on tap and a good 15 by the can. Long time we haven’t had freshly kegged beer from Denmark and Dry & Bitter only makes great beers. This can only be a very promising night\, and don’t worry there is no football on tv.\n\nHere is the lineup:\nLion Around - Session IPA\nChristian Bale Ale - Session IPA\n"Ampersand series": Citra - DDH IPA\n"The Versus Series": Northern Hemisphere - Double IPA\n"The Versus Series": Southern Hemisphere - Double IPA\nThe Gate - Double IPA\nTrip Hazard - Triple IPA\nCherubik - Cherry Sour
URL:https://beer.be/agenda/dry-bitter-tap-takeover/
CATEGORIES:Dynamo
ATTACH;FMTTYPE=image/jpeg:https://beer.be/wp-content/uploads/2021/06/199964984_3844834902282303_5873768162137584725_n.jpg
END:VEVENT
BEGIN:VEVENT
DTSTART;VALUE=DATE:20210626
DTEND;VALUE=DATE:20210627
DTSTAMP:20260424T140624
CREATED:20210624T045140Z
LAST-MODIFIED:20210624T045140Z
UID:16869-1624665600-1624751999@beer.be
SUMMARY:Vivement Dimanche met son grain de sel
DESCRIPTION: Merci à vous pour votre bonne humeur lors que cette première édition.\nNous remettons cela dès samedi  et tous les samedis durant l'été! Rendez-vous sur la magnifique terrasse de Fleur de Sel (90\, Rue de la Station à Mouscron).\n✓Bières maison au fût\n✓Bières invitées en bouteille\n✓Vins frais\n✓Diffusion des matchs de L'Euro\n✓Grignotages par le chef Alex
URL:https://beer.be/agenda/vivement-dimanche-met-son-grain-de-sel/
LOCATION:Brasserie Vivement Dimanche\, 4 rue de la Passerelle\, Mouscron\, 7700\, Belgique
CATEGORIES:Brasserie
ATTACH;FMTTYPE=image/jpeg:https://beer.be/wp-content/uploads/2021/06/204213922_882484259292829_4053000396221930454_n.jpg
END:VEVENT
BEGIN:VEVENT
DTSTART;VALUE=DATE:20210627
DTEND;VALUE=DATE:20210628
DTSTAMP:20260424T140624
CREATED:20210530T082424Z
LAST-MODIFIED:20210530T082424Z
UID:16738-1624752000-1624838399@beer.be
SUMMARY:Meet the brewer of L'annexe
DESCRIPTION:Are you the owner of our brewery tour in a box?\nwww.beersecret.com/tour/onlinebrewerytour\n\nThen\, join us for this Meet the brewer session where to question Maxim of brewery L'annexe.\n\nWhat do to before this Q&A session?\n  Enjoy the beers at your own pace while experiencing a virtual guide in the brewery thanks to the delivered videos.\nWhat to expect of this Q&A session?\n\nGet ready for this sensational live online session where to introduce you to the brewer of Brussels brewery L'annexe. More beer secrets will be revealed : take this golden opportunity to ask your deep-rooted questions.\n\nLet’s open your Zoom window (more info delivered within the beer box)\, put on any beer dresscode and you're set to go.\nLiselot and Maxim are excited to meet you and entertain you with the right passion.\nWe can't wait to hear your questions.\nAfter exploring more secrets of the brewer\, the evening has become to an end. Don’t forget to ask Liselot another beer suggestion that is similar with your favourite beer of the tasting!\nPlease note:\n- English speaking
URL:https://beer.be/agenda/meet-the-brewer-of-lannexe/
CATEGORIES:Brasserie
ATTACH;FMTTYPE=image/jpeg:https://beer.be/wp-content/uploads/2021/05/193292986_4042206939167609_95286209391393902_n.jpg
END:VEVENT
END:VCALENDAR