BEGIN:VCALENDAR
VERSION:2.0
PRODID:-//Beer.be - ECPv6.15.20//NONSGML v1.0//EN
CALSCALE:GREGORIAN
METHOD:PUBLISH
X-WR-CALNAME:Beer.be
X-ORIGINAL-URL:https://beer.be
X-WR-CALDESC:Évènements pour Beer.be
REFRESH-INTERVAL;VALUE=DURATION:PT1H
X-Robots-Tag:noindex
X-PUBLISHED-TTL:PT1H
BEGIN:VTIMEZONE
TZID:Europe/Brussels
BEGIN:DAYLIGHT
TZOFFSETFROM:+0100
TZOFFSETTO:+0200
TZNAME:CEST
DTSTART:20210328T010000
END:DAYLIGHT
BEGIN:STANDARD
TZOFFSETFROM:+0200
TZOFFSETTO:+0100
TZNAME:CET
DTSTART:20211031T010000
END:STANDARD
BEGIN:DAYLIGHT
TZOFFSETFROM:+0100
TZOFFSETTO:+0200
TZNAME:CEST
DTSTART:20220327T010000
END:DAYLIGHT
BEGIN:STANDARD
TZOFFSETFROM:+0200
TZOFFSETTO:+0100
TZNAME:CET
DTSTART:20221030T010000
END:STANDARD
BEGIN:DAYLIGHT
TZOFFSETFROM:+0100
TZOFFSETTO:+0200
TZNAME:CEST
DTSTART:20230326T010000
END:DAYLIGHT
BEGIN:STANDARD
TZOFFSETFROM:+0200
TZOFFSETTO:+0100
TZNAME:CET
DTSTART:20231029T010000
END:STANDARD
END:VTIMEZONE
BEGIN:VEVENT
DTSTART;VALUE=DATE:20220413
DTEND;VALUE=DATE:20220414
DTSTAMP:20260424T004304
CREATED:20211118T074648Z
LAST-MODIFIED:20211118T074648Z
UID:18243-1649808000-1649894399@beer.be
SUMMARY:Los Jackpots
DESCRIPTION:Una coctel de vibras y sonidos que transitan del rnb al funk pop\, haciendo escala en parajes tropicales.\nhttps://www.facebook.com/LosJackpots\nhttps://www.instagram.com/losjackpots/\nhttps://open.spotify.com/artist/2hu9ZI6nTX4VN9JiRKVGtV
URL:https://beer.be/agenda/los-jackpots/
CATEGORIES:Concert
ATTACH;FMTTYPE=image/jpeg:https://beer.be/wp-content/uploads/2021/11/256775541_367815125136278_3481685445597459623_n.jpg
END:VEVENT
BEGIN:VEVENT
DTSTART;VALUE=DATE:20220422
DTEND;VALUE=DATE:20220424
DTSTAMP:20260424T004304
CREATED:20211209T064039Z
LAST-MODIFIED:20211209T064039Z
UID:18554-1650585600-1650758399@beer.be
SUMMARY:Bespelingen van het Lot III | Twisting the Fate III
DESCRIPTION:Public  · Tout le monde (avec ou sans compte Facebook)\n\n\n\n\n\n\n\n In 2022 gaan onze Bespelingen van het Lot door op vrijdag 22 en zaterdag 23 april. “Speling van het Lot” is een reeks van experimentele brouwsels\, vatrijpingen\, fruitmaceraties en/of assemblages met een beperkte oplage.\nHoud deze pagina in de gaten voor meer updates.\n∙\n In 2022\, our Twisting the Fate event will happen on Friday\, April 22nd and Saturday\, April 23rd. “Twist of faith” are our limited edition series of experimental brews\, cask maturations\, fruit macerations and/or blends.
URL:https://beer.be/agenda/bespelingen-van-het-lot-iii-twisting-the-fate-iii/
LOCATION:Brouwerij 3 Fonteinen\, 47 Molenstraat\, Beersel\, 1651\, Belgique
CATEGORIES:Brasserie
ATTACH;FMTTYPE=image/jpeg:https://beer.be/wp-content/uploads/2021/12/263567949_7131528983538910_7558688882477976629_n.jpg
END:VEVENT
BEGIN:VEVENT
DTSTART;VALUE=DATE:20220423
DTEND;VALUE=DATE:20220425
DTSTAMP:20260424T004304
CREATED:20211114T140039Z
LAST-MODIFIED:20211114T140039Z
UID:18202-1650672000-1650844799@beer.be
SUMMARY:Zythos Bierfestival 2022
DESCRIPTION:After 2 years of absence\, WE ARE BACK!\nStay tuned for more info on who's coming and what beers they will bring.\nShortly before the event we will give more info on COVID measures based on the situation and rules at that time.
URL:https://beer.be/agenda/zythos-bierfestival-2022/
LOCATION:Brabanthal\, Brabantlaan 1\, Leuven\, 3001\, Belgique
CATEGORIES:Festival
ATTACH;FMTTYPE=image/jpeg:https://beer.be/wp-content/uploads/2021/11/255991816_1945695255592756_3450219545992858284_n.jpg
END:VEVENT
END:VCALENDAR