BEGIN:VCALENDAR
VERSION:2.0
PRODID:-//Beer.be - ECPv6.15.20//NONSGML v1.0//EN
CALSCALE:GREGORIAN
METHOD:PUBLISH
X-ORIGINAL-URL:https://beer.be
X-WR-CALDESC:Évènements pour Beer.be
REFRESH-INTERVAL;VALUE=DURATION:PT1H
X-Robots-Tag:noindex
X-PUBLISHED-TTL:PT1H
BEGIN:VTIMEZONE
TZID:Europe/Brussels
BEGIN:DAYLIGHT
TZOFFSETFROM:+0100
TZOFFSETTO:+0200
TZNAME:CEST
DTSTART:20210328T010000
END:DAYLIGHT
BEGIN:STANDARD
TZOFFSETFROM:+0200
TZOFFSETTO:+0100
TZNAME:CET
DTSTART:20211031T010000
END:STANDARD
BEGIN:DAYLIGHT
TZOFFSETFROM:+0100
TZOFFSETTO:+0200
TZNAME:CEST
DTSTART:20220327T010000
END:DAYLIGHT
BEGIN:STANDARD
TZOFFSETFROM:+0200
TZOFFSETTO:+0100
TZNAME:CET
DTSTART:20221030T010000
END:STANDARD
BEGIN:DAYLIGHT
TZOFFSETFROM:+0100
TZOFFSETTO:+0200
TZNAME:CEST
DTSTART:20230326T010000
END:DAYLIGHT
BEGIN:STANDARD
TZOFFSETFROM:+0200
TZOFFSETTO:+0100
TZNAME:CET
DTSTART:20231029T010000
END:STANDARD
END:VTIMEZONE
BEGIN:VEVENT
DTSTART;VALUE=DATE:20221007
DTEND;VALUE=DATE:20221009
DTSTAMP:20260423T152133
CREATED:20210624T045822Z
LAST-MODIFIED:20211130T174100Z
UID:16879-1665100800-1665273599@beer.be
SUMMARY:Oud Bruin Fest '22
DESCRIPTION:Who said Oud Bruin is a thing for old men? Flemish Red Sour ale is more popular than ever! It's a good thing the classic Oud Bruin makers still exist\, and some new players are joining the ranks. There is a lot of experimenting going on... Different malts\, barrels\, new techniques and additions of fruits. Never before the style enjoyed such creativity\, diversity and craftmanship. The time is right to bring them all together and to compare them. Come join us at our 2 day beer festival and find out yourself!
URL:https://beer.be/agenda/oud-bruin-fest-21/
LOCATION:Depart\, Nelson Mandelaplein 18\, Kortrijk\, 8500\, Belgique
CATEGORIES:Festival
ATTACH;FMTTYPE=image/jpeg:https://beer.be/wp-content/uploads/2021/06/205712338_121871773428890_2954772148227939141_n.jpg
END:VEVENT
END:VCALENDAR