BEGIN:VCALENDAR
VERSION:2.0
PRODID:-//Beer.be - ECPv6.15.20//NONSGML v1.0//EN
CALSCALE:GREGORIAN
METHOD:PUBLISH
X-WR-CALNAME:Beer.be
X-ORIGINAL-URL:https://beer.be
X-WR-CALDESC:Évènements pour Beer.be
REFRESH-INTERVAL;VALUE=DURATION:PT1H
X-Robots-Tag:noindex
X-PUBLISHED-TTL:PT1H
BEGIN:VTIMEZONE
TZID:Europe/Brussels
BEGIN:DAYLIGHT
TZOFFSETFROM:+0100
TZOFFSETTO:+0200
TZNAME:CEST
DTSTART:20180325T010000
END:DAYLIGHT
BEGIN:STANDARD
TZOFFSETFROM:+0200
TZOFFSETTO:+0100
TZNAME:CET
DTSTART:20181028T010000
END:STANDARD
BEGIN:DAYLIGHT
TZOFFSETFROM:+0100
TZOFFSETTO:+0200
TZNAME:CEST
DTSTART:20190331T010000
END:DAYLIGHT
BEGIN:STANDARD
TZOFFSETFROM:+0200
TZOFFSETTO:+0100
TZNAME:CET
DTSTART:20191027T010000
END:STANDARD
BEGIN:DAYLIGHT
TZOFFSETFROM:+0100
TZOFFSETTO:+0200
TZNAME:CEST
DTSTART:20200329T010000
END:DAYLIGHT
BEGIN:STANDARD
TZOFFSETFROM:+0200
TZOFFSETTO:+0100
TZNAME:CET
DTSTART:20201025T010000
END:STANDARD
END:VTIMEZONE
BEGIN:VEVENT
DTSTART;VALUE=DATE:20191220
DTEND;VALUE=DATE:20191221
DTSTAMP:20260419T175119
CREATED:20191205T075918Z
LAST-MODIFIED:20191205T075918Z
UID:14736-1576800000-1576886399@beer.be
SUMMARY:Penyllan - Ladies' night
DESCRIPTION:My dear friend (and amazing brewer)\, Jessica sent me some of her beautiful ladies so I can host an exclusive tasting. Very limited\, first come first served! We will be tasting 8 beers (in alphabetical order): \nAngela (Vintage 2015) Red Ale\nhttps://untappd.com/b/penyllan-angela-vintage-2015/3180011\nCarolyn (Vintage 2017) - Golden Ale\nhttps://untappd.com/b/penyllan-carolyn-vintage-2017/3310841\nEartha (Vintage 2015) - Old Ale\nhttps://untappd.com/b/penyllan-eartha-vintage-2015/3180000\nFreya (Vintage 2015) - Traditional Ale\nhttps://untappd.com/b/penyllan-freya-vintage-2015/3180005\nLaura (Vintage 2016) - Farmhouse Ale - Saison (Jester King collaboration)\nhttps://untappd.com/b/penyllan-laura-vintage-2016/3179998\nNina 2015 - Farmhouse Ale - Saison\nhttps://untappd.com/b/penyllan-nina-2015/2322727\nRoxy - Bourbon (Vintage 2015) - Old Ale\nhttps://untappd.com/b/penyllan-roxy-bourbon-vintage-2015/3186884\nTerry (Vintage 2015) - Farmhouse Ale - Saison\nhttps://untappd.com/b/penyllan-terry-vintage-2015/3180015
URL:https://beer.be/agenda/penyllan-ladies-night/
LOCATION:Beerfreakchick\, 23 Dok-Zuid\, Gent\, 9000\, Belgique
CATEGORIES:Dégustation
ATTACH;FMTTYPE=image/jpeg:https://beer.be/wp-content/uploads/2019/12/78971921_3002020223144842_7459404980995227648_o.jpg
END:VEVENT
END:VCALENDAR