BEGIN:VCALENDAR
VERSION:2.0
PRODID:-//Beer.be - ECPv6.15.20//NONSGML v1.0//EN
CALSCALE:GREGORIAN
METHOD:PUBLISH
X-ORIGINAL-URL:https://beer.be
X-WR-CALDESC:Évènements pour Beer.be
REFRESH-INTERVAL;VALUE=DURATION:PT1H
X-Robots-Tag:noindex
X-PUBLISHED-TTL:PT1H
BEGIN:VTIMEZONE
TZID:Europe/Brussels
BEGIN:DAYLIGHT
TZOFFSETFROM:+0100
TZOFFSETTO:+0200
TZNAME:CEST
DTSTART:20200329T010000
END:DAYLIGHT
BEGIN:STANDARD
TZOFFSETFROM:+0200
TZOFFSETTO:+0100
TZNAME:CET
DTSTART:20201025T010000
END:STANDARD
BEGIN:DAYLIGHT
TZOFFSETFROM:+0100
TZOFFSETTO:+0200
TZNAME:CEST
DTSTART:20210328T010000
END:DAYLIGHT
BEGIN:STANDARD
TZOFFSETFROM:+0200
TZOFFSETTO:+0100
TZNAME:CET
DTSTART:20211031T010000
END:STANDARD
BEGIN:DAYLIGHT
TZOFFSETFROM:+0100
TZOFFSETTO:+0200
TZNAME:CEST
DTSTART:20220327T010000
END:DAYLIGHT
BEGIN:STANDARD
TZOFFSETFROM:+0200
TZOFFSETTO:+0100
TZNAME:CET
DTSTART:20221030T010000
END:STANDARD
END:VTIMEZONE
BEGIN:VEVENT
DTSTART;VALUE=DATE:20210825
DTEND;VALUE=DATE:20210826
DTSTAMP:20260421T053006
CREATED:20210817T051249Z
LAST-MODIFIED:20210817T051249Z
UID:17249-1629849600-1629935999@beer.be
SUMMARY:Brewdog à Roulettes (Belgian Beer Week)
DESCRIPTION:For the Belgian Beer Week\, La Brasserie à Roulettes invites you to share its beers at the BrewDog bar\, including the brand new Hell's Ale. Join us and enjoy authentic Dog's & Roulettes craft beers. Each of our beer are associated to a character. During the evening we'll organise a Brasserie à Roulettes character disguise context. Come disguised and get a free beer. The best of each category (Terminator\, AC/DC\, Ghost) will be rewarded by genuine Brasserie à Roulettes goodies.
URL:https://beer.be/agenda/brewdog-a-roulettes-belgian-beer-week/
LOCATION:Brewdog\, Putterij 20\, Brussels\, 1000\, Belgique
CATEGORIES:Autre
ATTACH;FMTTYPE=image/jpeg:https://beer.be/wp-content/uploads/2021/08/235305725_689007639166342_2681216990411926287_n.jpg
END:VEVENT
END:VCALENDAR