BEGIN:VCALENDAR
VERSION:2.0
PRODID:-//Beer.be - ECPv6.15.20//NONSGML v1.0//EN
CALSCALE:GREGORIAN
METHOD:PUBLISH
X-WR-CALNAME:Beer.be
X-ORIGINAL-URL:https://beer.be
X-WR-CALDESC:Évènements pour Beer.be
REFRESH-INTERVAL;VALUE=DURATION:PT1H
X-Robots-Tag:noindex
X-PUBLISHED-TTL:PT1H
BEGIN:VTIMEZONE
TZID:Europe/Brussels
BEGIN:DAYLIGHT
TZOFFSETFROM:+0100
TZOFFSETTO:+0200
TZNAME:CEST
DTSTART:20200329T010000
END:DAYLIGHT
BEGIN:STANDARD
TZOFFSETFROM:+0200
TZOFFSETTO:+0100
TZNAME:CET
DTSTART:20201025T010000
END:STANDARD
BEGIN:DAYLIGHT
TZOFFSETFROM:+0100
TZOFFSETTO:+0200
TZNAME:CEST
DTSTART:20210328T010000
END:DAYLIGHT
BEGIN:STANDARD
TZOFFSETFROM:+0200
TZOFFSETTO:+0100
TZNAME:CET
DTSTART:20211031T010000
END:STANDARD
BEGIN:DAYLIGHT
TZOFFSETFROM:+0100
TZOFFSETTO:+0200
TZNAME:CEST
DTSTART:20220327T010000
END:DAYLIGHT
BEGIN:STANDARD
TZOFFSETFROM:+0200
TZOFFSETTO:+0100
TZNAME:CET
DTSTART:20221030T010000
END:STANDARD
END:VTIMEZONE
BEGIN:VEVENT
DTSTART;VALUE=DATE:20210203
DTEND;VALUE=DATE:20210204
DTSTAMP:20260425T160635
CREATED:20210201T151315Z
LAST-MODIFIED:20210201T151315Z
UID:16096-1612310400-1612396799@beer.be
SUMMARY:Les faux-goûts dans la bière : les (re)connaître\, les éviter
DESCRIPTION:Comment éviter les faux-goûts dans votre prochaine bière? Les connaître permet de mieux comprendre certaines étapes de la fabrication des bières et de vous poser les bonnes questions sur vos procédés ainsi que vos matières premières. Avec ce webinaire\, découvrez ce que sont les faux-goûts\, comment ils se manifestent dans vos bières\, comment les reconnaître et les éviter. Michaël Gelender : Zythologue et technicien dans les processus de fermentation\, après un passage à la Brasserie Haacht en Belgique\, il dirige actuellement la société Brewpark. Florian Antoine : Auparavant microbiologiste en brasserie puis formateur et conseiller auprès de l’IFBM\, Florian est technico-commercial de Lallemand Brewing en France\, Suisse et Belgique.\nInscrivez-vous https://www.crowdcast.io/e/connaitrelesfauxgouts
URL:https://beer.be/agenda/les-faux-gouts-dans-la-biere-les-reconnaitre-les-eviter/
CATEGORIES:Autre
ATTACH;FMTTYPE=image/jpeg:https://beer.be/wp-content/uploads/2021/02/144292776_3923326171031815_5608141657560198799_o.jpg
END:VEVENT
BEGIN:VEVENT
DTSTART;VALUE=DATE:20210220
DTEND;VALUE=DATE:20210221
DTSTAMP:20260425T160635
CREATED:20210218T145932Z
LAST-MODIFIED:20210218T145932Z
UID:16260-1613779200-1613865599@beer.be
SUMMARY:Growlers are Back
DESCRIPTION:Le retour des GROWLERS ! On branche les fûts et on ouvre les pompes pour remplir ces bouteilles réutilisables (± 2L) à emporter. Growlers en vente à la brasserie\, petits prix au remplissage.\n\nTAP LIST* :\nPrimitive 011 - Sauvignon Sour\nSalamandre - Raspberry & Rhubarb Sour\nLocuste - Barrel Aged Sour Gruit\nAnguille - DDH IPA\nCarpe - Session IPA\nPrimitive 014 - Salt & Pepper Gose\nOne - Sorachi Ace Lager\nOne - Sabro Sour IPA\nEpervier - Belgian IPA\nFeu & Sang - Blackberry and Mugwort Sour Ale\n1030 Des Bermudes - Tepache sour\nBelle Dame - Brusseleir Weisse
URL:https://beer.be/agenda/growlers-are-back/
LOCATION:La Source Beer Co.\, 4 rue Dieudonné Lefèvre\, Bruxelles\, 1020\, Belgique
CATEGORIES:Brasserie
ATTACH;FMTTYPE=image/jpeg:https://beer.be/wp-content/uploads/2021/02/151164961_829370110954692_6882419897716157872_n.jpg
END:VEVENT
BEGIN:VEVENT
DTSTART;VALUE=DATE:20210221
DTEND;VALUE=DATE:20210222
DTSTAMP:20260425T160635
CREATED:20210223T052826Z
LAST-MODIFIED:20210223T052826Z
UID:16266-1613865600-1613951999@beer.be
SUMMARY:Vente directe de bières à la houblonniere
DESCRIPTION:
URL:https://beer.be/agenda/vente-directe-de-bieres-a-la-houblonniere/
LOCATION:Houblons de Bruxelles\, rue du bois\, Bruxelles\, 1090\, Belgium
CATEGORIES:Autre
ATTACH;FMTTYPE=image/jpeg:https://beer.be/wp-content/uploads/2021/02/151106089_5053324588075728_8822954589569114833_o.jpg
END:VEVENT
BEGIN:VEVENT
DTSTART;VALUE=DATE:20210226
DTEND;VALUE=DATE:20210227
DTSTAMP:20260425T160635
CREATED:20210218T145649Z
LAST-MODIFIED:20210218T145649Z
UID:16257-1614297600-1614383999@beer.be
SUMMARY:Online tasting D’oude maalderij
DESCRIPTION:Aangezien de huidige omstandigheden het ons niet toe laten om een bier tasting met een grote groep mensen te organiseren hebben we besloten om elke maand een online biertasting te organiseren. Dit gaat elke maand met een andere brouwerij zijn waarmee we samenwerken. Deze online tasting gaat doorgaan elke laatste vrijdag van de maand in de brouwerij zelf. De brouwer gaat gedurende 2 uur uitleg geven over de verschillende bieren die in de tasting-box zitten terwijl u thuis kan genieten van de bieren! Men gaat het hebben over de smaak\, oorsprong\, brouwproces\, informatie over de brouwerij & over welke gerechten er het beste bijpassen. Bij deze box zit steeds een gratis degustatieglas & een proefformulier waarop u de bieren kan beoordelen. De eerste online tasting is live te volgen via Facebook vanuit D’oude maalderij op vrijdag 26 februari vanaf 19 uur. De tasting-box kan u bestellen tot zondag 21 februari! \n\nhttps://www.poseidonbeers.be/product/online-tasting-1-2/
URL:https://beer.be/agenda/online-tasting-doude-maalderij/
CATEGORIES:Dégustation
ATTACH;FMTTYPE=image/jpeg:https://beer.be/wp-content/uploads/2021/02/143514797_215709773581761_7505206595949504836_n.jpg
END:VEVENT
END:VCALENDAR