BEGIN:VCALENDAR
VERSION:2.0
PRODID:-//Beer.be - ECPv6.15.20//NONSGML v1.0//EN
CALSCALE:GREGORIAN
METHOD:PUBLISH
X-ORIGINAL-URL:https://beer.be
X-WR-CALDESC:Évènements pour Beer.be
REFRESH-INTERVAL;VALUE=DURATION:PT1H
X-Robots-Tag:noindex
X-PUBLISHED-TTL:PT1H
BEGIN:VTIMEZONE
TZID:Europe/Brussels
BEGIN:DAYLIGHT
TZOFFSETFROM:+0100
TZOFFSETTO:+0200
TZNAME:CEST
DTSTART:20180325T010000
END:DAYLIGHT
BEGIN:STANDARD
TZOFFSETFROM:+0200
TZOFFSETTO:+0100
TZNAME:CET
DTSTART:20181028T010000
END:STANDARD
BEGIN:DAYLIGHT
TZOFFSETFROM:+0100
TZOFFSETTO:+0200
TZNAME:CEST
DTSTART:20190331T010000
END:DAYLIGHT
BEGIN:STANDARD
TZOFFSETFROM:+0200
TZOFFSETTO:+0100
TZNAME:CET
DTSTART:20191027T010000
END:STANDARD
BEGIN:DAYLIGHT
TZOFFSETFROM:+0100
TZOFFSETTO:+0200
TZNAME:CEST
DTSTART:20200329T010000
END:DAYLIGHT
BEGIN:STANDARD
TZOFFSETFROM:+0200
TZOFFSETTO:+0100
TZNAME:CET
DTSTART:20201025T010000
END:STANDARD
END:VTIMEZONE
BEGIN:VEVENT
DTSTART;VALUE=DATE:20190124
DTEND;VALUE=DATE:20190125
DTSTAMP:20260420T083102
CREATED:20190116T104815Z
LAST-MODIFIED:20190116T104815Z
UID:13092-1548288000-1548374399@beer.be
SUMMARY:Biertasting & barbecue in Villa Anamma
DESCRIPTION:A very friendly beer-takeover. De eerste kruisbestuiving tussen Villa Anamma en Gent Brouwt is een feit!\nWe kennen elkaar al wat jaren van tijdens Copacobana Festival (dat wijze festival met dito Gentse bierbar). Maar één keer per jaar samen zijn\, dat voelde toch meer als een gemis dan als liefde... Vandaar dat we ook doorheen het jaar de handen in elkaar slaan\, gewoon omdat het kan. Gezellig! \n*** \nDonderdag 24 januari 2019 neemt Gent Brouwt deels de bar van Villa Anamma over om er een biertasting te houden. Hoe? Wel\, die avond schenken wij uitsluitend bier afkomstig van brouwerijen van Gent Brouwt. Denk mobiele taps\, bieren die je misschien niet kent en brouwers die uitleg geven waarom er niets boven Gentse bieren gaat. De brouwerijen die aanwezig zullen zijn\, zijn de volgende: L'Arogante\, Pils 13\, Gruut\, Dok Brewing Company\, Crabbelaer\, De Mederie\, De Laatste Drinker\, Humboldt&Gauss en Brouwbar. \n*** \nHoe de avond er in grote lijnen zal uit zien:\n- Eerst en vooral: lekker iets eten met\, uiteraard\, een biertje er bij\n- De geserveerde bieren zijn die avond uitsluitend door Gent Brouwt geselecteerd.\n- De DJs van dienst zijn Jorre van brouwerij De Mederie en Jerome van de Laatste Drinker. 60s/70s/80s\, classics en wat nog? Zolang het maar op vinyl is geperst\, komt het door de boxen. Tussen de nummers door kanje hun naar hun bieren vragen 😉\n- DJ's? Jawel! Als je zin hebt om je benen los te gooien\, ga je gang. Wij maken de dansvloer alvast vrij. Blijf je liever zitten? Ook goed! \n*** \nReserveren is niet nodig\, maar ben je toch liever zeker van een tafeltje? Dan kan je reserveren via info@villa-anamma.be of 0460 94 71 72. Hou het event in de gaten voor verdere info!
URL:https://beer.be/agenda/biertasting-barbecue-in-villa-anamma/
LOCATION:Villa Anamma\, Gustaaf Carelshof 35\, Gand\, 9040\, Belgique
CATEGORIES:Dégustation
ATTACH;FMTTYPE=image/png:https://beer.be/wp-content/uploads/2019/01/49810368_281436612544852_2499678044378103808_n.png
END:VEVENT
END:VCALENDAR