BEGIN:VCALENDAR
VERSION:2.0
PRODID:-//Beer.be - ECPv6.15.20//NONSGML v1.0//EN
CALSCALE:GREGORIAN
METHOD:PUBLISH
X-WR-CALNAME:Beer.be
X-ORIGINAL-URL:https://beer.be
X-WR-CALDESC:Évènements pour Beer.be
REFRESH-INTERVAL;VALUE=DURATION:PT1H
X-Robots-Tag:noindex
X-PUBLISHED-TTL:PT1H
BEGIN:VTIMEZONE
TZID:Europe/Brussels
BEGIN:DAYLIGHT
TZOFFSETFROM:+0100
TZOFFSETTO:+0200
TZNAME:CEST
DTSTART:20180325T010000
END:DAYLIGHT
BEGIN:STANDARD
TZOFFSETFROM:+0200
TZOFFSETTO:+0100
TZNAME:CET
DTSTART:20181028T010000
END:STANDARD
BEGIN:DAYLIGHT
TZOFFSETFROM:+0100
TZOFFSETTO:+0200
TZNAME:CEST
DTSTART:20190331T010000
END:DAYLIGHT
BEGIN:STANDARD
TZOFFSETFROM:+0200
TZOFFSETTO:+0100
TZNAME:CET
DTSTART:20191027T010000
END:STANDARD
BEGIN:DAYLIGHT
TZOFFSETFROM:+0100
TZOFFSETTO:+0200
TZNAME:CEST
DTSTART:20200329T010000
END:DAYLIGHT
BEGIN:STANDARD
TZOFFSETFROM:+0200
TZOFFSETTO:+0100
TZNAME:CET
DTSTART:20201025T010000
END:STANDARD
END:VTIMEZONE
BEGIN:VEVENT
DTSTART;VALUE=DATE:20190518
DTEND;VALUE=DATE:20190519
DTSTAMP:20260423T055609
CREATED:20190516T131518Z
LAST-MODIFIED:20190516T131518Z
UID:13899-1558137600-1558223999@beer.be
SUMMARY:Welcome to Billie's Bottleshop
DESCRIPTION:Billie takes you to the Bottle Shop\nHe’ll let you taste the hippest hops\nBeergeeks\, now don’t you stop\nKeep going'til you hit the spot\, whoa (aalmoezenierstraat 38)\nFriday 17.05 (17.00 - 21.00)\nSaturday 18.05 (13.00 - 21.00)
URL:https://beer.be/agenda/welcome-to-billies-bottleshop/
LOCATION:Billie's Bottleshop\, Aalmoezenierstraat 38\, Anvers\, 2000\, Belgique
CATEGORIES:Ouverture
ATTACH;FMTTYPE=image/jpeg:https://beer.be/wp-content/uploads/2019/05/60112548_1021607071381767_143645103905308672_o-scaled.jpg
END:VEVENT
END:VCALENDAR