BEGIN:VCALENDAR
VERSION:2.0
PRODID:-//Beer.be - ECPv6.15.20//NONSGML v1.0//EN
CALSCALE:GREGORIAN
METHOD:PUBLISH
X-ORIGINAL-URL:https://beer.be
X-WR-CALDESC:Évènements pour Beer.be
REFRESH-INTERVAL;VALUE=DURATION:PT1H
X-Robots-Tag:noindex
X-PUBLISHED-TTL:PT1H
BEGIN:VTIMEZONE
TZID:Europe/Brussels
BEGIN:DAYLIGHT
TZOFFSETFROM:+0100
TZOFFSETTO:+0200
TZNAME:CEST
DTSTART:20200329T010000
END:DAYLIGHT
BEGIN:STANDARD
TZOFFSETFROM:+0200
TZOFFSETTO:+0100
TZNAME:CET
DTSTART:20201025T010000
END:STANDARD
BEGIN:DAYLIGHT
TZOFFSETFROM:+0100
TZOFFSETTO:+0200
TZNAME:CEST
DTSTART:20210328T010000
END:DAYLIGHT
BEGIN:STANDARD
TZOFFSETFROM:+0200
TZOFFSETTO:+0100
TZNAME:CET
DTSTART:20211031T010000
END:STANDARD
BEGIN:DAYLIGHT
TZOFFSETFROM:+0100
TZOFFSETTO:+0200
TZNAME:CEST
DTSTART:20220327T010000
END:DAYLIGHT
BEGIN:STANDARD
TZOFFSETFROM:+0200
TZOFFSETTO:+0100
TZNAME:CET
DTSTART:20221030T010000
END:STANDARD
END:VTIMEZONE
BEGIN:VEVENT
DTSTART;VALUE=DATE:20210828
DTEND;VALUE=DATE:20210830
DTSTAMP:20260423T082754
CREATED:20210726T062614Z
LAST-MODIFIED:20210726T062614Z
UID:17074-1630108800-1630281599@beer.be
SUMMARY:De Plukker BIOBierenfestival
DESCRIPTION:Op zaterdag 28 en zondag 29 augustus organiseert Brouwerij De Plukker i.s.m. Toerisme Poperinge voor de tweede maal een Biobierenfestival. Dichter bij het belangrijkste ingrediënt van bier kan je immers niet komen. Letterlijk tussen de hopvelden geniet je van enkele geselecteerde biobieren. \nHopteler Joris Cambie en brouwer Kris Langouche ontvangen op deze dagen vanaf 13 uur een aantal bevriende biobrouwerijen die hun bieren presenteren tussen de hopvelden van Brouwerij De Plukker langs de Elverdingseweg. Terwijl de geur van rijpe hopbellen voor een heerlijk zomers sfeertje zorgt\, is het genieten van de bieren van de biobrouwerijen en enkele biofoodstanden. Joris geeft met plezier uitleg tijdens de plukdemonstraties met een miniplukmachine en er wordt ook gedemonstreerd hoe er vroeger met de hand werd geplukt. \nNet zoals De Plukker brouwen de deelnemende brouwerijen biologische en artisanale bieren: \n\nDe Plukker - www.plukker.be\nCantillon - www.cantillon.be\nBrunehaut - www.brunehaut.be\nDe La Lesse - www.brasseriedelalesse.be\nCoopérative Liègoise - www.bcl.be\nDe l'Orne - www.coop.brasseriedelorne.be\n\nDe toegang tot de happening is gratis. Welkom van 13u tot 19u. Last call om 18u30.
URL:https://beer.be/agenda/de-plukker-biobierenfestival/
LOCATION:Brouwerij de Plukker\, Elverdingseweg 14A\, Poperinge\, 8970\, Belgique
CATEGORIES:Festival
ATTACH;FMTTYPE=image/jpeg:https://beer.be/wp-content/uploads/2021/07/bbh-depestele.jpg
END:VEVENT
END:VCALENDAR