BEGIN:VCALENDAR
VERSION:2.0
PRODID:-//Beer.be - ECPv6.15.20//NONSGML v1.0//EN
CALSCALE:GREGORIAN
METHOD:PUBLISH
X-WR-CALNAME:Beer.be
X-ORIGINAL-URL:https://beer.be
X-WR-CALDESC:Évènements pour Beer.be
REFRESH-INTERVAL;VALUE=DURATION:PT1H
X-Robots-Tag:noindex
X-PUBLISHED-TTL:PT1H
BEGIN:VTIMEZONE
TZID:Europe/Brussels
BEGIN:DAYLIGHT
TZOFFSETFROM:+0100
TZOFFSETTO:+0200
TZNAME:CEST
DTSTART:20200329T010000
END:DAYLIGHT
BEGIN:STANDARD
TZOFFSETFROM:+0200
TZOFFSETTO:+0100
TZNAME:CET
DTSTART:20201025T010000
END:STANDARD
BEGIN:DAYLIGHT
TZOFFSETFROM:+0100
TZOFFSETTO:+0200
TZNAME:CEST
DTSTART:20210328T010000
END:DAYLIGHT
BEGIN:STANDARD
TZOFFSETFROM:+0200
TZOFFSETTO:+0100
TZNAME:CET
DTSTART:20211031T010000
END:STANDARD
BEGIN:DAYLIGHT
TZOFFSETFROM:+0100
TZOFFSETTO:+0200
TZNAME:CEST
DTSTART:20220327T010000
END:DAYLIGHT
BEGIN:STANDARD
TZOFFSETFROM:+0200
TZOFFSETTO:+0100
TZNAME:CET
DTSTART:20221030T010000
END:STANDARD
END:VTIMEZONE
BEGIN:VEVENT
DTSTART;VALUE=DATE:20211127
DTEND;VALUE=DATE:20211128
DTSTAMP:20260422T221808
CREATED:20211124T082107Z
LAST-MODIFIED:20211124T082107Z
UID:18330-1637971200-1638057599@beer.be
SUMMARY:Blues avond
DESCRIPTION:Klaar voor een gezellige bluesavond in een kleine gezellige opstelling van maximaal 50 mensen? Zaterdagavond zorgt vzw Amategalli terug voor een prachtig Blues optreden in de loods van Triporteur. Armoedestraat 11 in Rumbeke. De deur is open vanaf 18:30\, de start van het optreden om 20:00. Blues en Triporteurbier leren kennen\, dat is de perfecte combinatie!\nMeer info en inschrijven kan op www.amategalli.weebly.com
URL:https://beer.be/agenda/blues-avond/
LOCATION:Triporteur Beer\, Armoedestraat 11\, Roulers\, Belgique
CATEGORIES:Concert
ATTACH;FMTTYPE=image/jpeg:https://beer.be/wp-content/uploads/2021/11/259406128_4939912146061362_7922942165969252477_n.jpg
END:VEVENT
END:VCALENDAR