BEGIN:VCALENDAR
VERSION:2.0
PRODID:-//Beer.be - ECPv6.15.20//NONSGML v1.0//EN
CALSCALE:GREGORIAN
METHOD:PUBLISH
X-WR-CALNAME:Beer.be
X-ORIGINAL-URL:https://beer.be
X-WR-CALDESC:Évènements pour Beer.be
REFRESH-INTERVAL;VALUE=DURATION:PT1H
X-Robots-Tag:noindex
X-PUBLISHED-TTL:PT1H
BEGIN:VTIMEZONE
TZID:Europe/Brussels
BEGIN:DAYLIGHT
TZOFFSETFROM:+0100
TZOFFSETTO:+0200
TZNAME:CEST
DTSTART:20190331T010000
END:DAYLIGHT
BEGIN:STANDARD
TZOFFSETFROM:+0200
TZOFFSETTO:+0100
TZNAME:CET
DTSTART:20191027T010000
END:STANDARD
BEGIN:DAYLIGHT
TZOFFSETFROM:+0100
TZOFFSETTO:+0200
TZNAME:CEST
DTSTART:20200329T010000
END:DAYLIGHT
BEGIN:STANDARD
TZOFFSETFROM:+0200
TZOFFSETTO:+0100
TZNAME:CET
DTSTART:20201025T010000
END:STANDARD
BEGIN:DAYLIGHT
TZOFFSETFROM:+0100
TZOFFSETTO:+0200
TZNAME:CEST
DTSTART:20210328T010000
END:DAYLIGHT
BEGIN:STANDARD
TZOFFSETFROM:+0200
TZOFFSETTO:+0100
TZNAME:CET
DTSTART:20211031T010000
END:STANDARD
END:VTIMEZONE
BEGIN:VEVENT
DTSTART;VALUE=DATE:20201007
DTEND;VALUE=DATE:20201008
DTSTAMP:20260419T200148
CREATED:20201002T092526Z
LAST-MODIFIED:20201002T092526Z
UID:15891-1602028800-1602115199@beer.be
SUMMARY:BBP x Brussels Beer City - Book Launch & Collab Beer
DESCRIPTION:Dive into Brussels’ brewing past and future with Eoghan Walsh from Brussels Beer City and BBP brewer Sam Fleet while tasting our contemporary version of a 1920’s Scotch ale\, and two more Brussels-inspired BBP brews. "Brussels was doing craft style beer long before it was cool. In the year 1900 you could have drunk Lambic\, faro gauze\, pale ale\, brown beer\, scotch ale\, stout\, Munich lager\, bohemian lager\, bock.” We re-created together a myth-busting beer to launch Eoghan's book "Brussels Beer City: Stories from Brussels' Brewing Past". Join us at the brewery in Dansaert to taste this strong\, bitter\, fruity\, golden\, in your face brew\, together with a fresh interpretation of a Belgian Pils and a barrel-aged turbid-mash pale ale.
URL:https://beer.be/agenda/bbp-x-brussels-beer-city-book-launch-collab-beer/
LOCATION:Brussels Beer Project Dansaert\, 188 rue Antoine Dansaert\, Bruxelles\, 1000\, Belgique
CATEGORIES:Autre
ATTACH;FMTTYPE=image/jpeg:https://beer.be/wp-content/uploads/2020/10/120664812_1001735476934731_7025338546984795059_n.jpg
END:VEVENT
END:VCALENDAR