BEGIN:VCALENDAR
VERSION:2.0
PRODID:-//Beer.be - ECPv6.15.20//NONSGML v1.0//EN
CALSCALE:GREGORIAN
METHOD:PUBLISH
X-WR-CALNAME:Beer.be
X-ORIGINAL-URL:https://beer.be
X-WR-CALDESC:Évènements pour Beer.be
REFRESH-INTERVAL;VALUE=DURATION:PT1H
X-Robots-Tag:noindex
X-PUBLISHED-TTL:PT1H
BEGIN:VTIMEZONE
TZID:Europe/Brussels
BEGIN:DAYLIGHT
TZOFFSETFROM:+0100
TZOFFSETTO:+0200
TZNAME:CEST
DTSTART:20180325T010000
END:DAYLIGHT
BEGIN:STANDARD
TZOFFSETFROM:+0200
TZOFFSETTO:+0100
TZNAME:CET
DTSTART:20181028T010000
END:STANDARD
BEGIN:DAYLIGHT
TZOFFSETFROM:+0100
TZOFFSETTO:+0200
TZNAME:CEST
DTSTART:20190331T010000
END:DAYLIGHT
BEGIN:STANDARD
TZOFFSETFROM:+0200
TZOFFSETTO:+0100
TZNAME:CET
DTSTART:20191027T010000
END:STANDARD
BEGIN:DAYLIGHT
TZOFFSETFROM:+0100
TZOFFSETTO:+0200
TZNAME:CEST
DTSTART:20200329T010000
END:DAYLIGHT
BEGIN:STANDARD
TZOFFSETFROM:+0200
TZOFFSETTO:+0100
TZNAME:CET
DTSTART:20201025T010000
END:STANDARD
END:VTIMEZONE
BEGIN:VEVENT
DTSTART;VALUE=DATE:20190528
DTEND;VALUE=DATE:20190529
DTSTAMP:20260425T160644
CREATED:20190510T105525Z
LAST-MODIFIED:20190510T105525Z
UID:13875-1559001600-1559087999@beer.be
SUMMARY:Bols & Bières
DESCRIPTION:San Bruxelles invite Brussels Beer Project pour un dîner unique autour de la bière. Une soirée hommage aux plaisirs de la table\, à la convivialité\, aux goûts et à la découverte. \nréservation : info@sanbxl.be
URL:https://beer.be/agenda/bols-bieres/
LOCATION:San\, 19 rue de Flandres\, Bruxelles\, 1000\, Belgique
CATEGORIES:Dégustation
ATTACH;FMTTYPE=image/png:https://beer.be/wp-content/uploads/2019/05/59658828_1122853834563935_212595624112029696_n.png
END:VEVENT
END:VCALENDAR