BEGIN:VCALENDAR
VERSION:2.0
PRODID:-//Beer.be - ECPv6.15.20//NONSGML v1.0//EN
CALSCALE:GREGORIAN
METHOD:PUBLISH
X-WR-CALNAME:Beer.be
X-ORIGINAL-URL:https://beer.be
X-WR-CALDESC:Évènements pour Beer.be
REFRESH-INTERVAL;VALUE=DURATION:PT1H
X-Robots-Tag:noindex
X-PUBLISHED-TTL:PT1H
BEGIN:VTIMEZONE
TZID:Europe/Brussels
BEGIN:DAYLIGHT
TZOFFSETFROM:+0100
TZOFFSETTO:+0200
TZNAME:CEST
DTSTART:20190331T010000
END:DAYLIGHT
BEGIN:STANDARD
TZOFFSETFROM:+0200
TZOFFSETTO:+0100
TZNAME:CET
DTSTART:20191027T010000
END:STANDARD
BEGIN:DAYLIGHT
TZOFFSETFROM:+0100
TZOFFSETTO:+0200
TZNAME:CEST
DTSTART:20200329T010000
END:DAYLIGHT
BEGIN:STANDARD
TZOFFSETFROM:+0200
TZOFFSETTO:+0100
TZNAME:CET
DTSTART:20201025T010000
END:STANDARD
BEGIN:DAYLIGHT
TZOFFSETFROM:+0100
TZOFFSETTO:+0200
TZNAME:CEST
DTSTART:20210328T010000
END:DAYLIGHT
BEGIN:STANDARD
TZOFFSETFROM:+0200
TZOFFSETTO:+0100
TZNAME:CET
DTSTART:20211031T010000
END:STANDARD
END:VTIMEZONE
BEGIN:VEVENT
DTSTART;VALUE=DATE:20200828
DTEND;VALUE=DATE:20200829
DTSTAMP:20260423T183502
CREATED:20200820T104046Z
LAST-MODIFIED:20200820T104046Z
UID:15577-1598572800-1598659199@beer.be
SUMMARY:Homebrew Bottle Exchange
DESCRIPTION:Take your finest home brews with you and exchange bottles with other homebrewers! Take the bottles home and do whatever the excise laws permit you to do.
URL:https://beer.be/agenda/homebrew-bottle-exchange/
LOCATION:Dr. Beer\, Adriaan Brouwerstraat 31\, Anvers\, 2000\, Belgique
CATEGORIES:Autre
ATTACH;FMTTYPE=image/jpeg:https://beer.be/wp-content/uploads/2020/08/home-brew.jpg
END:VEVENT
END:VCALENDAR