BEGIN:VCALENDAR
VERSION:2.0
PRODID:-//Beer.be - ECPv6.15.20//NONSGML v1.0//EN
CALSCALE:GREGORIAN
METHOD:PUBLISH
X-WR-CALNAME:Beer.be
X-ORIGINAL-URL:https://beer.be
X-WR-CALDESC:Évènements pour Beer.be
REFRESH-INTERVAL;VALUE=DURATION:PT1H
X-Robots-Tag:noindex
X-PUBLISHED-TTL:PT1H
BEGIN:VTIMEZONE
TZID:Europe/Brussels
BEGIN:DAYLIGHT
TZOFFSETFROM:+0100
TZOFFSETTO:+0200
TZNAME:CEST
DTSTART:20180325T010000
END:DAYLIGHT
BEGIN:STANDARD
TZOFFSETFROM:+0200
TZOFFSETTO:+0100
TZNAME:CET
DTSTART:20181028T010000
END:STANDARD
BEGIN:DAYLIGHT
TZOFFSETFROM:+0100
TZOFFSETTO:+0200
TZNAME:CEST
DTSTART:20190331T010000
END:DAYLIGHT
BEGIN:STANDARD
TZOFFSETFROM:+0200
TZOFFSETTO:+0100
TZNAME:CET
DTSTART:20191027T010000
END:STANDARD
BEGIN:DAYLIGHT
TZOFFSETFROM:+0100
TZOFFSETTO:+0200
TZNAME:CEST
DTSTART:20200329T010000
END:DAYLIGHT
BEGIN:STANDARD
TZOFFSETFROM:+0200
TZOFFSETTO:+0100
TZNAME:CET
DTSTART:20201025T010000
END:STANDARD
END:VTIMEZONE
BEGIN:VEVENT
DTSTART;VALUE=DATE:20190607
DTEND;VALUE=DATE:20190610
DTSTAMP:20260425T020207
CREATED:20190527T124430Z
LAST-MODIFIED:20190527T124430Z
UID:13941-1559865600-1560124799@beer.be
SUMMARY:5ème Anniversaire Brasserie {C} I Beers & Music
DESCRIPTION:La Brasserie C a le plaisir de vous inviter à son 5ème anniversaire ! Pour cette occasion\, nos jardins seront ouverts et on vous accueillera pour un week-end de folie placé sous le signe des bonnes bières artisanales et de la bonne musique ! L'entrée sera gratuite durant tout le weekend. \n⚡ LINE-UP ⚡\nVENDREDI 07 JUIN :\n• Kunde\n• The Brums\n• Luik Records - DJ set \nSAMEDI 08 JUIN :\n• Great Mountain Fire - DJ set\n• Metrophona\n• Fastlane Candies \nDIMANCHE 09 JUIN :\n• ELVIN BYRDS\n• Mont Echo
URL:https://beer.be/agenda/5eme-anniversaire-brasserie-c-i-beers-music/
LOCATION:Brasserie C\, 14/24 Impasse des Ursulines\, Liège\, 4000\, Belgique
CATEGORIES:Brasserie
ATTACH;FMTTYPE=image/jpeg:https://beer.be/wp-content/uploads/2019/05/60296722_2440641356156116_4364277618502008832_o.jpg
END:VEVENT
END:VCALENDAR