BEGIN:VCALENDAR
VERSION:2.0
PRODID:-//Beer.be - ECPv6.15.20//NONSGML v1.0//EN
CALSCALE:GREGORIAN
METHOD:PUBLISH
X-ORIGINAL-URL:https://beer.be
X-WR-CALDESC:Évènements pour Beer.be
REFRESH-INTERVAL;VALUE=DURATION:PT1H
X-Robots-Tag:noindex
X-PUBLISHED-TTL:PT1H
BEGIN:VTIMEZONE
TZID:Europe/Brussels
BEGIN:DAYLIGHT
TZOFFSETFROM:+0100
TZOFFSETTO:+0200
TZNAME:CEST
DTSTART:20200329T010000
END:DAYLIGHT
BEGIN:STANDARD
TZOFFSETFROM:+0200
TZOFFSETTO:+0100
TZNAME:CET
DTSTART:20201025T010000
END:STANDARD
BEGIN:DAYLIGHT
TZOFFSETFROM:+0100
TZOFFSETTO:+0200
TZNAME:CEST
DTSTART:20210328T010000
END:DAYLIGHT
BEGIN:STANDARD
TZOFFSETFROM:+0200
TZOFFSETTO:+0100
TZNAME:CET
DTSTART:20211031T010000
END:STANDARD
BEGIN:DAYLIGHT
TZOFFSETFROM:+0100
TZOFFSETTO:+0200
TZNAME:CEST
DTSTART:20220327T010000
END:DAYLIGHT
BEGIN:STANDARD
TZOFFSETFROM:+0200
TZOFFSETTO:+0100
TZNAME:CET
DTSTART:20221030T010000
END:STANDARD
END:VTIMEZONE
BEGIN:VEVENT
DTSTART;VALUE=DATE:20211022
DTEND;VALUE=DATE:20211023
DTSTAMP:20260421T061511
CREATED:20211015T112001Z
LAST-MODIFIED:20211015T112001Z
UID:18004-1634860800-1634947199@beer.be
SUMMARY:Release Party - Gaufrée 3.0
DESCRIPTION:La Gaufrée\, première bière à la gaufre de Liège\, est de retour !\nBrassée dans nos installations de la Fabrique {C} au cœur du quartier Saint-Léonard\, la recette a été améliorée pour optimiser encore le résultat obtenu lors des deux premières éditions.\nToujours réalisée en collaboration avec la Maison Massin\, en Outremeuse à Liège\, qui nous a fourni les gaufres qui ont été incorporées directement au brassin\, cette bière développe des arômes réconfortants de cannelle et d'épices. Un vrai plaisir gustatif \nCéréales : Pilsen - Diastique - Biscuit - Epautre\nHoublons : Northern Brewer - Styrian GoldingEBC : 8\nIBU : 12\nAlcool : 7\,2 %\nVenez la découvrir sans plus attendre le vendredi 22/10 dès 18:00 !\n Charlotte Louis vous fera profiter d'un joli concert acoustique dès 20:30 !\nPour une expérience des plus immersive\, La Maison Massin sera présente avec ses délicieuses gaufres de Liège !\n Et La Gaufrée coulera à flots !
URL:https://beer.be/agenda/release-party-gaufree-3-0/
LOCATION:Brasserie C\, 14/24 Impasse des Ursulines\, Liège\, 4000\, Belgique
CATEGORIES:Brasserie
ATTACH;FMTTYPE=image/jpeg:https://beer.be/wp-content/uploads/2021/10/245176355_3148511195369125_4264672550954369872_n-1.jpg
END:VEVENT
END:VCALENDAR