BEGIN:VCALENDAR
VERSION:2.0
PRODID:-//Beer.be - ECPv6.15.20//NONSGML v1.0//EN
CALSCALE:GREGORIAN
METHOD:PUBLISH
X-ORIGINAL-URL:https://beer.be
X-WR-CALDESC:Évènements pour Beer.be
REFRESH-INTERVAL;VALUE=DURATION:PT1H
X-Robots-Tag:noindex
X-PUBLISHED-TTL:PT1H
BEGIN:VTIMEZONE
TZID:Europe/Brussels
BEGIN:DAYLIGHT
TZOFFSETFROM:+0100
TZOFFSETTO:+0200
TZNAME:CEST
DTSTART:20180325T010000
END:DAYLIGHT
BEGIN:STANDARD
TZOFFSETFROM:+0200
TZOFFSETTO:+0100
TZNAME:CET
DTSTART:20181028T010000
END:STANDARD
BEGIN:DAYLIGHT
TZOFFSETFROM:+0100
TZOFFSETTO:+0200
TZNAME:CEST
DTSTART:20190331T010000
END:DAYLIGHT
BEGIN:STANDARD
TZOFFSETFROM:+0200
TZOFFSETTO:+0100
TZNAME:CET
DTSTART:20191027T010000
END:STANDARD
BEGIN:DAYLIGHT
TZOFFSETFROM:+0100
TZOFFSETTO:+0200
TZNAME:CEST
DTSTART:20200329T010000
END:DAYLIGHT
BEGIN:STANDARD
TZOFFSETFROM:+0200
TZOFFSETTO:+0100
TZNAME:CET
DTSTART:20201025T010000
END:STANDARD
END:VTIMEZONE
BEGIN:VEVENT
DTSTART;VALUE=DATE:20190517
DTEND;VALUE=DATE:20190518
DTSTAMP:20260425T020344
CREATED:20190502T141436Z
LAST-MODIFIED:20190502T141436Z
UID:13832-1558051200-1558137599@beer.be
SUMMARY:Brasserie Iron Tap Takeover
DESCRIPTION:Divine are the brews that we bring you for our second tap takeover of the year. They have been forged in the south of France\, and are constructed with mighty blood and steel in Brasserie Iron .\nThe path was arduous\, the adventures epic\, and thanks to the mighty Hephaestus (great protector of craftsmen) nine of them made it to Brussels:\n1. IPA Amarillo/Simcoe 7%\n2. Sanguine - Hoppy Hibiscus Wheat 4.8%\n3. Sour Mango Onions\n4. Gose Betterave Passion (beetroot&passionfruit Gose) 6.1%\n5. Sour Citron/Aneth (lemon&dill sour) 6%\n6. IPA Citra Cascade Aneth 7%\n7. BBW - Black Berliner Weisse 4%\n8. Barley Wine Potimarron et Miel de Châtaignier (pumpkin and\nchestnut honey) 12%\n9. Imperial Oatmeal Stout Café/Vanille/Cacao/Piments (coffee\, vanilla\, cocoa\, and chilli peppers) 11%\nGather round if you want to listen to more tales of epic brewing for the brewers themselves will be joining us during the event! Thirsty yet?
URL:https://beer.be/agenda/brasserie-iron-tap-takeover/
LOCATION:Brewdog\, Putterij 20\, Brussels\, 1000\, Belgique
CATEGORIES:Tap Takeover
ATTACH;FMTTYPE=image/jpeg:https://beer.be/wp-content/uploads/2019/05/58707917_1533232713473483_6923223316756955136_n.jpg
END:VEVENT
END:VCALENDAR