BEGIN:VCALENDAR
VERSION:2.0
PRODID:-//Beer.be - ECPv6.15.20//NONSGML v1.0//EN
CALSCALE:GREGORIAN
METHOD:PUBLISH
X-ORIGINAL-URL:https://beer.be
X-WR-CALDESC:Évènements pour Beer.be
REFRESH-INTERVAL;VALUE=DURATION:PT1H
X-Robots-Tag:noindex
X-PUBLISHED-TTL:PT1H
BEGIN:VTIMEZONE
TZID:Europe/Brussels
BEGIN:DAYLIGHT
TZOFFSETFROM:+0100
TZOFFSETTO:+0200
TZNAME:CEST
DTSTART:20180325T010000
END:DAYLIGHT
BEGIN:STANDARD
TZOFFSETFROM:+0200
TZOFFSETTO:+0100
TZNAME:CET
DTSTART:20181028T010000
END:STANDARD
BEGIN:DAYLIGHT
TZOFFSETFROM:+0100
TZOFFSETTO:+0200
TZNAME:CEST
DTSTART:20190331T010000
END:DAYLIGHT
BEGIN:STANDARD
TZOFFSETFROM:+0200
TZOFFSETTO:+0100
TZNAME:CET
DTSTART:20191027T010000
END:STANDARD
BEGIN:DAYLIGHT
TZOFFSETFROM:+0100
TZOFFSETTO:+0200
TZNAME:CEST
DTSTART:20200329T010000
END:DAYLIGHT
BEGIN:STANDARD
TZOFFSETFROM:+0200
TZOFFSETTO:+0100
TZNAME:CET
DTSTART:20201025T010000
END:STANDARD
END:VTIMEZONE
BEGIN:VEVENT
DTSTART;VALUE=DATE:20191130
DTEND;VALUE=DATE:20191201
DTSTAMP:20260424T091532
CREATED:20191126T161948Z
LAST-MODIFIED:20191126T161948Z
UID:14683-1575072000-1575158399@beer.be
SUMMARY:BBP // St. Andrew's Day with BrewDog OverWorks TTO
DESCRIPTION:Let's celebrate Saint Andrew's of Scotland with a few great kegs of our friends BrewDog OverWorks! \nHere are the 6 barrel & foeder-aged beauties that will be on tap for this celebration!\n- Dream Catcher - 5.5% Red wine BA blackcurrant & coffee Sour\n- Thorn Blossom - 5.5% Sour with sea buckthorn & heather blossom\, aged on foeder.\n- In Two Minds - 5.8% Sour IPA\, aged on foeder (DEYA collab)\n- Merciful Maverick - 6.4% Brett IPA\n- Up from the South (OW vs Siren): - 6.6% Sour with sage and Elgin blackberries (with 4y old wine BA beer)\n- Hybrid Henchman - 6.7% Red wine BA & Amphora Sangiovese Wild Ale
URL:https://beer.be/agenda/bbp-st-andrews-day-with-brewdog-overworks-tto/
LOCATION:Brussels Beer Project Dansaert\, 188 rue Antoine Dansaert\, Bruxelles\, 1000\, Belgique
CATEGORIES:Tap Takeover
ATTACH;FMTTYPE=image/jpeg:https://beer.be/wp-content/uploads/2019/11/76759991_773855386389409_3680719627584798720_o.jpg
END:VEVENT
END:VCALENDAR