BEGIN:VCALENDAR
VERSION:2.0
PRODID:-//Beer.be - ECPv6.15.20//NONSGML v1.0//EN
CALSCALE:GREGORIAN
METHOD:PUBLISH
X-ORIGINAL-URL:https://beer.be
X-WR-CALDESC:Évènements pour Beer.be
REFRESH-INTERVAL;VALUE=DURATION:PT1H
X-Robots-Tag:noindex
X-PUBLISHED-TTL:PT1H
BEGIN:VTIMEZONE
TZID:Europe/Brussels
BEGIN:DAYLIGHT
TZOFFSETFROM:+0100
TZOFFSETTO:+0200
TZNAME:CEST
DTSTART:20190331T010000
END:DAYLIGHT
BEGIN:STANDARD
TZOFFSETFROM:+0200
TZOFFSETTO:+0100
TZNAME:CET
DTSTART:20191027T010000
END:STANDARD
BEGIN:DAYLIGHT
TZOFFSETFROM:+0100
TZOFFSETTO:+0200
TZNAME:CEST
DTSTART:20200329T010000
END:DAYLIGHT
BEGIN:STANDARD
TZOFFSETFROM:+0200
TZOFFSETTO:+0100
TZNAME:CET
DTSTART:20201025T010000
END:STANDARD
BEGIN:DAYLIGHT
TZOFFSETFROM:+0100
TZOFFSETTO:+0200
TZNAME:CEST
DTSTART:20210328T010000
END:DAYLIGHT
BEGIN:STANDARD
TZOFFSETFROM:+0200
TZOFFSETTO:+0100
TZNAME:CET
DTSTART:20211031T010000
END:STANDARD
END:VTIMEZONE
BEGIN:VEVENT
DTSTART;VALUE=DATE:20200704
DTEND;VALUE=DATE:20200705
DTSTAMP:20260425T132942
CREATED:20200626T182425Z
LAST-MODIFIED:20200626T182425Z
UID:15424-1593820800-1593907199@beer.be
SUMMARY:4th July Bottle Club ! Usa & Beer
DESCRIPTION:LOCKDOWN IS OVER\, EFP BOTTLE CLUB IS BACK! You have some incredible bottles\, and don't know who you could try these with? A bottle is just too big for you\, and you don't want to waste half of it? You are looking for some people to witness how amazing a beer is? Here comes the bottle club!!!!This time to celebrate America's Independence Day\, the Bottle club will be about BEER\, AMERICA and INDEPENDENCE!!! Bring any beer that can be linked to the topic ! Come with a 66cl or 75cl bottle (or 2 x 33cl) from your collection\, introduce it to the attendees\, and share the love! This club is\, of course\, free to attend\, and everybody is welcome. Don't hesitate to invite your friends or family. Save the date\, and see you soon for some new hoppy adventures! 😉
URL:https://beer.be/agenda/4th-july-bottle-club-usa-beer/
LOCATION:Brewdog\, Putterij 20\, Brussels\, 1000\, Belgique
CATEGORIES:Autre
ATTACH;FMTTYPE=image/jpeg:https://beer.be/wp-content/uploads/2020/06/105927504_1940824342714316_5462613590654576484_n.jpg
END:VEVENT
END:VCALENDAR