BEGIN:VCALENDAR
VERSION:2.0
PRODID:-//Beer.be - ECPv6.15.20//NONSGML v1.0//EN
CALSCALE:GREGORIAN
METHOD:PUBLISH
X-WR-CALNAME:Beer.be
X-ORIGINAL-URL:https://beer.be
X-WR-CALDESC:Évènements pour Beer.be
REFRESH-INTERVAL;VALUE=DURATION:PT1H
X-Robots-Tag:noindex
X-PUBLISHED-TTL:PT1H
BEGIN:VTIMEZONE
TZID:Europe/Brussels
BEGIN:DAYLIGHT
TZOFFSETFROM:+0100
TZOFFSETTO:+0200
TZNAME:CEST
DTSTART:20180325T010000
END:DAYLIGHT
BEGIN:STANDARD
TZOFFSETFROM:+0200
TZOFFSETTO:+0100
TZNAME:CET
DTSTART:20181028T010000
END:STANDARD
BEGIN:DAYLIGHT
TZOFFSETFROM:+0100
TZOFFSETTO:+0200
TZNAME:CEST
DTSTART:20190331T010000
END:DAYLIGHT
BEGIN:STANDARD
TZOFFSETFROM:+0200
TZOFFSETTO:+0100
TZNAME:CET
DTSTART:20191027T010000
END:STANDARD
BEGIN:DAYLIGHT
TZOFFSETFROM:+0100
TZOFFSETTO:+0200
TZNAME:CEST
DTSTART:20200329T010000
END:DAYLIGHT
BEGIN:STANDARD
TZOFFSETFROM:+0200
TZOFFSETTO:+0100
TZNAME:CET
DTSTART:20201025T010000
END:STANDARD
END:VTIMEZONE
BEGIN:VEVENT
DTSTART;VALUE=DATE:20191206
DTEND;VALUE=DATE:20191208
DTSTAMP:20260424T182750
CREATED:20191105T175035Z
LAST-MODIFIED:20191105T175035Z
UID:14536-1575590400-1575763199@beer.be
SUMMARY:Atrium 1st Birthday Party
DESCRIPTION:Déjà 1 an depuis notre ouverture! Quel chemin!! Si peu de temps mais tellement d'action! Pour cet événement\, nous aurons bien évidement de la bonne musique live\, des tacos\, de la raclette et bien sûr de la bière à profusion! Réservez ce weekend dans vos agendas! Plus de détails sur les groupes dans les jours qui viennent...
URL:https://beer.be/agenda/atrium-1st-birthday-party/
LOCATION:Brasserie Atrium\, 9 rue des Brasseurs\, Marche-en-Famenne\, 6900\, Belgique
CATEGORIES:Brasserie
ATTACH;FMTTYPE=image/jpeg:https://beer.be/wp-content/uploads/2019/11/73144910_772741906511275_8466151448390926336_o.jpg
END:VEVENT
BEGIN:VEVENT
DTSTART;VALUE=DATE:20191207
DTEND;VALUE=DATE:20191208
DTSTAMP:20260424T182750
CREATED:20191203T153228Z
LAST-MODIFIED:20191203T153228Z
UID:14721-1575676800-1575763199@beer.be
SUMMARY:Craft Brewery Tour Brussels
DESCRIPTION:Ou first Craft Brewery tour in Brussels 🙋🙋🙋 WIN THIS TOUR!! scroll down ! What? Meeting the brewer concept in addition with trying extremely exclusive beers and picking up future brewery concepts. When? Every First Saturday of the month! Not available that day? Then\, join our next public event on the 1st February in Ghent. \nWhere?  Start location: Moeder Lambic Original: must visit bar in the lively neighbourhood Saint Gilles. Tip: Venue where to lunch before we start. End location: We end at Moeder Lambic Fontainas. \nIs this something for me? Already familiar with the big Belgian brands? Looking for a Meet the Brewer concept where all your beer-related questions will be answered? Wanna hear some beer stories\, given by a young\, local that launched one of the first Ghent’s craft beers ? Read on 😉 \nWhat?\n- Meet the brewer in the middle of the brew kettles\n- Listen to the stories of our young\, local guide that launched one of the 1st Ghent’s craft beers\n- Learn more details about the brewing process from mashing to double- fermenting\n- Taste limited editions from black porters to strong IPA’s or even barley wines\n- Discover the tastes like Cascade hops or chocolate malts\n- Pick up Brussels' future brewery projects\n- Receive tailor made recommendations where to go and what to drink after \nWhat's included?\n- 4h educational & entertaining beer experience\n- Visit 3 craft breweries\n- Visit 1 Lambic bar\n- Taste 6 unusual local beers 🍻\n- small surprising food pairing 🍡\n- English\, knowledgeable guide (aussi en Français en cas de necessaire)\n(transportation between the breweries included) \nHow much? € 59 per person 💶💶
URL:https://beer.be/agenda/craft-brewery-tour-brussels/
LOCATION:Moeder Lambic Fontainas\, 8 place Fontainas\, Bruxelles\, Bruxelles\, 1000\, Belgique
CATEGORIES:Moeder Lambic
ATTACH;FMTTYPE=image/jpeg:https://beer.be/wp-content/uploads/2019/12/72486784_2528070587247926_427363741466624000_o.jpg
END:VEVENT
BEGIN:VEVENT
DTSTART;VALUE=DATE:20191214
DTEND;VALUE=DATE:20191215
DTSTAMP:20260424T182750
CREATED:20191207T185912Z
LAST-MODIFIED:20191207T185912Z
UID:14741-1576281600-1576367999@beer.be
SUMMARY:Kameradskii op de Super Boil 't Verzet
DESCRIPTION:t Verzet uit Anzegem organiseert een Open Brouwdag en wij zijn heel gelukkig dat wij 's avonds deze dag met een streepje live muziek zullen voorzien! Kom langs voor een dag vol bier\, vlees en muziek! The Holy Trinity! Naast ons optreden met funky\, rocky & soulful muziek zijn er ook unieke en exclusief gebrouwen bieren\, verse varkenswangetjes gegaard in Verzetbier en live DJ's! Mis deze gezellige zaterdag niet! Tot dan!
URL:https://beer.be/agenda/kameradskii-op-de-super-boil-t-verzet/
LOCATION:Brouwerij 't Verzet\, Grote Leiestraat 117\, Anzegem\, 8570\, Belgique
CATEGORIES:Brasserie
ATTACH;FMTTYPE=image/jpeg:https://beer.be/wp-content/uploads/2019/12/79206629_115195163289861_3961371246179909632_n.jpg
END:VEVENT
BEGIN:VEVENT
DTSTART;VALUE=DATE:20191214
DTEND;VALUE=DATE:20191215
DTSTAMP:20260424T182750
CREATED:20191210T154308Z
LAST-MODIFIED:20191210T154308Z
UID:14753-1576281600-1576367999@beer.be
SUMMARY:Stace - Free Concert
DESCRIPTION:STACE https://www.youtube.com/watch?v=EvoacNI4Tzw \nDans ce nouveau trip acoustique en solitaire\, la spontanéité va de pair avec la virtuosité. Stacy chante sous influences -- RnB\, Soul\, Jazz et musiques électroniques - sa vision actuelle de jeune femme aux identités multiples et heureuses. Un son bien chill pour terminer votre marché de Noel et votre année. C'est pas sympa ça? 🙂 \nCONCERT: 17H
URL:https://beer.be/agenda/stace-free-concert/
LOCATION:La Source Beer Co.\, 4 rue Dieudonné Lefèvre\, Bruxelles\, 1020\, Belgique
CATEGORIES:Concert
ATTACH;FMTTYPE=image/jpeg:https://beer.be/wp-content/uploads/2019/12/78663723_548107545747618_6423992888253743104_o.jpg
END:VEVENT
END:VCALENDAR